BEGIN:VCALENDAR
VERSION:2.0
PRODID:-//Kein Schritt nach rechts - ECPv6.15.20//NONSGML v1.0//EN
CALSCALE:GREGORIAN
METHOD:PUBLISH
X-WR-CALNAME:Kein Schritt nach rechts
X-ORIGINAL-URL:https://keinschrittnachrechts.de
X-WR-CALDESC:Veranstaltungen für Kein Schritt nach rechts
REFRESH-INTERVAL;VALUE=DURATION:PT1H
X-Robots-Tag:noindex
X-PUBLISHED-TTL:PT1H
BEGIN:VTIMEZONE
TZID:Europe/Berlin
BEGIN:DAYLIGHT
TZOFFSETFROM:+0100
TZOFFSETTO:+0200
TZNAME:CEST
DTSTART:20230326T010000
END:DAYLIGHT
BEGIN:STANDARD
TZOFFSETFROM:+0200
TZOFFSETTO:+0100
TZNAME:CET
DTSTART:20231029T010000
END:STANDARD
BEGIN:DAYLIGHT
TZOFFSETFROM:+0100
TZOFFSETTO:+0200
TZNAME:CEST
DTSTART:20240331T010000
END:DAYLIGHT
BEGIN:STANDARD
TZOFFSETFROM:+0200
TZOFFSETTO:+0100
TZNAME:CET
DTSTART:20241027T010000
END:STANDARD
BEGIN:DAYLIGHT
TZOFFSETFROM:+0100
TZOFFSETTO:+0200
TZNAME:CEST
DTSTART:20250330T010000
END:DAYLIGHT
BEGIN:STANDARD
TZOFFSETFROM:+0200
TZOFFSETTO:+0100
TZNAME:CET
DTSTART:20251026T010000
END:STANDARD
END:VTIMEZONE
BEGIN:VEVENT
DTSTART;TZID=Europe/Berlin:20241207T100000
DTEND;TZID=Europe/Berlin:20241207T180000
DTSTAMP:20260426T054310
CREATED:20241204T163513Z
LAST-MODIFIED:20241204T163513Z
UID:970-1733565600-1733594400@keinschrittnachrechts.de
SUMMARY:KSNR | Weihnachtsmarkt: Gemeinsamer Stand auf dem Weihnachtsmarkt der IHKKG auf dem Wilhelmsplatz
DESCRIPTION:Farbe bekennen in der Weststadt gegen Rechts \nDie Zukunftswerkstatt Weststadt startet die Aktion „Wir sind bunt! Farbe bekennen gegen Rechts. Mit bunten Bändern Vielfalt zeigen“ in der Weststadt.\nDie Aktion läuft schon erfolgreich in Wieblingen und Handschuhsheim. \nGemeinsam mit dem Heidelberger Bündnis „Kein Schritt nach Rechts“\, AG Bildung\, sind wir mit einem Info-Stand am Samstag 7.12. beim Weihnachtsmarkt der IHKKG auf dem Wilhelmsplatz dabei. \nMit der Aktion „Wir sind bunt!“ positionieren wir uns gegen Rechtsextremismus und den Rechtsruck in unserer Gesellschaft\, gegen Hass\, Hetze und Ausgrenzung.\nWir treten ein für Demokratie\, Rechtsstaatlichkeit und Menschenrechte\, für eine offene\, plurale und solidarische Gesellschaft.\nWir wollen die Weststadt sichtbar zu einem bunten Ort machen. Dafür brauchen wir viele Menschen\, die gemeinsam mit uns Farbe bekennen.
URL:https://keinschrittnachrechts.de/event/ksnr-weihnachtsmarkt-gemeinsamer-stand-auf-dem-weihnachtsmarkt-der-ihkkg-auf-dem-wilhelmsplatz
LOCATION:Wilhelmsplatz\, Wilhelmsplatz\, Heidelberg\, Germany
CATEGORIES:Kein Schritt nach Rechts
END:VEVENT
END:VCALENDAR