BEGIN:VCALENDAR
VERSION:2.0
PRODID:-//Kein Schritt nach rechts - ECPv6.15.20//NONSGML v1.0//EN
CALSCALE:GREGORIAN
METHOD:PUBLISH
X-ORIGINAL-URL:https://keinschrittnachrechts.de
X-WR-CALDESC:Veranstaltungen für Kein Schritt nach rechts
REFRESH-INTERVAL;VALUE=DURATION:PT1H
X-Robots-Tag:noindex
X-PUBLISHED-TTL:PT1H
BEGIN:VTIMEZONE
TZID:Europe/Berlin
BEGIN:DAYLIGHT
TZOFFSETFROM:+0100
TZOFFSETTO:+0200
TZNAME:CEST
DTSTART:20240331T010000
END:DAYLIGHT
BEGIN:STANDARD
TZOFFSETFROM:+0200
TZOFFSETTO:+0100
TZNAME:CET
DTSTART:20241027T010000
END:STANDARD
BEGIN:DAYLIGHT
TZOFFSETFROM:+0100
TZOFFSETTO:+0200
TZNAME:CEST
DTSTART:20250330T010000
END:DAYLIGHT
BEGIN:STANDARD
TZOFFSETFROM:+0200
TZOFFSETTO:+0100
TZNAME:CET
DTSTART:20251026T010000
END:STANDARD
BEGIN:DAYLIGHT
TZOFFSETFROM:+0100
TZOFFSETTO:+0200
TZNAME:CEST
DTSTART:20260329T010000
END:DAYLIGHT
BEGIN:STANDARD
TZOFFSETFROM:+0200
TZOFFSETTO:+0100
TZNAME:CET
DTSTART:20261025T010000
END:STANDARD
END:VTIMEZONE
BEGIN:VEVENT
DTSTART;TZID=Europe/Berlin:20251028T180000
DTEND;TZID=Europe/Berlin:20251028T220000
DTSTAMP:20260425T150028
CREATED:20250910T202954Z
LAST-MODIFIED:20251014T205304Z
UID:2348-1761674400-1761688800@keinschrittnachrechts.de
SUMMARY:KSNR | Workshop Zivilcourage - Nur Mut\, sonst nichts? - ZEITLICH VERLEGT
DESCRIPTION:Gewaltfrei eingreifen in Diskriminierungs- und Gewaltsituationen\n„Warum habe ich neulich an der Bushaltestelle nicht eingegriffen\, als eine Migrantin diskriminierend beschimpft wurde?“ Scheinbar keine große Aktion. Aber häufig fehlt uns der Mut und wir wissen nicht\, wie wir eingreifen sollen und tun einfach nichts. \nWelche Alternativen gibt es in solchen alltäglichen Situationen zum Wegsehen\, Draufhauen oder Fliehen? Auf was kommt es an? Wie kann ich in der Öffentlichkeit aktiv verändernd eingreifen? Welche Handlungsmöglichkeiten gibt es? Mit persönlichen Erfahrungen\, theoretischen Überlegungen (z.B. zur „Gruppenbezogenen Menschenfeindlichkeit“) und dem Forumtheater von Augusto Boal (ein experimentelles Rollenspiel aus dem „Theater der Unterdrückten“) werden wir ausprobieren\, wie wir beim nächsten Mal Zivilcourage in die Praxis umsetzen. \nZivilcourage ist das Gegenteil von persönlicher Resignation und öffentlichem Schweigen. \nReferentin: Renate Wanie\, freie Mitarbeiterin in der Werkstatt für Gewaltfreie Aktion. \nDauer: 4 Stunden\nBeginn: 18 Uhr\nDatum: 28. Oktober (verlegt vom 23.10. auf den 28.10.)\nVeranstaltungsort: WeltHaus\, Kurfürsten-Anlage 25\, 69115 Heidelberg\nAnmeldung an: renate.wanie@wfga.de \n \n  \n  \n 
URL:https://keinschrittnachrechts.de/event/ksnr-workshop-zivilcourage-nur-mut-sonst-nichts
LOCATION:WeltHaus\, Kurfürsten-Anlage 25\, Heidelberg\, 69115\, Germany
CATEGORIES:Kein Schritt nach Rechts
END:VEVENT
END:VCALENDAR