BEGIN:VCALENDAR
VERSION:2.0
PRODID:-//Kein Schritt nach rechts - ECPv6.15.20//NONSGML v1.0//EN
CALSCALE:GREGORIAN
METHOD:PUBLISH
X-ORIGINAL-URL:https://keinschrittnachrechts.de
X-WR-CALDESC:Veranstaltungen für Kein Schritt nach rechts
REFRESH-INTERVAL;VALUE=DURATION:PT1H
X-Robots-Tag:noindex
X-PUBLISHED-TTL:PT1H
BEGIN:VTIMEZONE
TZID:Europe/Berlin
BEGIN:DAYLIGHT
TZOFFSETFROM:+0100
TZOFFSETTO:+0200
TZNAME:CEST
DTSTART:20240331T010000
END:DAYLIGHT
BEGIN:STANDARD
TZOFFSETFROM:+0200
TZOFFSETTO:+0100
TZNAME:CET
DTSTART:20241027T010000
END:STANDARD
BEGIN:DAYLIGHT
TZOFFSETFROM:+0100
TZOFFSETTO:+0200
TZNAME:CEST
DTSTART:20250330T010000
END:DAYLIGHT
BEGIN:STANDARD
TZOFFSETFROM:+0200
TZOFFSETTO:+0100
TZNAME:CET
DTSTART:20251026T010000
END:STANDARD
BEGIN:DAYLIGHT
TZOFFSETFROM:+0100
TZOFFSETTO:+0200
TZNAME:CEST
DTSTART:20260329T010000
END:DAYLIGHT
BEGIN:STANDARD
TZOFFSETFROM:+0200
TZOFFSETTO:+0100
TZNAME:CET
DTSTART:20261025T010000
END:STANDARD
END:VTIMEZONE
BEGIN:VEVENT
DTSTART;TZID=Europe/Berlin:20250826T190000
DTEND;TZID=Europe/Berlin:20250826T200000
DTSTAMP:20260425T144538
CREATED:20250809T185811Z
LAST-MODIFIED:20250809T185811Z
UID:2223-1756234800-1756238400@keinschrittnachrechts.de
SUMMARY:KSNR | Workshop: Demo anmelden und organisieren (1 h)
DESCRIPTION:Demonstrationen sind ein wichtiger Teil unserer Demokratie. Mit Demonstrationen können wir uns politisch Positionieren\, unsere Anliegen sichtbar machen\, Utopien Erleben und an Diskursen teilnehmen. Als ein im Grundgesetz verankertes Grundrecht waren Demonstrationen ein wichtiges Mittel für grundlegende Rechte zu erkämpfen und sind eines der wenigen Mittel für Bürger*innen teil an Politik zu haben. Bei dem Workshop geht es darum zu lernen\, wie Demonstrationen angemeldet werden können und was bei der Organisation von Demonstrationen (rechtlich) beachtet werden muss. \nDauer: 1 Stunde\nDatum: 26. August\nUhrzeit: 19 Uhr\nVeranstaltungsort: Laden für Kultur und Politik \nAnmeldung an: queerfeministisches.kollektiv.hd@gmail.com
URL:https://keinschrittnachrechts.de/event/ksnr-workshop-demo-anmelden-und-organisieren-1-h
LOCATION:Laden für Kultur und Politik\, Kaiserstr. 62\, Heidleberg
CATEGORIES:Kein Schritt nach Rechts
END:VEVENT
END:VCALENDAR