BEGIN:VCALENDAR
VERSION:2.0
PRODID:-//Kein Schritt nach rechts - ECPv6.15.20//NONSGML v1.0//EN
CALSCALE:GREGORIAN
METHOD:PUBLISH
X-WR-CALNAME:Kein Schritt nach rechts
X-ORIGINAL-URL:https://keinschrittnachrechts.de
X-WR-CALDESC:Veranstaltungen für Kein Schritt nach rechts
REFRESH-INTERVAL;VALUE=DURATION:PT1H
X-Robots-Tag:noindex
X-PUBLISHED-TTL:PT1H
BEGIN:VTIMEZONE
TZID:Europe/Berlin
BEGIN:DAYLIGHT
TZOFFSETFROM:+0100
TZOFFSETTO:+0200
TZNAME:CEST
DTSTART:20240331T010000
END:DAYLIGHT
BEGIN:STANDARD
TZOFFSETFROM:+0200
TZOFFSETTO:+0100
TZNAME:CET
DTSTART:20241027T010000
END:STANDARD
BEGIN:DAYLIGHT
TZOFFSETFROM:+0100
TZOFFSETTO:+0200
TZNAME:CEST
DTSTART:20250330T010000
END:DAYLIGHT
BEGIN:STANDARD
TZOFFSETFROM:+0200
TZOFFSETTO:+0100
TZNAME:CET
DTSTART:20251026T010000
END:STANDARD
BEGIN:DAYLIGHT
TZOFFSETFROM:+0100
TZOFFSETTO:+0200
TZNAME:CEST
DTSTART:20260329T010000
END:DAYLIGHT
BEGIN:STANDARD
TZOFFSETFROM:+0200
TZOFFSETTO:+0100
TZNAME:CET
DTSTART:20261025T010000
END:STANDARD
END:VTIMEZONE
BEGIN:VEVENT
DTSTART;TZID=Europe/Berlin:20250501T120000
DTEND;TZID=Europe/Berlin:20250501T150000
DTSTAMP:20260425T184126
CREATED:20250425T164302Z
LAST-MODIFIED:20250425T201912Z
UID:1763-1746100800-1746111600@keinschrittnachrechts.de
SUMMARY:Extern - Weinheim bleibt bunt: Gegenveranstaltung zu Kundgebung von Neo-Nazis
DESCRIPTION:Am Donnerstag\, „1. Mai\, haben sich leider Neo-Nazis für eine Kundgebung in Weinheim angekündigt. Das Bündnis „Weinheim bleibt bunt“ sorgt dafür\, dass die Stadtgesellschaft die Gelegenheit hat\, den Nazis die Stirn zu bieten. Ab 12 Uhr wird es am Zentralen Omnibuisbahnhof (ZOB) eine Veranstaltung geben mit Auftritten von Weinheimer Musikern und Reden für Demokratie und eine offene Stadtgesellschaft ohne Rassismus und Faschismus. Wir hoffen auf große Resonanz! #wirsindmehrDIE LINKE. WeinheimSPD WeinheimGrüne in WeinheimInitiative Nazifreies Weinheim / Antifa Bündnis WeinheimStadtjugendring Weinheim e.V.Muddy’s ClubThomas Ott – KommunalpolitikFreie Wähler WeinheimBegegnungsbrücke Weinheim Weinheimer JugendmedienPilgerhaus Weinheim DGB Nordbaden „ \n  \nWeitere Informationen unter „Aktuelles“ \nund bei „Weinheim bleibt bunt“ (externer Link\, auch ohne Account zugänglich):\nhttps://www.facebook.com/events/617047174697343 \n  \n 
URL:https://keinschrittnachrechts.de/event/extern-weinheim-bleibt-bunt-gegenveranstaltung-zu-kundgebung-von-neo-nazis
LOCATION:Weinheim\, Zentraler Omnibusbahnhof (ZOB)
CATEGORIES:Externe Veranstaltungen
END:VEVENT
END:VCALENDAR