BEGIN:VCALENDAR
VERSION:2.0
PRODID:-//Kein Schritt nach rechts - ECPv6.15.20//NONSGML v1.0//EN
CALSCALE:GREGORIAN
METHOD:PUBLISH
X-ORIGINAL-URL:https://keinschrittnachrechts.de
X-WR-CALDESC:Veranstaltungen für Kein Schritt nach rechts
REFRESH-INTERVAL;VALUE=DURATION:PT1H
X-Robots-Tag:noindex
X-PUBLISHED-TTL:PT1H
BEGIN:VTIMEZONE
TZID:Europe/Berlin
BEGIN:DAYLIGHT
TZOFFSETFROM:+0100
TZOFFSETTO:+0200
TZNAME:CEST
DTSTART:20240331T010000
END:DAYLIGHT
BEGIN:STANDARD
TZOFFSETFROM:+0200
TZOFFSETTO:+0100
TZNAME:CET
DTSTART:20241027T010000
END:STANDARD
BEGIN:DAYLIGHT
TZOFFSETFROM:+0100
TZOFFSETTO:+0200
TZNAME:CEST
DTSTART:20250330T010000
END:DAYLIGHT
BEGIN:STANDARD
TZOFFSETFROM:+0200
TZOFFSETTO:+0100
TZNAME:CET
DTSTART:20251026T010000
END:STANDARD
BEGIN:DAYLIGHT
TZOFFSETFROM:+0100
TZOFFSETTO:+0200
TZNAME:CEST
DTSTART:20260329T010000
END:DAYLIGHT
BEGIN:STANDARD
TZOFFSETFROM:+0200
TZOFFSETTO:+0100
TZNAME:CET
DTSTART:20261025T010000
END:STANDARD
END:VTIMEZONE
BEGIN:VEVENT
DTSTART;TZID=Europe/Berlin:20250915T190000
DTEND;TZID=Europe/Berlin:20250915T220000
DTSTAMP:20260425T150204
CREATED:20250809T190502Z
LAST-MODIFIED:20250809T190502Z
UID:2233-1757962800-1757973600@keinschrittnachrechts.de
SUMMARY:KSNR | Was ist dieses „queer“ überhaupt? - Workshop zu sexueller und geschlechtlicher Vielfalt
DESCRIPTION:Was ist dieses „queer“ überhaupt? \nWorkshop zu sexueller und geschlechtlicher Vielfalt. Queer ist nur eine Modeerscheinung? Stimmt nicht! \nIn diesem Workshop geht es darum\, was queer (oder auch LSBTIQA+) bedeutet\, woher diese ganzen neuen Begriffe kommen und was diese Neo-Pronomen sind. Darauf aufbauend werden Einblicke in die Lebensrealität queerer Menschen vermittelt. Zum Schluss gibt es Raum für anonyme Fragen. \nDer Workshop richtet sich an Leute\, die sich mit dem Thema noch nicht beschäftigt haben. \nDauer: 2 Stunden\nDatum: 15. September\nUhrzeit: 19 Uhr\nVeranstaltungsort: Laden für Kultur und Politik \nAnmeldung an:queerfeministisches.kollektiv.hd@gmail.com \n \n 
URL:https://keinschrittnachrechts.de/event/ksnr-was-ist-dieses-queer-ueberhaupt-workshop-zu-sexueller-und-geschlechtlicher-vielfalt
LOCATION:Laden für Kultur und Politik\, Kaiserstr. 62\, Heidleberg
CATEGORIES:Kein Schritt nach Rechts
END:VEVENT
END:VCALENDAR