BEGIN:VCALENDAR
VERSION:2.0
PRODID:-//Kein Schritt nach rechts - ECPv6.15.20//NONSGML v1.0//EN
CALSCALE:GREGORIAN
METHOD:PUBLISH
X-ORIGINAL-URL:https://keinschrittnachrechts.de
X-WR-CALDESC:Veranstaltungen für Kein Schritt nach rechts
REFRESH-INTERVAL;VALUE=DURATION:PT1H
X-Robots-Tag:noindex
X-PUBLISHED-TTL:PT1H
BEGIN:VTIMEZONE
TZID:Europe/Berlin
BEGIN:DAYLIGHT
TZOFFSETFROM:+0100
TZOFFSETTO:+0200
TZNAME:CEST
DTSTART:20250330T010000
END:DAYLIGHT
BEGIN:STANDARD
TZOFFSETFROM:+0200
TZOFFSETTO:+0100
TZNAME:CET
DTSTART:20251026T010000
END:STANDARD
BEGIN:DAYLIGHT
TZOFFSETFROM:+0100
TZOFFSETTO:+0200
TZNAME:CEST
DTSTART:20260329T010000
END:DAYLIGHT
BEGIN:STANDARD
TZOFFSETFROM:+0200
TZOFFSETTO:+0100
TZNAME:CET
DTSTART:20261025T010000
END:STANDARD
BEGIN:DAYLIGHT
TZOFFSETFROM:+0100
TZOFFSETTO:+0200
TZNAME:CEST
DTSTART:20270328T010000
END:DAYLIGHT
BEGIN:STANDARD
TZOFFSETFROM:+0200
TZOFFSETTO:+0100
TZNAME:CET
DTSTART:20271031T010000
END:STANDARD
END:VTIMEZONE
BEGIN:VEVENT
DTSTART;TZID=Europe/Berlin:20260224T200000
DTEND;TZID=Europe/Berlin:20260224T200000
DTSTAMP:20260425T035801
CREATED:20260208T214857Z
LAST-MODIFIED:20260208T214857Z
UID:2854-1771963200-1771963200@keinschrittnachrechts.de
SUMMARY:Extern | Vortrag: Dieser Drang nach Härte - Über den neuen Faschismus
DESCRIPTION:Wie entsteht der Faschismus der Gegenwart? Und welche Dynamiken treiben autoritäre Bewegungen an? Eva von Redecker\, eine leidenschaftliche Stimme der Gegenwartsphilosophie\, zeigt in ihrem neusten Buch\, dass der moderne Faschismus eine neue\, schwer erkennbare Gestalt hat\, die sich von bekannten Formen z. B. des Nationalsozialismus unterscheidet. Von Redecker analysiert\, wie autoritäre Bewegungen Tradition\, soziale Normen und Besitzansprüche nutzen\, um ihre Macht zu legitimieren. Zugleich zeigt sie Wege auf\, wie Zusammenhalt\, demokratische Werte und Widerstand gestärkt werden können und was jeder Einzelne tun kann. \nDr. Eva von Redecker ist Philosophin und Autorin. Bekannt wurde sie durch ihre Bücher Revolution für das Leben (2020) und Bleibefreiheit (2023)\, in denen sie über ökologische Krisen\, Eigentum\, Freiheit und die Möglichkeit einer lebensfreundlichen Gesellschaft nachdenkt. \nWeitere Informationen (externer Link): \nhttps://dai-heidelberg.de/de/veranstaltungen/eva-von-redecker-2-72221/ \n 
URL:https://keinschrittnachrechts.de/event/extern-vortrag-dieser-drang-nach-haerte-ueber-den-neuen-faschismus
LOCATION:Deutsch-Amerikanisches Institut (DAI)\, Sofienstr. 12\, Heidelberg\, 69115\, Germany
CATEGORIES:Externe Veranstaltungen
END:VEVENT
BEGIN:VEVENT
DTSTART;TZID=Europe/Berlin:20260225T190000
DTEND;TZID=Europe/Berlin:20260225T190000
DTSTAMP:20260425T035801
CREATED:20260216T130120Z
LAST-MODIFIED:20260216T130120Z
UID:2960-1772046000-1772046000@keinschrittnachrechts.de
SUMMARY:Extern | Vortrag: FLUCHT - Zersprengte Familienbiografien und die Arbeit der "Integration"
DESCRIPTION:Aus der Perspektive der Begleitenden – Ein Bericht aus der Arbeit des Asylarbeitskreises Heidelberg e.V. \nWährend der öffentliche Diskurs schutzsuchende Menschen häufig als Belastung wahrnimmt\, hat sich der Asylarbeitskreis zum Ziel gesetzt\, jene zu unterstützen\, die bei uns ankommen. Ihre Schicksale und die ihrer Familien verweisen auf das traurige Grundmuster von Menschen\, die weltweit – in Vergangenheit und Gegenwart – durch Krieg und Gewalt vertrieben wurden. Sowohl der Grad der Traumatisierung als auch die Möglichkeiten\, in der neuen Gesellschaft Fuß zu fassen\, unterscheiden sich stark. Damit wird sich dieser Vortrag befassen. \nVortrag von Mia Lindemann\, Asylarbeitskreis Heidelberg e.V. \nIn Kooperation zwischen der Initiative Heidelberger Stolpersteine und der Volkshochschule Heidelberg. \nvhs Heidelberg\, Bergheimer Str. 76\, Großer Saal
URL:https://keinschrittnachrechts.de/event/extern-vortrag-flucht-zersprengte-familienbiografien-und-die-arbeit-der-integration
LOCATION:Volkshochschule Heidelberg\, Bergheimer Straße 76\, Heidelberg\, 69115
CATEGORIES:Externe Veranstaltungen
END:VEVENT
END:VCALENDAR