BEGIN:VCALENDAR
VERSION:2.0
PRODID:-//Kein Schritt nach rechts - ECPv6.15.20//NONSGML v1.0//EN
CALSCALE:GREGORIAN
METHOD:PUBLISH
X-ORIGINAL-URL:https://keinschrittnachrechts.de
X-WR-CALDESC:Veranstaltungen für Kein Schritt nach rechts
REFRESH-INTERVAL;VALUE=DURATION:PT1H
X-Robots-Tag:noindex
X-PUBLISHED-TTL:PT1H
BEGIN:VTIMEZONE
TZID:Europe/Berlin
BEGIN:DAYLIGHT
TZOFFSETFROM:+0100
TZOFFSETTO:+0200
TZNAME:CEST
DTSTART:20250330T010000
END:DAYLIGHT
BEGIN:STANDARD
TZOFFSETFROM:+0200
TZOFFSETTO:+0100
TZNAME:CET
DTSTART:20251026T010000
END:STANDARD
BEGIN:DAYLIGHT
TZOFFSETFROM:+0100
TZOFFSETTO:+0200
TZNAME:CEST
DTSTART:20260329T010000
END:DAYLIGHT
BEGIN:STANDARD
TZOFFSETFROM:+0200
TZOFFSETTO:+0100
TZNAME:CET
DTSTART:20261025T010000
END:STANDARD
BEGIN:DAYLIGHT
TZOFFSETFROM:+0100
TZOFFSETTO:+0200
TZNAME:CEST
DTSTART:20270328T010000
END:DAYLIGHT
BEGIN:STANDARD
TZOFFSETFROM:+0200
TZOFFSETTO:+0100
TZNAME:CET
DTSTART:20271031T010000
END:STANDARD
END:VTIMEZONE
BEGIN:VEVENT
DTSTART;TZID=Europe/Berlin:20260205T180000
DTEND;TZID=Europe/Berlin:20260205T193000
DTSTAMP:20260425T045733
CREATED:20251206T175336Z
LAST-MODIFIED:20251222T142357Z
UID:2694-1770314400-1770319800@keinschrittnachrechts.de
SUMMARY:Extern | VHS:  WAHL - WEB - TALKS - BW wählt jung: Next Gen Politics: Warum Politik junge Menschen braucht
DESCRIPTION:„Baden-Württemberg wählt: In welchem Zustand präsentiert sich der politische Motor unseres Landes\, das Parlament? Was sind wahlentscheidende Themen und welche Koalitionsoptionen sind denkbar? Zunehmend werden Wahlen auf der Zielgeraden entschieden und die Zahl der „Last-Minute-Wähler*innen“ hat in den letzten Jahren zugenommen. Bestimmen die Ängste der Menschen\, wer Mehrheiten erringt oder gewinnen die Parteien\, die eine Agenda der Hoffnung verbreiten? Bei unseren spannenden Webtalks bilanzieren renommierte Journalist*innen\, Politiker*innen und Politikwissenschaftler*innen die Parlamentsarbeit der letzten Legislaturperiode. Diskutieren Sie mit uns über mögliche Regierungswechsel\, die zur Wahl stehenden Parteien und Personen und über die entscheidenden landespolitischen Weichenstellungen für die Zukunft von Baden-Württemberg. Wir freuen uns auf interessante Expertisen und spannende Einblicke in die politische Zukunft unseres Bundeslandes.\nBitte melden Sie sich über die Homepage oder telefonisch bei der vhs Heidelberg an. Zur Teilnahme benötigen Sie einen PC/Laptop oder ein mobiles Endgerät mit einem stabilen Internetanschluss. Sie sind in der Veranstaltung nicht sichtbar und hörbar. Über die Online-Plattform sli.do können Sie Fragen zum Thema stellen. Sie erhalten ein bis zwei Tage vor der Veranstaltung den Zugangslink per Mail. “ \nGebührenfrei. \nWeitere Infos und Anmeldung: (Externer Link) \nhttps://www.vhs-hd.de/kurs/29804423
URL:https://keinschrittnachrechts.de/event/extern-vhs-wahl-web-talks-bw-waehlt-jung-next-gen-politics-warum-politik-junge-menschen-braucht
CATEGORIES:Externe Veranstaltungen
END:VEVENT
BEGIN:VEVENT
DTSTART;TZID=Europe/Berlin:20260228T150000
DTEND;TZID=Europe/Berlin:20260228T170000
DTSTAMP:20260425T045733
CREATED:20260130T190908Z
LAST-MODIFIED:20260130T190908Z
UID:2832-1772290800-1772298000@keinschrittnachrechts.de
SUMMARY:Extern |  Dance for Democracy\, VHS: Social Dance für Demokratie\, Vielfalt und ein starkes Miteinander!
DESCRIPTION:Wo es egal ist\, wer du bist\, woher du kommst\, was du tust\, welche Sprache du sprichst. Wo du auf Freund*innen triffst\, weil du auf der Tanzfläche nur eines bist: Tänzer*in!\nDance for Democracy schafft einen Ort für Austausch: Menschen kommen zusammen\, um gemeinsam zu tanzen und sich kennenzulernen. Und fördert auf unkonventionelle Weise die Demokratie\, denn Demokratie hat viele Gesichter. Tanzen: die fröhliche Alternative zur traditionellen Demonstration stärkt den Zusammenhalt\, denn gemeinsames Erleben verbindet – auch über die Tanzfläche hinaus.\nZum Auftakt des Sommersemesters laden die vhs Heidelberg und die Initiative Dance for Democracy zum Tanz für Demokratie\, Vielfalt und ein starkes Miteinander ein – begleitet von Live-Musik des Bonfire Orchestra! \nSie können ohne Anmeldung einfach vorbeikommen.\nGebührenfrei. \nIn Kooperation mit der Landeszentrale für politische Bildung. \nWeitere Informationen: (externer Link)\nhttps://www.vhs-hd.de/kurs/30540462 \nVeranstaltungsort:\nVHS\, Saal\nBergheimerstr. 76\, Heidelberg
URL:https://keinschrittnachrechts.de/event/extern-dance-for-democracy-vhs-social-dance-fuer-demokratie-vielfalt-und-ein-starkes-miteinander
LOCATION:Volkshochschule Heidelberg\, Bergheimer Straße 76\, Heidelberg\, 69115
CATEGORIES:Externe Veranstaltungen
END:VEVENT
END:VCALENDAR