BEGIN:VCALENDAR
VERSION:2.0
PRODID:-//Kein Schritt nach rechts - ECPv6.15.20//NONSGML v1.0//EN
CALSCALE:GREGORIAN
METHOD:PUBLISH
X-WR-CALNAME:Kein Schritt nach rechts
X-ORIGINAL-URL:https://keinschrittnachrechts.de
X-WR-CALDESC:Veranstaltungen für Kein Schritt nach rechts
REFRESH-INTERVAL;VALUE=DURATION:PT1H
X-Robots-Tag:noindex
X-PUBLISHED-TTL:PT1H
BEGIN:VTIMEZONE
TZID:Europe/Berlin
BEGIN:DAYLIGHT
TZOFFSETFROM:+0100
TZOFFSETTO:+0200
TZNAME:CEST
DTSTART:20240331T010000
END:DAYLIGHT
BEGIN:STANDARD
TZOFFSETFROM:+0200
TZOFFSETTO:+0100
TZNAME:CET
DTSTART:20241027T010000
END:STANDARD
BEGIN:DAYLIGHT
TZOFFSETFROM:+0100
TZOFFSETTO:+0200
TZNAME:CEST
DTSTART:20250330T010000
END:DAYLIGHT
BEGIN:STANDARD
TZOFFSETFROM:+0200
TZOFFSETTO:+0100
TZNAME:CET
DTSTART:20251026T010000
END:STANDARD
BEGIN:DAYLIGHT
TZOFFSETFROM:+0100
TZOFFSETTO:+0200
TZNAME:CEST
DTSTART:20260329T010000
END:DAYLIGHT
BEGIN:STANDARD
TZOFFSETFROM:+0200
TZOFFSETTO:+0100
TZNAME:CET
DTSTART:20261025T010000
END:STANDARD
END:VTIMEZONE
BEGIN:VEVENT
DTSTART;TZID=Europe/Berlin:20250912T140000
DTEND;TZID=Europe/Berlin:20250912T183000
DTSTAMP:20260425T121811
CREATED:20250903T183506Z
LAST-MODIFIED:20250903T183506Z
UID:2326-1757685600-1757701800@keinschrittnachrechts.de
SUMMARY:Extern | DiverseCity-Konferenz 2025: Vielfalt als Erfolgsfaktor
DESCRIPTION:Aus dem Einladungstext der Veranstalter: \n„Die „DiverseCity“-Konferenz Rhein-Neckar lädt am 12. September 2025 auf den SRH University Campus Heidelberg ein! \nDiese kostenfreie Halbtageskonferenz richtet sich an Unternehmerinnen\, Entscheiderinnen\, Kommunen\, Politik und alle\, die sich mit Diversity Management befassen. Tauschen Sie sich mit über 100 Teilnehmenden aus Wirtschaft\, Politik und Gesellschaft aus\, gewinnen Sie wertvolle Impulse und entdecken Sie praxisnahe Best-Practice-Beispiele. \n🔹 Thema: Ganzheitliches Diversity Management\n🔹 Datum & Uhrzeit: 12.09.2025 | 14:00 – 18:30 Uhr\n🔹 Ort: Science Tower\, SRH University Campus Heidelberg\n🔹 Highlights: Impulsvorträge\, praxisnahe Workshops\, Best-Practice-Beispiele\n🔹 Exklusiv: Vorstellung der Ergebnisse aus dem Pilotunternehmen “ \nWeitere Informationen und Anmeldung: (Externer Link)\nhttps://diversecity.de/diversecity-rhein-neckar-2025/
URL:https://keinschrittnachrechts.de/event/extern-diversecity-konferenz-2025-vielfalt-als-erfolgsfaktor
LOCATION:SRH\, SRH Campus\, Heidelberg
CATEGORIES:Externe Veranstaltungen
END:VEVENT
END:VCALENDAR