BEGIN:VCALENDAR
VERSION:2.0
PRODID:-//Kein Schritt nach rechts - ECPv6.15.20//NONSGML v1.0//EN
CALSCALE:GREGORIAN
METHOD:PUBLISH
X-ORIGINAL-URL:https://keinschrittnachrechts.de
X-WR-CALDESC:Veranstaltungen für Kein Schritt nach rechts
REFRESH-INTERVAL;VALUE=DURATION:PT1H
X-Robots-Tag:noindex
X-PUBLISHED-TTL:PT1H
BEGIN:VTIMEZONE
TZID:Europe/Berlin
BEGIN:DAYLIGHT
TZOFFSETFROM:+0100
TZOFFSETTO:+0200
TZNAME:CEST
DTSTART:20240331T010000
END:DAYLIGHT
BEGIN:STANDARD
TZOFFSETFROM:+0200
TZOFFSETTO:+0100
TZNAME:CET
DTSTART:20241027T010000
END:STANDARD
BEGIN:DAYLIGHT
TZOFFSETFROM:+0100
TZOFFSETTO:+0200
TZNAME:CEST
DTSTART:20250330T010000
END:DAYLIGHT
BEGIN:STANDARD
TZOFFSETFROM:+0200
TZOFFSETTO:+0100
TZNAME:CET
DTSTART:20251026T010000
END:STANDARD
BEGIN:DAYLIGHT
TZOFFSETFROM:+0100
TZOFFSETTO:+0200
TZNAME:CEST
DTSTART:20260329T010000
END:DAYLIGHT
BEGIN:STANDARD
TZOFFSETFROM:+0200
TZOFFSETTO:+0100
TZNAME:CET
DTSTART:20261025T010000
END:STANDARD
END:VTIMEZONE
BEGIN:VEVENT
DTSTART;TZID=Europe/Berlin:20250524T140000
DTEND;TZID=Europe/Berlin:20250524T140000
DTSTAMP:20260426T015804
CREATED:20250512T092303Z
LAST-MODIFIED:20250512T092303Z
UID:1902-1748095200-1748095200@keinschrittnachrechts.de
SUMMARY:Extern | Heidelberger Straßenmusiktage 2025: Internationale Parade für den Frieden
DESCRIPTION:The International Parade for Peace is a vibrant\, multicultural procession held as part of the Heidelberg Straßenmusiktage. Local organizations and initiatives come together to promote unity\, solidarity\, and peace through music\, dance\, and artistic expression. Join us as we celebrate diversity and send a powerful message of harmony across the streets of Heidelberg! \nWeitere Informationen: (externer Link) \nhttps://www.rubikmedia.eu/strassenmusiktage/
URL:https://keinschrittnachrechts.de/event/extern-heidelberger-strassenmusiktage-2025-internationale-parade-fuer-den-frieden
LOCATION:Friedrich-Ebert-Platz\, Friedrich-Ebert-Platz\, Heidelberg\, Germany
CATEGORIES:Externe Veranstaltungen
END:VEVENT
END:VCALENDAR