BEGIN:VCALENDAR
VERSION:2.0
PRODID:-//Kein Schritt nach rechts - ECPv6.15.20//NONSGML v1.0//EN
CALSCALE:GREGORIAN
METHOD:PUBLISH
X-ORIGINAL-URL:https://keinschrittnachrechts.de
X-WR-CALDESC:Veranstaltungen für Kein Schritt nach rechts
REFRESH-INTERVAL;VALUE=DURATION:PT1H
X-Robots-Tag:noindex
X-PUBLISHED-TTL:PT1H
BEGIN:VTIMEZONE
TZID:Europe/Berlin
BEGIN:DAYLIGHT
TZOFFSETFROM:+0100
TZOFFSETTO:+0200
TZNAME:CEST
DTSTART:20240331T010000
END:DAYLIGHT
BEGIN:STANDARD
TZOFFSETFROM:+0200
TZOFFSETTO:+0100
TZNAME:CET
DTSTART:20241027T010000
END:STANDARD
BEGIN:DAYLIGHT
TZOFFSETFROM:+0100
TZOFFSETTO:+0200
TZNAME:CEST
DTSTART:20250330T010000
END:DAYLIGHT
BEGIN:STANDARD
TZOFFSETFROM:+0200
TZOFFSETTO:+0100
TZNAME:CET
DTSTART:20251026T010000
END:STANDARD
BEGIN:DAYLIGHT
TZOFFSETFROM:+0100
TZOFFSETTO:+0200
TZNAME:CEST
DTSTART:20260329T010000
END:DAYLIGHT
BEGIN:STANDARD
TZOFFSETFROM:+0200
TZOFFSETTO:+0100
TZNAME:CET
DTSTART:20261025T010000
END:STANDARD
END:VTIMEZONE
BEGIN:VEVENT
DTSTART;TZID=Europe/Berlin:20250207T190000
DTEND;TZID=Europe/Berlin:20250207T210000
DTSTAMP:20260426T063448
CREATED:20250115T200845Z
LAST-MODIFIED:20250115T200907Z
UID:1172-1738954800-1738962000@keinschrittnachrechts.de
SUMMARY:Extern | It's time to end cement
DESCRIPTION:TALK + DISKUSSION\nIt’s time to end cement \n28.01.2025 19 Uhr\n07.02.2025 19 Uhr\n18.02.2025 19 Uhr \nÜber den geheimen Klimakiller\, eine radikale Bauwende und die End-Cement-Kampagne. \nOnline unter end-cement.earth/talk
URL:https://keinschrittnachrechts.de/event/extern-its-time-to-end-cement-2
CATEGORIES:Externe Veranstaltungen
END:VEVENT
BEGIN:VEVENT
DTSTART;TZID=Europe/Berlin:20250218T190000
DTEND;TZID=Europe/Berlin:20250218T210000
DTSTAMP:20260426T063448
CREATED:20250115T201100Z
LAST-MODIFIED:20250115T201100Z
UID:1177-1739905200-1739912400@keinschrittnachrechts.de
SUMMARY:Extern | It's time to end cement
DESCRIPTION:TALK + DISKUSSION\nIt’s time to end cement \n28.01.2025 19 Uhr\n07.02.2025 19 Uhr\n18.02.2025 19 Uhr \nÜber den geheimen Klimakiller\, eine radikale Bauwende und die End-Cement-Kampagne. \nOnline unter end-cement.earth/talk
URL:https://keinschrittnachrechts.de/event/extern-its-time-to-end-cement-3
CATEGORIES:Externe Veranstaltungen
END:VEVENT
END:VCALENDAR