BEGIN:VCALENDAR
VERSION:2.0
PRODID:-//Kein Schritt nach rechts - ECPv6.15.20//NONSGML v1.0//EN
CALSCALE:GREGORIAN
METHOD:PUBLISH
X-ORIGINAL-URL:https://keinschrittnachrechts.de
X-WR-CALDESC:Veranstaltungen für Kein Schritt nach rechts
REFRESH-INTERVAL;VALUE=DURATION:PT1H
X-Robots-Tag:noindex
X-PUBLISHED-TTL:PT1H
BEGIN:VTIMEZONE
TZID:Europe/Berlin
BEGIN:DAYLIGHT
TZOFFSETFROM:+0100
TZOFFSETTO:+0200
TZNAME:CEST
DTSTART:20250330T010000
END:DAYLIGHT
BEGIN:STANDARD
TZOFFSETFROM:+0200
TZOFFSETTO:+0100
TZNAME:CET
DTSTART:20251026T010000
END:STANDARD
BEGIN:DAYLIGHT
TZOFFSETFROM:+0100
TZOFFSETTO:+0200
TZNAME:CEST
DTSTART:20260329T010000
END:DAYLIGHT
BEGIN:STANDARD
TZOFFSETFROM:+0200
TZOFFSETTO:+0100
TZNAME:CET
DTSTART:20261025T010000
END:STANDARD
BEGIN:DAYLIGHT
TZOFFSETFROM:+0100
TZOFFSETTO:+0200
TZNAME:CEST
DTSTART:20270328T010000
END:DAYLIGHT
BEGIN:STANDARD
TZOFFSETFROM:+0200
TZOFFSETTO:+0100
TZNAME:CET
DTSTART:20271031T010000
END:STANDARD
END:VTIMEZONE
BEGIN:VEVENT
DTSTART;TZID=Europe/Berlin:20260220T120000
DTEND;TZID=Europe/Berlin:20260220T170000
DTSTAMP:20260425T045734
CREATED:20260116T114621Z
LAST-MODIFIED:20260116T120031Z
UID:2769-1771588800-1771606800@keinschrittnachrechts.de
SUMMARY:Extern | Spuren hinterlassen – Perspektiven eröffnen: Symposium der Arbeitsstelle für Antiziganismusprävention
DESCRIPTION:Nach mehr als fünf Jahren erfolgreicher Tätigkeit endet die Arbeitsstelle für Antiziganismusprävention. Gemeinsam wollen wir zurückblicken\, Erreichtes würdigen und zugleich nach vorn schauen: Unter dem Motto „Spuren hinterlassen – Perspektiven eröffnen“ nehmen wir Abschied und geben zugleich Einblicke in das Forschungsprojekt Mediale Antiziganismen. Ab 12 Uhr heißen wir euch herzlich willkommen\, um 13 Uhr beginnt das Programm. Nach der Begrüßung stellen wir das Blended-Learning-Format vor\, das aus dem Projekt MeAviA hervorgegangen ist\, und bieten die Möglichkeit\, mit den beteiligten Forscher*innen ins Gespräch zu kommen. Im zweiten Teil richten wir den Blick auf Antiziganismus an Hochschulen und hören dazu unterschiedliche Perspektiven aus der Community. Mit dabei sind David Rosenberg und Radoslav Ganev\, die ihre Sichtweisen in kurzen Inputs einbringen; moderiert wird die Veranstaltung von Estera Stan. Wir laden euch herzlich ein\, mit uns ins Gespräch zu kommen\, gemeinsam Abschied zu nehmen und den Nachmittag in einem offenen Austausch ausklingen zu lassen. \nVeranstaltungsort: Aula (Raum 011) der Pädagogischen Hochschle Heidelberg \nMit Infostand von Kein Schritt Nach Rechts \nAnmeldung und weitere Informationen (externer Link):\nhttps://events.ph-heidelberg.de/event/20260220-antiziganismuspravention \n 
URL:https://keinschrittnachrechts.de/event/extern-spuren-hinterlassen-perspektiven-eroeffnen-symposium-der-arbeitsstelle-fuer-antiziganismuspraevention
LOCATION:Pädagogische Hochschule Heidelberg\, Keplerstraße 87\, Heidelberg\, 69120\, Germany
CATEGORIES:Externe Veranstaltungen
END:VEVENT
END:VCALENDAR