BEGIN:VCALENDAR
VERSION:2.0
PRODID:-//Kein Schritt nach rechts - ECPv6.15.20//NONSGML v1.0//EN
CALSCALE:GREGORIAN
METHOD:PUBLISH
X-ORIGINAL-URL:https://keinschrittnachrechts.de
X-WR-CALDESC:Veranstaltungen für Kein Schritt nach rechts
REFRESH-INTERVAL;VALUE=DURATION:PT1H
X-Robots-Tag:noindex
X-PUBLISHED-TTL:PT1H
BEGIN:VTIMEZONE
TZID:Europe/Berlin
BEGIN:DAYLIGHT
TZOFFSETFROM:+0100
TZOFFSETTO:+0200
TZNAME:CEST
DTSTART:20240331T010000
END:DAYLIGHT
BEGIN:STANDARD
TZOFFSETFROM:+0200
TZOFFSETTO:+0100
TZNAME:CET
DTSTART:20241027T010000
END:STANDARD
BEGIN:DAYLIGHT
TZOFFSETFROM:+0100
TZOFFSETTO:+0200
TZNAME:CEST
DTSTART:20250330T010000
END:DAYLIGHT
BEGIN:STANDARD
TZOFFSETFROM:+0200
TZOFFSETTO:+0100
TZNAME:CET
DTSTART:20251026T010000
END:STANDARD
BEGIN:DAYLIGHT
TZOFFSETFROM:+0100
TZOFFSETTO:+0200
TZNAME:CEST
DTSTART:20260329T010000
END:DAYLIGHT
BEGIN:STANDARD
TZOFFSETFROM:+0200
TZOFFSETTO:+0100
TZNAME:CET
DTSTART:20261025T010000
END:STANDARD
END:VTIMEZONE
BEGIN:VEVENT
DTSTART;TZID=Europe/Berlin:20251103T120000
DTEND;TZID=Europe/Berlin:20251103T120000
DTSTAMP:20260425T133118
CREATED:20251101T205010Z
LAST-MODIFIED:20251101T205010Z
UID:2555-1762171200-1762171200@keinschrittnachrechts.de
SUMMARY:Extern | Queer Takeover
DESCRIPTION:Du bist queer und willst den Universitätsplatz einnehmen? Dann komm zu unserem Queer Takeover am 3. November ab 12 Uhr! \nNeben Heißgetränken und Musik werden wir Kreide und Infomaterial mitbringen. Beim Takeover geht es darum\, Platz in Heidelberg einzunehmen\, neue Leute kennenzulernen und gemeinsam Spaß zu haben – außerdem wollen wir neu Hinzugezogenen den Zugang zur Community erleichtern. \nWir sehen uns! \n 
URL:https://keinschrittnachrechts.de/event/extern-queer-takeover
LOCATION:Universitätsplatz Heidelberg\, Universitätsplatz\, Heidelberg\, 69117\, Germany
CATEGORIES:Externe Veranstaltungen
END:VEVENT
END:VCALENDAR