BEGIN:VCALENDAR
VERSION:2.0
PRODID:-//Kein Schritt nach rechts - ECPv6.15.20//NONSGML v1.0//EN
CALSCALE:GREGORIAN
METHOD:PUBLISH
X-WR-CALNAME:Kein Schritt nach rechts
X-ORIGINAL-URL:https://keinschrittnachrechts.de
X-WR-CALDESC:Veranstaltungen für Kein Schritt nach rechts
REFRESH-INTERVAL;VALUE=DURATION:PT1H
X-Robots-Tag:noindex
X-PUBLISHED-TTL:PT1H
BEGIN:VTIMEZONE
TZID:Europe/Berlin
BEGIN:DAYLIGHT
TZOFFSETFROM:+0100
TZOFFSETTO:+0200
TZNAME:CEST
DTSTART:20240331T010000
END:DAYLIGHT
BEGIN:STANDARD
TZOFFSETFROM:+0200
TZOFFSETTO:+0100
TZNAME:CET
DTSTART:20241027T010000
END:STANDARD
BEGIN:DAYLIGHT
TZOFFSETFROM:+0100
TZOFFSETTO:+0200
TZNAME:CEST
DTSTART:20250330T010000
END:DAYLIGHT
BEGIN:STANDARD
TZOFFSETFROM:+0200
TZOFFSETTO:+0100
TZNAME:CET
DTSTART:20251026T010000
END:STANDARD
BEGIN:DAYLIGHT
TZOFFSETFROM:+0100
TZOFFSETTO:+0200
TZNAME:CEST
DTSTART:20260329T010000
END:DAYLIGHT
BEGIN:STANDARD
TZOFFSETFROM:+0200
TZOFFSETTO:+0100
TZNAME:CET
DTSTART:20261025T010000
END:STANDARD
END:VTIMEZONE
BEGIN:VEVENT
DTSTART;TZID=Europe/Berlin:20250509T180000
DTEND;TZID=Europe/Berlin:20250509T180000
DTSTAMP:20260425T214157
CREATED:20250509T142827Z
LAST-MODIFIED:20250509T142827Z
UID:1800-1746813600-1746813600@keinschrittnachrechts.de
SUMMARY:Extern - Stop Dictators: Gedenkveranstaltung zum Jahrestag des Kriegsendes
DESCRIPTION:„Am 9. Mai um 18:00 organisiert die internationale Bewegung Stop Dictators\neine Gedenkveranstaltung auf dem Ehrenfriedhof\, um an den Gräbern von\npolnische\, sowjetischer und jugoslavische Soldaten anlässlich des\nachtzigsten Jahrestags des Kriegsendes zu gedenken und Blumen\nniederzulegen. Sie werden sich über deren Schicksale in Heidelberg wie über\ndie ihrer eigenen Vorfahren austauschen. Alle Interessierten sind dazu\nherzlich eingeladen.“
URL:https://keinschrittnachrechts.de/event/extern-stop-dictators-gedenkveranstaltung-zum-jahrestag-des-kriegsendes
LOCATION:Ehrenfriedhof Heidelberg
CATEGORIES:Externe Veranstaltungen
END:VEVENT
END:VCALENDAR