BEGIN:VCALENDAR
VERSION:2.0
PRODID:-//Kein Schritt nach rechts - ECPv6.15.20//NONSGML v1.0//EN
CALSCALE:GREGORIAN
METHOD:PUBLISH
X-ORIGINAL-URL:https://keinschrittnachrechts.de
X-WR-CALDESC:Veranstaltungen für Kein Schritt nach rechts
REFRESH-INTERVAL;VALUE=DURATION:PT1H
X-Robots-Tag:noindex
X-PUBLISHED-TTL:PT1H
BEGIN:VTIMEZONE
TZID:Europe/Berlin
BEGIN:DAYLIGHT
TZOFFSETFROM:+0100
TZOFFSETTO:+0200
TZNAME:CEST
DTSTART:20240331T010000
END:DAYLIGHT
BEGIN:STANDARD
TZOFFSETFROM:+0200
TZOFFSETTO:+0100
TZNAME:CET
DTSTART:20241027T010000
END:STANDARD
BEGIN:DAYLIGHT
TZOFFSETFROM:+0100
TZOFFSETTO:+0200
TZNAME:CEST
DTSTART:20250330T010000
END:DAYLIGHT
BEGIN:STANDARD
TZOFFSETFROM:+0200
TZOFFSETTO:+0100
TZNAME:CET
DTSTART:20251026T010000
END:STANDARD
BEGIN:DAYLIGHT
TZOFFSETFROM:+0100
TZOFFSETTO:+0200
TZNAME:CEST
DTSTART:20260329T010000
END:DAYLIGHT
BEGIN:STANDARD
TZOFFSETFROM:+0200
TZOFFSETTO:+0100
TZNAME:CET
DTSTART:20261025T010000
END:STANDARD
END:VTIMEZONE
BEGIN:VEVENT
DTSTART;TZID=Europe/Berlin:20251010T150000
DTEND;TZID=Europe/Berlin:20251010T150000
DTSTAMP:20260425T132754
CREATED:20251006T130201Z
LAST-MODIFIED:20251006T130314Z
UID:2432-1760108400-1760108400@keinschrittnachrechts.de
SUMMARY:Extern | Workshop: Bildung in digitalen Zeiten – KI als Werkzeug gegen Desinformation in der Schule
DESCRIPTION:Workshop für Lehrkräfte\nWie verändert KI den Umgang mit Desinformation im schulischen Kontext? In diesem Workshop erhalten Lehrkräfte und Bildungsakteure einen fundierten Einblick in aktuelle KI-basierte Tools und deren Potenziale – aber auch Risiken – für die Bildungsarbeit. Mithilfe von Demonstratoren aus der Forschung und anhand konkreter Anwendungsbeispiele reflektieren wir gemeinsam pädagogische Chancen und Herausforderungen. Die Ergebnisse fließen in einen praxisnahen Leitfaden für Fachkräfte ein.  \nFür wen ist der Workshop? \nEingeladen sind Lehrkräfte\, pädagogisches Fachpersonal und außerschulische Bildungsakteur*innen mit einem Fokus auf Angebote für Jugendliche der Mittel- und Oberstufe.  \nWas erwartet Sie? \n\nPraktische Einblicke in den Einsatz von KI zur Desinformationsbekämpfung und interaktive Nutzung aktueller Demonstratoren des FZI \nReflexion pädagogischer Einsatzmöglichkeiten und Risiken \nAustausch mit Bildungsakteur*innen und Wissenschaftler*innen \n\nGut zu wissen \n\nDie Teilnahme ist kostenlos \nAnmeldung bis zum 1. Oktober 2025 unter education@dai-heidelberg.de \n\nWeitere Informationen (externer Link): \nhttps://dai-heidelberg.de/de/veranstaltungen/isabel-bezzaoui-69676/ \n 
URL:https://keinschrittnachrechts.de/event/extern-workshop-bildung-in-digitalen-zeiten-ki-als-werkzeug-gegen-desinformation-in-der-schule
LOCATION:Deutsch-Amerikanisches Institut (DAI)\, Sofienstr. 12\, Heidelberg\, 69115\, Germany
CATEGORIES:Externe Veranstaltungen
END:VEVENT
END:VCALENDAR