BEGIN:VCALENDAR
VERSION:2.0
PRODID:-//Kein Schritt nach rechts - ECPv6.15.20//NONSGML v1.0//EN
CALSCALE:GREGORIAN
METHOD:PUBLISH
X-WR-CALNAME:Kein Schritt nach rechts
X-ORIGINAL-URL:https://keinschrittnachrechts.de
X-WR-CALDESC:Veranstaltungen für Kein Schritt nach rechts
REFRESH-INTERVAL;VALUE=DURATION:PT1H
X-Robots-Tag:noindex
X-PUBLISHED-TTL:PT1H
BEGIN:VTIMEZONE
TZID:Europe/Berlin
BEGIN:DAYLIGHT
TZOFFSETFROM:+0100
TZOFFSETTO:+0200
TZNAME:CEST
DTSTART:20240331T010000
END:DAYLIGHT
BEGIN:STANDARD
TZOFFSETFROM:+0200
TZOFFSETTO:+0100
TZNAME:CET
DTSTART:20241027T010000
END:STANDARD
BEGIN:DAYLIGHT
TZOFFSETFROM:+0100
TZOFFSETTO:+0200
TZNAME:CEST
DTSTART:20250330T010000
END:DAYLIGHT
BEGIN:STANDARD
TZOFFSETFROM:+0200
TZOFFSETTO:+0100
TZNAME:CET
DTSTART:20251026T010000
END:STANDARD
BEGIN:DAYLIGHT
TZOFFSETFROM:+0100
TZOFFSETTO:+0200
TZNAME:CEST
DTSTART:20260329T010000
END:DAYLIGHT
BEGIN:STANDARD
TZOFFSETFROM:+0200
TZOFFSETTO:+0100
TZNAME:CET
DTSTART:20261025T010000
END:STANDARD
END:VTIMEZONE
BEGIN:VEVENT
DTSTART;TZID=Europe/Berlin:20250210T190000
DTEND;TZID=Europe/Berlin:20250210T210000
DTSTAMP:20260426T023619
CREATED:20250207T125625Z
LAST-MODIFIED:20250207T125711Z
UID:1397-1739214000-1739221200@keinschrittnachrechts.de
SUMMARY:Extern |  Die rechte Welle in Mannheim und der Region - Was tun\, um der Entwicklung Einhalt zu gebieten?
DESCRIPTION:Im Trafohaus: Vortragsveranstaltung des Bündnisses Mannheim gegen Rechts \nDie rechte Welle in Mannheim und der Region – Was tun\, um der Entwicklung Einhalt zu gebieten?\nOb in den Parlamenten oder auf der Straße: die rechte Welle rollt. Der Aufstieg der AfD setzt sich ungebrochen fort\, sie fährt Wahlsieg um Wahlsieg ein. Die AfD des Faschisten Björn Höcke holte bei der Landtagswahl am 1. September 2024 in Thüringen die meisten Stimmen und damit sind zum ersten Mal nach dem Zweiten Weltkrieg Rechtsextremisten die stärkste Kraft in einem deutschen Parlament. Parallel treten Rechtsradikale\, von der Identitären Bewegung bis zum III. Weg\, immer selbstbewusster und militanter auf\, greifen politische Gegner*Innen und Minderheiten an\, vernetzen sich und organisieren rechtsextremistische Aktionen mit steigendem Mobilisierungspotential. \nAuch in Mannheim und Umgebung treiben verschiedene rechtsradikale Kräfte ihr Unwesen. Um diese Rechtsextremisten gezielt und effektiv entgegentreten zu können\, ist es wichtig ihre Ziele\, ihre Strukturen\, ihre Symbole und ihre Akteure zu kennen. Darüber gibt ein Kenner der Szene am Montag\, den 10. Februar um 19 Uhr im Trafohaus (Keplerstraße 22) in einem Vortrag einen Überblick (ein barrierefreier Zugang zum Trafohaus ist möglich). \nIm Vortrag soll gleichzeitig die Frage beantworten\, was man tun kann\, um den aktuellen Entwicklungen Einhalt zu gebieten und welche vielfältigen Möglichkeiten es in Mannheim gibt\, sich im Kampf gegen rechts einzubringen. \nDer Eintritt zu diesem Vortrag ist frei; Spenden sind willkommen. Es handelt sich um eine Veranstaltung\, bei der die Gäste vor Diskriminierung geschützt sein sollen. Die Veranstalter behalten sich deswegen vor\, Personen\, die rechten Organisationen angehören oder durch die Teilnahme an rechten bzw. rassistischen Aktionen aufgefallen sind\, den Zutritt zur Veranstaltun zu verwehren bzw. sie des Hauses zu verweisen. \nMit freundlichen Grüßen \nOrganisationsteam von Mannheim gegen Rechts
URL:https://keinschrittnachrechts.de/event/extern-die-rechte-welle-in-mannheim-und-der-region-was-tun-um-der-entwicklung-einhalt-zu-gebieten
LOCATION:Trafohaus Mannheim\, Keplerstraße 22\, Mannheim\, Baden-Württemberg\, 68165\, Germany
CATEGORIES:Externe Veranstaltungen
END:VEVENT
END:VCALENDAR