BEGIN:VCALENDAR
VERSION:2.0
PRODID:-//Kein Schritt nach rechts - ECPv6.15.20//NONSGML v1.0//EN
CALSCALE:GREGORIAN
METHOD:PUBLISH
X-WR-CALNAME:Kein Schritt nach rechts
X-ORIGINAL-URL:https://keinschrittnachrechts.de
X-WR-CALDESC:Veranstaltungen für Kein Schritt nach rechts
REFRESH-INTERVAL;VALUE=DURATION:PT1H
X-Robots-Tag:noindex
X-PUBLISHED-TTL:PT1H
BEGIN:VTIMEZONE
TZID:Europe/Berlin
BEGIN:DAYLIGHT
TZOFFSETFROM:+0100
TZOFFSETTO:+0200
TZNAME:CEST
DTSTART:20240331T010000
END:DAYLIGHT
BEGIN:STANDARD
TZOFFSETFROM:+0200
TZOFFSETTO:+0100
TZNAME:CET
DTSTART:20241027T010000
END:STANDARD
BEGIN:DAYLIGHT
TZOFFSETFROM:+0100
TZOFFSETTO:+0200
TZNAME:CEST
DTSTART:20250330T010000
END:DAYLIGHT
BEGIN:STANDARD
TZOFFSETFROM:+0200
TZOFFSETTO:+0100
TZNAME:CET
DTSTART:20251026T010000
END:STANDARD
BEGIN:DAYLIGHT
TZOFFSETFROM:+0100
TZOFFSETTO:+0200
TZNAME:CEST
DTSTART:20260329T010000
END:DAYLIGHT
BEGIN:STANDARD
TZOFFSETFROM:+0200
TZOFFSETTO:+0100
TZNAME:CET
DTSTART:20261025T010000
END:STANDARD
END:VTIMEZONE
BEGIN:VEVENT
DTSTART;TZID=Europe/Berlin:20250225T183000
DTEND;TZID=Europe/Berlin:20250225T203000
DTSTAMP:20260426T051453
CREATED:20250128T152852Z
LAST-MODIFIED:20250128T153525Z
UID:1205-1740508200-1740515400@keinschrittnachrechts.de
SUMMARY:Extern | Im Karlstorbahnhof: Fünf Jahre und ein paar Tage
DESCRIPTION:Lesung und Gespräch mit Çetin Gültekin und Mutlu Koçak \nAnlässlich des fünften Jahrestages des Anschlags in Hanau laden verschiedene Kooperationspartner*innen im Karlstorbahnhof dazu ein\, gemeinsam an die rassistischen und rechtsextremen Gewaltverbrechen der vergangenen Jahrzehnte in Deutschland zu erinnern. Die beiden Autoren Çetin Gültekin und Mutlu Koçak lesen hierzu aus ihrem Buch „Geboren\, aufgewachsen und ermordet in Deutschland“ und kommen mit Moderatorin Evein Obulor\, Geschäftsführerin der Europäischen Städtekoalition gegen Rassismus\, ins Gespräch. Zur Begrüßung spricht Stefanie Jansen\, Bürgermeisterin für Soziales\, Bildung\, Familie und Chancengleichheit der Stadt Heidelberg. \n„Fünf Jahre und ein paar Tage…“ ist eine Kooperation der Muslimischen Akademie Heidelberg\, des Dokumentations- und Kulturzentrums Deutscher Sinti und Roma\, des Migration Hub Heidelberg\, des Bündnissses Erinnern. Verändern\, Mosaik Deutschland e.V.\, dem Theater und Orchester Heidelberg\, dem zwinger x\, dem Karlstorbahnhof\, dem Migrationsbeirat der Stadt Heidelberg\, dem Interkulturellen Zentrum sowie dem Amt für Chancengleichheit der Stadt Heidelberg. \nGefördert wird die Veranstaltung im Rahmen des Bundesprogramms „Demokratie Leben!“ des Bundesfamilienministeriums. \nDer Eintritt ist frei. \n  \nWeitere Informationen dazu beim Karlstorbahnhof:\nhttps://www.karlstorbahnhof.de/programm/veranstaltung/fuenf-jahre-und-ein-paar-tage/
URL:https://keinschrittnachrechts.de/event/extern-fuenf-jahre-und-ein-paar-tage
LOCATION:Karlstorbahnhof (Südstadt)\, Marlene-Dietrich-Platz 3\, Heidelberg\, Germany
CATEGORIES:Externe Veranstaltungen
END:VEVENT
END:VCALENDAR