BEGIN:VCALENDAR
VERSION:2.0
PRODID:-//Kein Schritt nach rechts - ECPv6.15.20//NONSGML v1.0//EN
CALSCALE:GREGORIAN
METHOD:PUBLISH
X-ORIGINAL-URL:https://keinschrittnachrechts.de
X-WR-CALDESC:Veranstaltungen für Kein Schritt nach rechts
REFRESH-INTERVAL;VALUE=DURATION:PT1H
X-Robots-Tag:noindex
X-PUBLISHED-TTL:PT1H
BEGIN:VTIMEZONE
TZID:Europe/Berlin
BEGIN:DAYLIGHT
TZOFFSETFROM:+0100
TZOFFSETTO:+0200
TZNAME:CEST
DTSTART:20250330T010000
END:DAYLIGHT
BEGIN:STANDARD
TZOFFSETFROM:+0200
TZOFFSETTO:+0100
TZNAME:CET
DTSTART:20251026T010000
END:STANDARD
BEGIN:DAYLIGHT
TZOFFSETFROM:+0100
TZOFFSETTO:+0200
TZNAME:CEST
DTSTART:20260329T010000
END:DAYLIGHT
BEGIN:STANDARD
TZOFFSETFROM:+0200
TZOFFSETTO:+0100
TZNAME:CET
DTSTART:20261025T010000
END:STANDARD
BEGIN:DAYLIGHT
TZOFFSETFROM:+0100
TZOFFSETTO:+0200
TZNAME:CEST
DTSTART:20270328T010000
END:DAYLIGHT
BEGIN:STANDARD
TZOFFSETFROM:+0200
TZOFFSETTO:+0100
TZNAME:CET
DTSTART:20271031T010000
END:STANDARD
END:VTIMEZONE
BEGIN:VEVENT
DTSTART;TZID=Europe/Berlin:20260308T130000
DTEND;TZID=Europe/Berlin:20260308T130000
DTSTAMP:20260425T003510
CREATED:20260216T202440Z
LAST-MODIFIED:20260216T202637Z
UID:2967-1772974800-1772974800@keinschrittnachrechts.de
SUMMARY:Extern | Demonstration zum queerfeministischen Kampftag
DESCRIPTION:Als klassenkämpferische Queerfeminist*innen gehen wir am 8. März entschlossen auf die Straße! Gemeinsam kämpfen wir mit allen Menschen\, die im Patriarchat unterdrückt werden und patriarchale Gewalt erleben. Unser Feminismus ist intersektional: Menschen\, die von Rassismus\, Queerfeindlichkeit\, Ableismus und anderen Diskriminierungsformen betroffen sind\, sind Teil unserer feministischen Kämpfe. \nEin Staat\, der für Ehe\, Kleinfamilie und Vaterland steht\, wird uns nicht befreien! Diese Befreiung kann nur durch uns selbst erfolgen. Als Feminist*innen müssen wir die Systemfrage stellen und Gegenmacht von unten aufbauen. Deshalb lautet unser Motto am Tag der Landtagswahlen: Queerfeministischer Kampftag – gemeinsam wählen wir die Straße! \nStart um 13 Uhr auf dem Karlsplatz. \nCommunity Space im Anschluss an die Demonstration – Schöpft gemeinsam mit uns neue Kraft für weitere Kämpfe: \n🗓️ 8. März\n🕐 ab 15:00 Uhr\, open End. Kommt gerne jederzeit dazu!\n📍 Rabatz\, John-Zenger-Str. 4\, Heidelberg \n🍝 den ganzen Zeitraum über gibt es Snacks und kaltes Essen. Um 19:00 Uhr gibt es warme Küfa (Küche für alle) gegen Spende.\n🕠 17:30 Uhr: Input zum Thema „Mackerfrei kämpfen“\n🎨📚 Büchertisch vom unromantischem Lesekreis\n💜 Awareness-Team und Rückzugsraum \nOrganisiert von: \nIntersektionales Feministisches Kollektiv\nROSA Hochschulgruppe\nAntifaschistische Initiative Heidelberg\nSeebrücke Heidelberg\nInterventionistische Linke Heidelberg / Akut +C\nStudis Gegen Rechts Heidelberg
URL:https://keinschrittnachrechts.de/event/extern-demonstration-zum-queerfeministischen-kampftag
LOCATION:Karlsplatz\, Karlsplatz\, Heidelberg\, 69117\, Germany
CATEGORIES:Externe Veranstaltungen
END:VEVENT
END:VCALENDAR