BEGIN:VCALENDAR
VERSION:2.0
PRODID:-//Kein Schritt nach rechts - ECPv6.15.20//NONSGML v1.0//EN
CALSCALE:GREGORIAN
METHOD:PUBLISH
X-WR-CALNAME:Kein Schritt nach rechts
X-ORIGINAL-URL:https://keinschrittnachrechts.de
X-WR-CALDESC:Veranstaltungen für Kein Schritt nach rechts
REFRESH-INTERVAL;VALUE=DURATION:PT1H
X-Robots-Tag:noindex
X-PUBLISHED-TTL:PT1H
BEGIN:VTIMEZONE
TZID:Europe/Berlin
BEGIN:DAYLIGHT
TZOFFSETFROM:+0100
TZOFFSETTO:+0200
TZNAME:CEST
DTSTART:20240331T010000
END:DAYLIGHT
BEGIN:STANDARD
TZOFFSETFROM:+0200
TZOFFSETTO:+0100
TZNAME:CET
DTSTART:20241027T010000
END:STANDARD
BEGIN:DAYLIGHT
TZOFFSETFROM:+0100
TZOFFSETTO:+0200
TZNAME:CEST
DTSTART:20250330T010000
END:DAYLIGHT
BEGIN:STANDARD
TZOFFSETFROM:+0200
TZOFFSETTO:+0100
TZNAME:CET
DTSTART:20251026T010000
END:STANDARD
BEGIN:DAYLIGHT
TZOFFSETFROM:+0100
TZOFFSETTO:+0200
TZNAME:CEST
DTSTART:20260329T010000
END:DAYLIGHT
BEGIN:STANDARD
TZOFFSETFROM:+0200
TZOFFSETTO:+0100
TZNAME:CET
DTSTART:20261025T010000
END:STANDARD
END:VTIMEZONE
BEGIN:VEVENT
DTSTART;TZID=Europe/Berlin:20250517T150000
DTEND;TZID=Europe/Berlin:20250517T170000
DTSTAMP:20260426T020801
CREATED:20250506T185220Z
LAST-MODIFIED:20250506T185220Z
UID:1842-1747494000-1747501200@keinschrittnachrechts.de
SUMMARY:Extern | Internationaler Tag gegen Queer-Feindlichkeit Heidelberg 2025 - Straßenfest am Kornmarkt
DESCRIPTION:Am Internationalen Tag gegen Homo-\, Bi-\, Ace-\, Lesbo-\, Trans-\, Inter- und Queer-Feindlichkeit lädt das queere Netzwerk Heidelberg zu einem Straßenfest am Kornmarkt ein. Ab 15 Uhr erwarten euch Infostände\, ein Quiz und verschiedene Community-Aktionen. \nAb 19 Uhr besteht die Möglichkeit\, den Tag am Karlstorbahnhof mit einer Liveübertragung des Eurovision Song Contest\, gehostet durch Shayma Al-Queer\, ausklingen zu lassen.
URL:https://keinschrittnachrechts.de/event/extern-internationaler-tag-gegen-queer-feindlichkeit-heidelberg-2025-strassenfest-am-kornmarkt
LOCATION:Kornmarkt\, Kornmarkt\, Heidelberg\, 69117\, Germany
CATEGORIES:Externe Veranstaltungen
END:VEVENT
BEGIN:VEVENT
DTSTART;TZID=Europe/Berlin:20250531T213000
DTEND;TZID=Europe/Berlin:20250531T213000
DTSTAMP:20260426T020801
CREATED:20250529T153338Z
LAST-MODIFIED:20250529T153554Z
UID:1991-1748727000-1748727000@keinschrittnachrechts.de
SUMMARY:Extern | Demo: FLINTA* Reclaim the Night!
DESCRIPTION:Die Nacht gehört uns! FLINTA* (Frauen\, Lesben\, Inter\, nichtbinär\, trans\, agender\, queer) sind nachts nicht sicher – Angriffe und Übergriffe werden übersehen oder nicht ernstgrnommen\, während Täter*innen keine Konsequenzen fürchten müssen.\nWährendessen gehen FLINTA* nur in Gruppen aus\, überlegen sich Selbstverteidigungsstrategien und können bei Übergriffen keine Hilfe erwarten. \nAm 31. Mai 2025 ist das anders! Angefangen bei der Schwanenteichanlage gehen wir in Richtung Altstadt\, über die Hauptstraße und dann durch die Untere Straße. Die Demo endet mit einer Kundgebung beim Marktplatz.
URL:https://keinschrittnachrechts.de/event/extern-demo-flinta-reclaim-the-night
LOCATION:Stadtbücherei\, Poststraße 15\, Heidelberg\, Baden-Württemberg\, 69126\, Germany
CATEGORIES:Externe Veranstaltungen
END:VEVENT
END:VCALENDAR