BEGIN:VCALENDAR
VERSION:2.0
PRODID:-//Kein Schritt nach rechts - ECPv6.15.20//NONSGML v1.0//EN
CALSCALE:GREGORIAN
METHOD:PUBLISH
X-ORIGINAL-URL:https://keinschrittnachrechts.de
X-WR-CALDESC:Veranstaltungen für Kein Schritt nach rechts
REFRESH-INTERVAL;VALUE=DURATION:PT1H
X-Robots-Tag:noindex
X-PUBLISHED-TTL:PT1H
BEGIN:VTIMEZONE
TZID:Europe/Berlin
BEGIN:DAYLIGHT
TZOFFSETFROM:+0100
TZOFFSETTO:+0200
TZNAME:CEST
DTSTART:20240331T010000
END:DAYLIGHT
BEGIN:STANDARD
TZOFFSETFROM:+0200
TZOFFSETTO:+0100
TZNAME:CET
DTSTART:20241027T010000
END:STANDARD
BEGIN:DAYLIGHT
TZOFFSETFROM:+0100
TZOFFSETTO:+0200
TZNAME:CEST
DTSTART:20250330T010000
END:DAYLIGHT
BEGIN:STANDARD
TZOFFSETFROM:+0200
TZOFFSETTO:+0100
TZNAME:CET
DTSTART:20251026T010000
END:STANDARD
BEGIN:DAYLIGHT
TZOFFSETFROM:+0100
TZOFFSETTO:+0200
TZNAME:CEST
DTSTART:20260329T010000
END:DAYLIGHT
BEGIN:STANDARD
TZOFFSETFROM:+0200
TZOFFSETTO:+0100
TZNAME:CET
DTSTART:20261025T010000
END:STANDARD
END:VTIMEZONE
BEGIN:VEVENT
DTSTART;TZID=Europe/Berlin:20250614T150000
DTEND;TZID=Europe/Berlin:20250614T200000
DTSTAMP:20260426T001925
CREATED:20250115T201718Z
LAST-MODIFIED:20250506T191309Z
UID:1180-1749913200-1749931200@keinschrittnachrechts.de
SUMMARY:Extern | Pride March Heidelberg
DESCRIPTION:Pride March Heidelberg\n14. Juni 2025\nBeginn 15 Uhr bei der Stadtbücherei \nQueeres Netzwerk Heidelberg\nZusammenschluss Heidelberger Initiativen für geschlechtliche und sexuelle Vielfalt \nAm 14. Juni um 15 Uhr geht der dritte Pride-March in Heidelberg los!\nDer Pride-March beginnt auf der Poststraße Höhe Schwanenteichanlage und läuft über die kleine Plöck\, Sofienstraße und die Hauptstraße.
URL:https://keinschrittnachrechts.de/event/pride-march-heidelberg
LOCATION:Stadtbücherei\, Poststraße 15\, Heidelberg\, Baden-Württemberg\, 69126\, Germany
CATEGORIES:Externe Veranstaltungen
END:VEVENT
END:VCALENDAR