BEGIN:VCALENDAR
VERSION:2.0
PRODID:-//Kein Schritt nach rechts - ECPv6.15.20//NONSGML v1.0//EN
CALSCALE:GREGORIAN
METHOD:PUBLISH
X-WR-CALNAME:Kein Schritt nach rechts
X-ORIGINAL-URL:https://keinschrittnachrechts.de
X-WR-CALDESC:Veranstaltungen für Kein Schritt nach rechts
REFRESH-INTERVAL;VALUE=DURATION:PT1H
X-Robots-Tag:noindex
X-PUBLISHED-TTL:PT1H
BEGIN:VTIMEZONE
TZID:Europe/Berlin
BEGIN:DAYLIGHT
TZOFFSETFROM:+0100
TZOFFSETTO:+0200
TZNAME:CEST
DTSTART:20230326T010000
END:DAYLIGHT
BEGIN:STANDARD
TZOFFSETFROM:+0200
TZOFFSETTO:+0100
TZNAME:CET
DTSTART:20231029T010000
END:STANDARD
BEGIN:DAYLIGHT
TZOFFSETFROM:+0100
TZOFFSETTO:+0200
TZNAME:CEST
DTSTART:20240331T010000
END:DAYLIGHT
BEGIN:STANDARD
TZOFFSETFROM:+0200
TZOFFSETTO:+0100
TZNAME:CET
DTSTART:20241027T010000
END:STANDARD
BEGIN:DAYLIGHT
TZOFFSETFROM:+0100
TZOFFSETTO:+0200
TZNAME:CEST
DTSTART:20250330T010000
END:DAYLIGHT
BEGIN:STANDARD
TZOFFSETFROM:+0200
TZOFFSETTO:+0100
TZNAME:CET
DTSTART:20251026T010000
END:STANDARD
END:VTIMEZONE
BEGIN:VEVENT
DTSTART;TZID=Europe/Berlin:20241127T190000
DTEND;TZID=Europe/Berlin:20241127T203000
DTSTAMP:20260426T063549
CREATED:20240724T195558Z
LAST-MODIFIED:20240724T195558Z
UID:608-1732734000-1732739400@keinschrittnachrechts.de
SUMMARY:Extern | VHS: „Die Familien Hermann und Oskar Sipper in Heidelberg“
DESCRIPTION:Die Familien Sipper gehören zu den zahlreichen jüdischen Familien\, die schon vor dem 1. Weltkrieg aus Galizien und anderen Teilen der Habsburger Monarchie ausgewandert sind. Als Kaufleute und Mitglieder der orthodoxen Gemeinde gehörten sie zur Heidelberger Stadtgesellschaft. \nNorbert Giovannini war Lehrer und Dozent an der Pädagogischen Hochschule in Heidelberg. Er ist Autor und Herausgeber von zahlreichen Veröffentlichungen zur Hochschulgeschichte\, zur jüdischen Geschichte und zur Stadtgeschichte Heidelbergs. (weiter)
URL:https://keinschrittnachrechts.de/event/extern-vhs-die-familien-hermann-und-oskar-sipper-in-heidelberg
LOCATION:Volkshochschule Heidelberg\, Bergheimer Straße 76\, Heidelberg\, 69115
CATEGORIES:Externe Veranstaltungen
END:VEVENT
END:VCALENDAR