BEGIN:VCALENDAR
VERSION:2.0
PRODID:-//Kein Schritt nach rechts - ECPv6.15.20//NONSGML v1.0//EN
CALSCALE:GREGORIAN
METHOD:PUBLISH
X-WR-CALNAME:Kein Schritt nach rechts
X-ORIGINAL-URL:https://keinschrittnachrechts.de
X-WR-CALDESC:Veranstaltungen für Kein Schritt nach rechts
REFRESH-INTERVAL;VALUE=DURATION:PT1H
X-Robots-Tag:noindex
X-PUBLISHED-TTL:PT1H
BEGIN:VTIMEZONE
TZID:Europe/Berlin
BEGIN:DAYLIGHT
TZOFFSETFROM:+0100
TZOFFSETTO:+0200
TZNAME:CEST
DTSTART:20240331T010000
END:DAYLIGHT
BEGIN:STANDARD
TZOFFSETFROM:+0200
TZOFFSETTO:+0100
TZNAME:CET
DTSTART:20241027T010000
END:STANDARD
BEGIN:DAYLIGHT
TZOFFSETFROM:+0100
TZOFFSETTO:+0200
TZNAME:CEST
DTSTART:20250330T010000
END:DAYLIGHT
BEGIN:STANDARD
TZOFFSETFROM:+0200
TZOFFSETTO:+0100
TZNAME:CET
DTSTART:20251026T010000
END:STANDARD
BEGIN:DAYLIGHT
TZOFFSETFROM:+0100
TZOFFSETTO:+0200
TZNAME:CEST
DTSTART:20260329T010000
END:DAYLIGHT
BEGIN:STANDARD
TZOFFSETFROM:+0200
TZOFFSETTO:+0100
TZNAME:CET
DTSTART:20261025T010000
END:STANDARD
END:VTIMEZONE
BEGIN:VEVENT
DTSTART;TZID=Europe/Berlin:20250919T140000
DTEND;TZID=Europe/Berlin:20250919T170000
DTSTAMP:20260425T215019
CREATED:20250829T104249Z
LAST-MODIFIED:20250829T104249Z
UID:2282-1758290400-1758301200@keinschrittnachrechts.de
SUMMARY:Extern | 2030 SDGs Game @ Heidelberg School of Education
DESCRIPTION:Das 2030 SDGs Game\nWie bringen wir die Welt nachhaltig ins Jahr 2030? Und was bedeutet Nachhaltigkeit für uns als Einzelpersonen bzw. als Bildungseinrichtung\, Organisation oder Community? \nDieses kurzweilige Simulationsspiel fördert den Austausch und das Verständnis für globale Herausforderungen und systemische Zusammenhänge\, ebenso wie Eigenverantwortung und Motivation hin zu konkreten nächsten Schritten. Es macht die Intention hinter den Zielen für nachhaltige Entwicklung\, und die Wichtigkeit gemeinsamer messbarer Ziele und transparenter Kommunikation eindrücklich erlebbar. \nWeitere Infos (externer Link):\nhttps://www.eventbrite.at/e/2030-sdgs-game-heidelberg-school-of-education-heidelberg-sep-2025-tickets-1448939199149
URL:https://keinschrittnachrechts.de/event/extern-2030-sdgs-game-heidelberg-school-of-education
LOCATION:Geographisches Institut der Universität Heidelberg\, Im Neuenheimer Feld 348\, Heidelberg\, 69120\, Germany
CATEGORIES:Externe Veranstaltungen
END:VEVENT
END:VCALENDAR