BEGIN:VCALENDAR
VERSION:2.0
PRODID:-//Kein Schritt nach rechts - ECPv6.15.20//NONSGML v1.0//EN
CALSCALE:GREGORIAN
METHOD:PUBLISH
X-ORIGINAL-URL:https://keinschrittnachrechts.de
X-WR-CALDESC:Veranstaltungen für Kein Schritt nach rechts
REFRESH-INTERVAL;VALUE=DURATION:PT1H
X-Robots-Tag:noindex
X-PUBLISHED-TTL:PT1H
BEGIN:VTIMEZONE
TZID:Europe/Berlin
BEGIN:DAYLIGHT
TZOFFSETFROM:+0100
TZOFFSETTO:+0200
TZNAME:CEST
DTSTART:20250330T010000
END:DAYLIGHT
BEGIN:STANDARD
TZOFFSETFROM:+0200
TZOFFSETTO:+0100
TZNAME:CET
DTSTART:20251026T010000
END:STANDARD
BEGIN:DAYLIGHT
TZOFFSETFROM:+0100
TZOFFSETTO:+0200
TZNAME:CEST
DTSTART:20260329T010000
END:DAYLIGHT
BEGIN:STANDARD
TZOFFSETFROM:+0200
TZOFFSETTO:+0100
TZNAME:CET
DTSTART:20261025T010000
END:STANDARD
BEGIN:DAYLIGHT
TZOFFSETFROM:+0100
TZOFFSETTO:+0200
TZNAME:CEST
DTSTART:20270328T010000
END:DAYLIGHT
BEGIN:STANDARD
TZOFFSETFROM:+0200
TZOFFSETTO:+0100
TZNAME:CET
DTSTART:20271031T010000
END:STANDARD
END:VTIMEZONE
BEGIN:VEVENT
DTSTART;TZID=Europe/Berlin:20260510T100000
DTEND;TZID=Europe/Berlin:20260510T190000
DTSTAMP:20260422T032309
CREATED:20260327T195321Z
LAST-MODIFIED:20260327T200619Z
UID:3188-1778407200-1778439600@keinschrittnachrechts.de
SUMMARY:Extern | Alternativer Frühlingsmarkt "Friiling uffm Willi"
DESCRIPTION:Alternativer Frühlingsmarkt Heidelberg-Weststadte \nAuch in diesem Jahr lädt die Zukunftswerkstatt Weststadt mit Ihren Kooperationspartner*innen wieder zu einem alternativen Frühlingsmarkt auf dem „Willi“ ein. In den vergangenen 3 Jahren stieß dieser auf sehr positives Feedback beim Publikum und den teilnehmenden Vereinen und Einrichtungen. Der zuvor viele Jahre stattfindende alternative Weihnachtsmarkt hat sich erfolgreich zum Frühlingsmarkt gewandelt und begründet sicher eine neue Tradition in der Weststadt. \nWas sich nicht geändert hat\, ist der alternative Gedanke der Initiative\, der die Menschen und das solidarische Miteinander in den Fokus stellt. In diesem Sinne stellen sich etwa 40 gemeinnützige Vereine und Einrichtungen vor\, laden zum Austausch und Mitmachen ein und bieten ihre nachhaltigen Waren an. Neben der Möglichkeit\, in dem Angebot zu stöbern wird selbstverständlich auch für das leibliche Wohl mit allerlei Leckereien gesorgt. Auch die kleinen Besucher*innen dürfen wieder aktiv werden und jede Menge raten und spielen\, basteln und pflanzen. Für das musikalische Programm sorgt Fusioniert e.V. mit lokalen Künstler*innen. \nMit einem Stand von Kein Schritt Nach Rechts. \nWeitere Informationen (externer Link): \nhttps://zukunftswerkstatt-weststadt.de/includes/index.php
URL:https://keinschrittnachrechts.de/event/extern-alternativer-fruehlingsmarkt-friiling-uffm-willi
LOCATION:Wilhemsplatz Heidelberg\, Wilhemsplatz\, Heidelberg\, 69115\, Germany
CATEGORIES:Externe Veranstaltungen
END:VEVENT
END:VCALENDAR