BEGIN:VCALENDAR
VERSION:2.0
PRODID:-//Kein Schritt nach rechts - ECPv6.15.20//NONSGML v1.0//EN
CALSCALE:GREGORIAN
METHOD:PUBLISH
X-WR-CALNAME:Kein Schritt nach rechts
X-ORIGINAL-URL:https://keinschrittnachrechts.de
X-WR-CALDESC:Veranstaltungen für Kein Schritt nach rechts
REFRESH-INTERVAL;VALUE=DURATION:PT1H
X-Robots-Tag:noindex
X-PUBLISHED-TTL:PT1H
BEGIN:VTIMEZONE
TZID:Europe/Berlin
BEGIN:DAYLIGHT
TZOFFSETFROM:+0100
TZOFFSETTO:+0200
TZNAME:CEST
DTSTART:20240331T010000
END:DAYLIGHT
BEGIN:STANDARD
TZOFFSETFROM:+0200
TZOFFSETTO:+0100
TZNAME:CET
DTSTART:20241027T010000
END:STANDARD
BEGIN:DAYLIGHT
TZOFFSETFROM:+0100
TZOFFSETTO:+0200
TZNAME:CEST
DTSTART:20250330T010000
END:DAYLIGHT
BEGIN:STANDARD
TZOFFSETFROM:+0200
TZOFFSETTO:+0100
TZNAME:CET
DTSTART:20251026T010000
END:STANDARD
BEGIN:DAYLIGHT
TZOFFSETFROM:+0100
TZOFFSETTO:+0200
TZNAME:CEST
DTSTART:20260329T010000
END:DAYLIGHT
BEGIN:STANDARD
TZOFFSETFROM:+0200
TZOFFSETTO:+0100
TZNAME:CET
DTSTART:20261025T010000
END:STANDARD
END:VTIMEZONE
BEGIN:VEVENT
DTSTART;TZID=Europe/Berlin:20251002T180000
DTEND;TZID=Europe/Berlin:20251002T190000
DTSTAMP:20260425T132058
CREATED:20250908T093756Z
LAST-MODIFIED:20250908T093756Z
UID:2343-1759428000-1759431600@keinschrittnachrechts.de
SUMMARY:Extern | Film "Kein Land für Niemand - Abschottung eines Einwanderungslandes" und Filmgespräch im Gloria Kino
DESCRIPTION:KEIN LAND FÜR NIEMAND – Abschottung eines Einwanderungslandes\nFilm von Max Ahrens und Maik Lüdemann \nEuropa zieht die Mauern hoch – mitten in einer humanitären Katastrophe. Der Dokumentarfilm „Kein Land für Niemand – Abschottung eines Einwanderungslandes“ beleuchtet die drastischen Folgen der europäischen Abschottungspolitik und die Rolle Deutschlands in diesem Paradigmenwechsel. \nDie Dokumentation „Kein Land für Niemand” begleitet eine Rettungsmission im Mittelmeer\, zeigt die katastrophalen Zustände in Lagern für Geflüchtete und gibt Menschen eine Stimme\, die den lebensgefährlichen Weg nach Europa überlebt haben. Gleichzeitig blickt der Film auf die politische und gesellschaftliche Entwicklung in Deutschland: Ein erstarkender Rechtspopulismus prägt den Diskurs. Flucht und Migration werden zunehmend kriminalisiert\, und humanitäre Hilfe gerät unter Druck. \nDeutschland gibt hier immer wieder den Takt vor und Europa zieht nach. Durch exklusive Interviews mit Wissenschaftlerinnen\, politischen Entscheidungsträgerinnen und Aktivist*innen hinterfragt „Kein Land für Niemand“ die aktuellen Narrative über Flucht und Migration und beleuchtet die Mechanismen\, mit denen Angst und Populismus die politische Agenda bestimmen. Wie konnte es so weit kommen? Und welche Alternativen gibt es zu einem Europa\, das sich immer weiter abschottet? \nSondervorstellung am Donnerstag\, 02.10. um 18:00 Uhr im Gloria. Anschließend Filmgespräch mit Gästen. \nIn Zusammenarbeit mit Kein Schritt nach Rechts. \nWeitere Informationen (externer Link): \nhttps://www.gloria-kamera-kinos.de/de/programm-specials
URL:https://keinschrittnachrechts.de/event/extern-film-kein-land-fuer-niemand-abschottung-eines-einwanderungslandes-und-filmgespraech-im-gloria-kino
LOCATION:Gloria Kino\, Hauptstr. 146\, Heidelberg\, Germany
CATEGORIES:Externe Veranstaltungen
END:VEVENT
END:VCALENDAR