BEGIN:VCALENDAR
VERSION:2.0
PRODID:-//Kein Schritt nach rechts - ECPv6.15.20//NONSGML v1.0//EN
CALSCALE:GREGORIAN
METHOD:PUBLISH
X-WR-CALNAME:Kein Schritt nach rechts
X-ORIGINAL-URL:https://keinschrittnachrechts.de
X-WR-CALDESC:Veranstaltungen für Kein Schritt nach rechts
REFRESH-INTERVAL;VALUE=DURATION:PT1H
X-Robots-Tag:noindex
X-PUBLISHED-TTL:PT1H
BEGIN:VTIMEZONE
TZID:Europe/Berlin
BEGIN:DAYLIGHT
TZOFFSETFROM:+0100
TZOFFSETTO:+0200
TZNAME:CEST
DTSTART:20240331T010000
END:DAYLIGHT
BEGIN:STANDARD
TZOFFSETFROM:+0200
TZOFFSETTO:+0100
TZNAME:CET
DTSTART:20241027T010000
END:STANDARD
BEGIN:DAYLIGHT
TZOFFSETFROM:+0100
TZOFFSETTO:+0200
TZNAME:CEST
DTSTART:20250330T010000
END:DAYLIGHT
BEGIN:STANDARD
TZOFFSETFROM:+0200
TZOFFSETTO:+0100
TZNAME:CET
DTSTART:20251026T010000
END:STANDARD
BEGIN:DAYLIGHT
TZOFFSETFROM:+0100
TZOFFSETTO:+0200
TZNAME:CEST
DTSTART:20260329T010000
END:DAYLIGHT
BEGIN:STANDARD
TZOFFSETFROM:+0200
TZOFFSETTO:+0100
TZNAME:CET
DTSTART:20261025T010000
END:STANDARD
END:VTIMEZONE
BEGIN:VEVENT
DTSTART;TZID=Europe/Berlin:20250201T120000
DTEND;TZID=Europe/Berlin:20250201T150000
DTSTAMP:20260426T023802
CREATED:20250127T185926Z
LAST-MODIFIED:20250127T185926Z
UID:1272-1738411200-1738422000@keinschrittnachrechts.de
SUMMARY:Extern | Demo: Walldorf solidarisch
DESCRIPTION:Walldorf solidarisch – Für eine offene und menschenfreundliche Gesellschaft!\n\nKundgebung auf dem Marktplatz mit Redebeiträgen\, Infoständen und kulturellen Programmpunkten.
URL:https://keinschrittnachrechts.de/event/extern-demo-walldorf-solidarisch
LOCATION:Walldorf Marktplatz\, Marktplatz\, Walldorf\, Germany
CATEGORIES:Externe Veranstaltungen
END:VEVENT
END:VCALENDAR