BEGIN:VCALENDAR
VERSION:2.0
PRODID:-//Kein Schritt nach rechts - ECPv6.15.20//NONSGML v1.0//EN
CALSCALE:GREGORIAN
METHOD:PUBLISH
X-WR-CALNAME:Kein Schritt nach rechts
X-ORIGINAL-URL:https://keinschrittnachrechts.de
X-WR-CALDESC:Veranstaltungen für Kein Schritt nach rechts
REFRESH-INTERVAL;VALUE=DURATION:PT1H
X-Robots-Tag:noindex
X-PUBLISHED-TTL:PT1H
BEGIN:VTIMEZONE
TZID:Europe/Berlin
BEGIN:DAYLIGHT
TZOFFSETFROM:+0100
TZOFFSETTO:+0200
TZNAME:CEST
DTSTART:20240331T010000
END:DAYLIGHT
BEGIN:STANDARD
TZOFFSETFROM:+0200
TZOFFSETTO:+0100
TZNAME:CET
DTSTART:20241027T010000
END:STANDARD
BEGIN:DAYLIGHT
TZOFFSETFROM:+0100
TZOFFSETTO:+0200
TZNAME:CEST
DTSTART:20250330T010000
END:DAYLIGHT
BEGIN:STANDARD
TZOFFSETFROM:+0200
TZOFFSETTO:+0100
TZNAME:CET
DTSTART:20251026T010000
END:STANDARD
BEGIN:DAYLIGHT
TZOFFSETFROM:+0100
TZOFFSETTO:+0200
TZNAME:CEST
DTSTART:20260329T010000
END:DAYLIGHT
BEGIN:STANDARD
TZOFFSETFROM:+0200
TZOFFSETTO:+0100
TZNAME:CET
DTSTART:20261025T010000
END:STANDARD
END:VTIMEZONE
BEGIN:VEVENT
DTSTART;TZID=Europe/Berlin:20251018T200000
DTEND;TZID=Europe/Berlin:20251018T200000
DTSTAMP:20260425T133127
CREATED:20250722T210203Z
LAST-MODIFIED:20250915T142939Z
UID:2164-1760817600-1760817600@keinschrittnachrechts.de
SUMMARY:Extern | Mehrfachzugehörigkeit leben - Panel Talk über migrantische Queerness\, Community-Arbeit und Sichtbarkeit
DESCRIPTION:(Nachholtermin vom abgesagten Termin vom 12.07.) \nIn einem persönlichen Gespräch zwischen Zuher Jazmati\, Co-Gründer von „Adira“ – einer Plattform für queere BIPoC – und Melissa Kolukisagil\, Gründerin des „Iç Içe“-Festivals\, geht es um das Zusammenspiel von politischem Aktivismus und persönlichen Erfahrungen: um Mehrfachzugehörigkeiten\, um queere\, migrantische Kulturräume\, um Sichtbarkeit – und vor allem um die Frage\, was Community-Arbeit heute leisten kann. \nWas braucht es\, damit „Community“ nicht nur ein Schlagwort bleibt\, sondern in solidarisches Handeln übergeht? Welche Herausforderungen bringt die Arbeit mit sich – und wo liegt ihr transformatives Potenzial? Wie beeinflusst Mehrfachzugehörigkeit das Erleben und Gestalten von Gemeinschaft? \nEin Abend zum Zuhören\, Austauschen und gemeinsamen Weiterdenken. Im Anschluss an das Gespräch geht es weiter an den Plattentellern mit der Iç Içe Klubnacht. \nWeitere Informationen (externer Link): \nhttps://www.karlstorbahnhof.de/programm/veranstaltung/mehrfachzugehoerigkeit-leben-2/
URL:https://keinschrittnachrechts.de/event/extern-mehrfachzugehoerigkeit-leben-panel-talk-ueber-migrantische-queerness-community-arbeit-und-sichtbarkeit-2
LOCATION:Karlstorbahnhof (Südstadt)\, Marlene-Dietrich-Platz 3\, Heidelberg\, Germany
CATEGORIES:Externe Veranstaltungen
END:VEVENT
END:VCALENDAR