BEGIN:VCALENDAR
VERSION:2.0
PRODID:-//Kein Schritt nach rechts - ECPv6.15.20//NONSGML v1.0//EN
CALSCALE:GREGORIAN
METHOD:PUBLISH
X-ORIGINAL-URL:https://keinschrittnachrechts.de
X-WR-CALDESC:Veranstaltungen für Kein Schritt nach rechts
REFRESH-INTERVAL;VALUE=DURATION:PT1H
X-Robots-Tag:noindex
X-PUBLISHED-TTL:PT1H
BEGIN:VTIMEZONE
TZID:Europe/Berlin
BEGIN:DAYLIGHT
TZOFFSETFROM:+0100
TZOFFSETTO:+0200
TZNAME:CEST
DTSTART:20240331T010000
END:DAYLIGHT
BEGIN:STANDARD
TZOFFSETFROM:+0200
TZOFFSETTO:+0100
TZNAME:CET
DTSTART:20241027T010000
END:STANDARD
BEGIN:DAYLIGHT
TZOFFSETFROM:+0100
TZOFFSETTO:+0200
TZNAME:CEST
DTSTART:20250330T010000
END:DAYLIGHT
BEGIN:STANDARD
TZOFFSETFROM:+0200
TZOFFSETTO:+0100
TZNAME:CET
DTSTART:20251026T010000
END:STANDARD
BEGIN:DAYLIGHT
TZOFFSETFROM:+0100
TZOFFSETTO:+0200
TZNAME:CEST
DTSTART:20260329T010000
END:DAYLIGHT
BEGIN:STANDARD
TZOFFSETFROM:+0200
TZOFFSETTO:+0100
TZNAME:CET
DTSTART:20261025T010000
END:STANDARD
END:VTIMEZONE
BEGIN:VEVENT
DTSTART;TZID=Europe/Berlin:20251027T130000
DTEND;TZID=Europe/Berlin:20251027T170000
DTSTAMP:20260425T134730
CREATED:20251009T174556Z
LAST-MODIFIED:20251009T175151Z
UID:2455-1761570000-1761584400@keinschrittnachrechts.de
SUMMARY:Extern | WORKSHOP Lasst die Bubble platzen! - zur Stärkung der Medien- und Informationskompetenz und Sensibilisierung
DESCRIPTION:Mo 27.10.2025 13.00 Uhr bis 17.00 Uhr\, Diakonisches Werk der Evang. Kirche Heidelberg\, Karl-Ludwig-Str. 6\, 69117 HD\, Konferenzraum\,1.OG \nInteraktiver Workshop zur Stärkung der Medien- und Informationskompetenz und Sensibilisierung für Strategien von Desinformation und Denkverzerrung.\nDie Teilnehmenden lernen\, Informationsquellen kritisch zu hinterfragen und werden in ihrer Urteilsfähigkeit und Meinungsbildung gestärkt. \nAnmeldung unter: informiert-engagiert@dwhd.de \nVeranstalter: Diakonisches Werk der Evangelischen Kirche Heidelberg; Asylarbeitskreis Heidelberg e.V.\, Caritasverband Heidelberg e.V. & Mosaik Deutschland e.V.
URL:https://keinschrittnachrechts.de/event/extern-workshop-lasst-die-bubble-platzen-zur-staerkung-der-medien-und-informationskompetenz-und-sensibilisierung
LOCATION:Diakonisches Werk der Evang. Kirche Heidelberg (Konferenzraum 1.OG)\, Karl-Ludwig-Str. 6\, Heidelberg\, 69117\, Germany
CATEGORIES:Externe Veranstaltungen
END:VEVENT
END:VCALENDAR