BEGIN:VCALENDAR
VERSION:2.0
PRODID:-//Kein Schritt nach rechts - ECPv6.15.20//NONSGML v1.0//EN
CALSCALE:GREGORIAN
METHOD:PUBLISH
X-WR-CALNAME:Kein Schritt nach rechts
X-ORIGINAL-URL:https://keinschrittnachrechts.de
X-WR-CALDESC:Veranstaltungen für Kein Schritt nach rechts
REFRESH-INTERVAL;VALUE=DURATION:PT1H
X-Robots-Tag:noindex
X-PUBLISHED-TTL:PT1H
BEGIN:VTIMEZONE
TZID:Europe/Berlin
BEGIN:DAYLIGHT
TZOFFSETFROM:+0100
TZOFFSETTO:+0200
TZNAME:CEST
DTSTART:20240331T010000
END:DAYLIGHT
BEGIN:STANDARD
TZOFFSETFROM:+0200
TZOFFSETTO:+0100
TZNAME:CET
DTSTART:20241027T010000
END:STANDARD
BEGIN:DAYLIGHT
TZOFFSETFROM:+0100
TZOFFSETTO:+0200
TZNAME:CEST
DTSTART:20250330T010000
END:DAYLIGHT
BEGIN:STANDARD
TZOFFSETFROM:+0200
TZOFFSETTO:+0100
TZNAME:CET
DTSTART:20251026T010000
END:STANDARD
BEGIN:DAYLIGHT
TZOFFSETFROM:+0100
TZOFFSETTO:+0200
TZNAME:CEST
DTSTART:20260329T010000
END:DAYLIGHT
BEGIN:STANDARD
TZOFFSETFROM:+0200
TZOFFSETTO:+0100
TZNAME:CET
DTSTART:20261025T010000
END:STANDARD
END:VTIMEZONE
BEGIN:VEVENT
DTSTART;TZID=Europe/Berlin:20250917T170000
DTEND;TZID=Europe/Berlin:20250917T200000
DTSTAMP:20260425T175834
CREATED:20250903T165034Z
LAST-MODIFIED:20250903T165034Z
UID:2306-1758128400-1758139200@keinschrittnachrechts.de
SUMMARY:Extern | Stadtbücherei: Zivilcourage kann man lernen – Workshop Zivilcourage-Training
DESCRIPTION:Der Einladungstext der Veranstalter:\n„Wir nähern uns in einer vertrauensvollen Atmosphäre dem Thema „Zivilcourage“. Theoretische Wissensvermittlung und praktische Trainingseinheiten wechseln sich ab und werden durch direkte Informationen der Polizei ergänzt. Dabei wird auf ein lösungsorientiertes „Verhalten im Ernstfall“ hingearbeitet. Das Seminar wird geleitet von der Theaterpädagogin Stefanie Ferdinand und Polizeioberkommissar Knut Krakow vom Referat Prävention des Polizeipräsidiums Mannheim. \nEintritt frei\, Anmeldung erforderlich: stadtbuecherei.information@heidelberg.de\nMindestalter: 16 Jahre \nKooperation von Stadtbücherei\, Stadt Heidelberg\, SicherHeid e.V“ \nWeitere Informationen: (Externer Link) \nhttps://www.heidelberg-stadtbuecherei.de/site/HD_Satelliten/node/958161/zmdetail_27928701/index.html?nodeID=27928701
URL:https://keinschrittnachrechts.de/event/extern-stadtbuecherei-zivilcourage-kann-man-lernen-workshop-zivilcourage-training
LOCATION:Stadtbücherei Heidelberg\, Poststraße 15\, Heidelberg
CATEGORIES:Externe Veranstaltungen
END:VEVENT
BEGIN:VEVENT
DTSTART;TZID=Europe/Berlin:20250917T180000
DTEND;TZID=Europe/Berlin:20250917T180000
DTSTAMP:20260425T175834
CREATED:20250829T105622Z
LAST-MODIFIED:20250829T105622Z
UID:2296-1758132000-1758132000@keinschrittnachrechts.de
SUMMARY:Extern | Zines-Workshop
DESCRIPTION:Zines sind kleine\, selbstgemachte Magazine. Gerade marginalisierte und diskriminierte Menschen haben Zines verwendet\, um ihre Geschichten zu erzählen und für sich Sichtbarkeit zu erkämpfen. Mit Zines können wir aufklären\, informieren und unsere Kunst teilen. \nZiel dieses Workshops ist es zu lernen\, wie unterschiedliche Zines hergestellt werden können und sich mit Körperlichkeit auseinanderzusetzen. \nKosten: 5€ \nMaterial gibt es von uns. Bringt aber gerne Zeitschriften oder Texte zum Zerschneiden und Basteln mit. \nAnmeldung: mailto:solarpunk.hd@gmail.com
URL:https://keinschrittnachrechts.de/event/extern-zines-workshop
LOCATION:Luise\, Luisenstraße 1-3\, Heidelberg\, 69115\, Germany
CATEGORIES:Externe Veranstaltungen
END:VEVENT
END:VCALENDAR