BEGIN:VCALENDAR
VERSION:2.0
PRODID:-//Kein Schritt nach rechts - ECPv6.15.20//NONSGML v1.0//EN
CALSCALE:GREGORIAN
METHOD:PUBLISH
X-ORIGINAL-URL:https://keinschrittnachrechts.de
X-WR-CALDESC:Veranstaltungen für Kein Schritt nach rechts
REFRESH-INTERVAL;VALUE=DURATION:PT1H
X-Robots-Tag:noindex
X-PUBLISHED-TTL:PT1H
BEGIN:VTIMEZONE
TZID:Europe/Berlin
BEGIN:DAYLIGHT
TZOFFSETFROM:+0100
TZOFFSETTO:+0200
TZNAME:CEST
DTSTART:20250330T010000
END:DAYLIGHT
BEGIN:STANDARD
TZOFFSETFROM:+0200
TZOFFSETTO:+0100
TZNAME:CET
DTSTART:20251026T010000
END:STANDARD
BEGIN:DAYLIGHT
TZOFFSETFROM:+0100
TZOFFSETTO:+0200
TZNAME:CEST
DTSTART:20260329T010000
END:DAYLIGHT
BEGIN:STANDARD
TZOFFSETFROM:+0200
TZOFFSETTO:+0100
TZNAME:CET
DTSTART:20261025T010000
END:STANDARD
BEGIN:DAYLIGHT
TZOFFSETFROM:+0100
TZOFFSETTO:+0200
TZNAME:CEST
DTSTART:20270328T010000
END:DAYLIGHT
BEGIN:STANDARD
TZOFFSETFROM:+0200
TZOFFSETTO:+0100
TZNAME:CET
DTSTART:20271031T010000
END:STANDARD
END:VTIMEZONE
BEGIN:VEVENT
DTSTART;TZID=Europe/Berlin:20260202T180000
DTEND;TZID=Europe/Berlin:20260202T200000
DTSTAMP:20260425T021330
CREATED:20260124T101816Z
LAST-MODIFIED:20260131T105944Z
UID:2803-1770055200-1770062400@keinschrittnachrechts.de
SUMMARY:KSNR | Workshop: „Stammtischkämpfer*innen“ – Ausbildung
DESCRIPTION:„Stammtischkämpfer*innen“ – Ausbildung\nWie mit potentiell rechten Wähler*innen\, wie mit Sympathisant*innen der AfD sprechen?\nAm Arbeitsplatz\, im Familien- und Freundeskreis\, in den Vereinen\, am Infostand\, bei öffentlichen Veranstaltungen und auch an Stammtischen?\nWie versuchen wir davon zu überzeugen\, nicht den blauen Rattenfänger auf den Leim zu gehen?\nWie unterscheide ich Menschen\, die noch zu erreichen sind und jene\, die wir verloren haben und jene\, die noch nie für Argumente offen waren?\nWo lohnt sich das Gespräch\, wo nicht? \nAm 8. März sind Landtagswahlen im Ländle und mehr als jeder 5. Wahlberechtigte will auch bei uns in Baden-Württemberg sein Kreuz machen\, bei einer „gesichert rechtsextremistischen“ Partei\, so der Verfassungsschutz. Aber es gilt auch mit Angehörigen der etablierten Parteien zu sprechen\, denn deren Politik ist entscheidend vor der Wahl und nach der Wahl bei der Regierungsbildung\, damit die „Brandmauer“ in Baden-Württemberg hält. \nWelche Argumente haben wir\, welche Gesprächstechniken sind hilfreich?\nMit praktischen Übungen wollen wir uns das Handwerkszeug aneignen\, für gelingende Gespräche\, die uns alle und damit auch unsere Demokratie schützen. \n\nDatum/Uhrzeit: Montag\, 2. Februar\, 18.00 – 20:00 Uhr\nOrt: WeltHaus Heidelberg (barrierefrei)\nKurfürsten Anlage 25 (am Römerkreis)\nReferent: Ulrich Wohland\nWerkstatt für Gewaltfreie Aktion\nAnmeldung: über ulrich.wohland@wfga.de\, 0170-8134532 \n  \n  \n 
URL:https://keinschrittnachrechts.de/event/ksnr-workshop-stammtischkaempferinnen-ausbildung
CATEGORIES:Kein Schritt nach Rechts
END:VEVENT
BEGIN:VEVENT
DTSTART;TZID=Europe/Berlin:20260202T190000
DTEND;TZID=Europe/Berlin:20260202T190000
DTSTAMP:20260425T021330
CREATED:20251204T093534Z
LAST-MODIFIED:20260121T163955Z
UID:2683-1770058800-1770058800@keinschrittnachrechts.de
SUMMARY:KSNR | Verschoben vom 19.1.: Treffen und "Soft-Onboarding" des Arbeitskreises Aktion
DESCRIPTION:Das nächste Treffen des Arbeitskreises Aktion trifft findet am Montag\, 2.2. um 19:00 Uhr statt.\n‚Soft-Onboarding‘ heißt\, dass es keine eigene Info-Veranstaltung für Neue ist\, aber der Termin für einen Einstieg besonders gut geeignet ist.\nUnser Thema ist „Wahlkampf kritisch begleiten – Erfahrungen\, Austausch und Brainstorming“. Alle Neuinteressierten sind herzlich willkommen! Wenn du Interesse an diesem Thema und Lust hast\, zum Treffen dazuzukommen\, schreibe uns gerne eine Mail. Wir freuen uns immer über Interesse und neue Menschen!
URL:https://keinschrittnachrechts.de/event/ksnr-treffen-des-arbeitskreises-aktion-4
CATEGORIES:Kein Schritt nach Rechts
END:VEVENT
BEGIN:VEVENT
DTSTART;TZID=Europe/Berlin:20260204T190000
DTEND;TZID=Europe/Berlin:20260204T190000
DTSTAMP:20260425T021330
CREATED:20260121T164417Z
LAST-MODIFIED:20260130T190005Z
UID:2794-1770231600-1770231600@keinschrittnachrechts.de
SUMMARY:KSNR | Treffen des Arbeitskreises Öffentlichkeitsarbeit (Mit Soft-Onboarding)
DESCRIPTION:📣 EINLADUNG\nDu möchtest wissen wie das Bündnis Kein Schritt Nach Rechts funktioniert?\nWie wir als AK ÖA das Bündnis darin unterstützen sicht- und hörbar zu sein?\nUnd Du wolltest schon immer mal wissen\, wie man Demos öffentlich bewirbt und organisiert? \n👉 Dann komm am Mittwoch\, 04.02.2026 um 19 Uhr zu unserem Kennenlernen und kleinen „On-Boarding“!\n🔥 Spannende Wochen liegen vor uns: Wir stecken mitten in der Planung für die Demo am 07.03.2026 zu den anstehenden Landtagswahlen. \n✊ Komm(t) vorbei\, wir freuen uns auf Dich! 📍Ort auf Anfrage per Mail. (barrierearm und rollstuhlgerecht zugänglich). \n \nFür weitere Informationen und falls Du Lust hast\, zum Treffen dazuzukommen\, schreib uns gerne eine Mail.\nWir freuen uns immer über Interesse und neue Menschen! 🙂
URL:https://keinschrittnachrechts.de/event/ksnr-treffen-des-arbeitskreises-oeffentlichkeitsarbeit-mit-soft-onboarding
CATEGORIES:Kein Schritt nach Rechts
END:VEVENT
BEGIN:VEVENT
DTSTART;TZID=Europe/Berlin:20260209T193000
DTEND;TZID=Europe/Berlin:20260209T220000
DTSTAMP:20260425T021330
CREATED:20260121T163804Z
LAST-MODIFIED:20260121T163804Z
UID:2790-1770665400-1770674400@keinschrittnachrechts.de
SUMMARY:KSNR | Treffen des Arbeitskreises Bildung (Mit Soft-Onboarding)
DESCRIPTION:Am Montag\, dem 9. Februar\, 19:30 Uhr trifft sich der Arbeitskreis Bildung im (neuen) WeltHaus Heidelberg (Kurfürsten-Anlage 25. Nähe Römerkreis).\n‚Soft-Onboarding‘ heißt\, dass es keine eigene Info-Veranstaltung für Neue ist\, aber dass wir mit mehr Neuen rechnen und der Termin für einen Einstieg besonders gut geeignet ist. Thema werden u.a. Demosprüche für die große Demo am 7. März sein. Außerdem planen wir Aktionen vor der Wahl. Wir freuen uns auf Euch!  Für weitere Informationen und falls Du Lust hast\, zum Treffen dazuzukommen\, schreibe uns gerne eine Mail. \nEs ist ziemlich bunt\, interessant und abwechslungsreich. Und oft auch lecker. Einfach mal anschauen. 🙂 \nKommt dazu! 🤗
URL:https://keinschrittnachrechts.de/event/ksnr-treffen-des-arbeitskreises-bildung-mit-soft-onboarding
CATEGORIES:Kein Schritt nach Rechts
END:VEVENT
BEGIN:VEVENT
DTSTART;TZID=Europe/Berlin:20260211T190000
DTEND;TZID=Europe/Berlin:20260211T220000
DTSTAMP:20260425T021330
CREATED:20260121T155956Z
LAST-MODIFIED:20260204T163157Z
UID:2788-1770836400-1770847200@keinschrittnachrechts.de
SUMMARY:KSNR | Planungstreffen Gesamtbündnis
DESCRIPTION:Liebe Engagierte\, liebe Bündnispartner:innen\, liebe Interessierte\, herzliche Einladung zu unserem offenen Gesamtplanungstreffen \n👉 Mittwoch\, 11. Feb 2026 ab 19 Uhr (Ort auf Nachfrage\, barrierearm zugänglich)\nWas ist das Offene Planungstreffen?\nDas Planungstreffen findet i.d.R. einmal im Monat statt und ist in unserem Bündnis der Ort des Austauschs zwischen den Arbeitskreisen (AKs).\nEs ist der Ort an dem wir gemeinsam Leerstellen aufdecken\, Lösungen diskutieren und über die grundsätzlichen Bündnisstrukturen entscheiden. \nWir sind bereits aktivistisch ins neue Jahr gestartet und es steht einiges an. Komm(t) dazu\, bring Dich ein! ✊\nWir freuen uns auf Dich – egal wie kurz oder lange du schon dabei bist oder neu dazu stoßen möchtest. 🧡 \nBei Fragen schreibe gerne an: info@keinschrittnachrechts.de
URL:https://keinschrittnachrechts.de/event/ksnr-planungstreffen-gesamtbuendnis-9
CATEGORIES:Kein Schritt nach Rechts
END:VEVENT
BEGIN:VEVENT
DTSTART;TZID=Europe/Berlin:20260214T100000
DTEND;TZID=Europe/Berlin:20260214T160000
DTSTAMP:20260425T021330
CREATED:20260213T143306Z
LAST-MODIFIED:20260213T143306Z
UID:2915-1771063200-1771084800@keinschrittnachrechts.de
SUMMARY:KSNR | AK Bildung auf dem Theaterplatz
DESCRIPTION:An zwei Samstagen sind wir auf dem Thaterplatz zu finden und wollen informieren und diskutieren.\nMit Menschen\, die Hilfestellungen suchen für den Umgang mit potentiell rechten Wähler*innen.\nMit Menschen\, die sich selbst von rechter Wahlwerbung irgendwie angesprochen fühlen und unsicher sind.\nMit Menschen\, die einfach neugierig sind. \nWir haben Werbung für die Demo am 7.3. dabei und erzählen gerne von unserem Bündnis.\nEs ist auch ein Platz\, um sich mit anderen Interessierten auszutauschen. \nAlle zusammen für Menschenwürde. \nWir freuen uns über zahlreiche Besucher. 🙂\nHerzlich willkommen! \n  \n 
URL:https://keinschrittnachrechts.de/event/ksnr-ak-bildung-auf-dem-theaterplatz
LOCATION:Theaterplatz\, Theaterplatz\, Heidelberg
CATEGORIES:Kein Schritt nach Rechts
END:VEVENT
BEGIN:VEVENT
DTSTART;TZID=Europe/Berlin:20260218T180000
DTEND;TZID=Europe/Berlin:20260218T200000
DTSTAMP:20260425T021330
CREATED:20260202T213116Z
LAST-MODIFIED:20260202T213116Z
UID:2837-1771437600-1771444800@keinschrittnachrechts.de
SUMMARY:KSNR | Weiterer Termin! :)  : Workshop: „Stammtischkämpfer*innen“ – Ausbildung
DESCRIPTION:Wegen der hohen Nachfrage wird der Workshop noch zweimal angeboten 🙂   :\n(Mittwoch\, 18.2. und Montag 2.3.)\n„Stammtischkämpfer*innen“ – Ausbildung\nWie mit potentiell rechten Wähler*innen\, wie mit Sympathisant*innen der AfD sprechen?\nAm Arbeitsplatz\, im Familien- und Freundeskreis\, in den Vereinen\, am Infostand\, bei öffentlichen Veranstaltungen und auch an Stammtischen?\nWie versuchen wir davon zu überzeugen\, nicht den blauen Rattenfänger auf den Leim zu gehen?\nWie unterscheide ich Menschen\, die noch zu erreichen sind und jene\, die wir verloren haben und jene\, die noch nie für Argumente offen waren?\nWo lohnt sich das Gespräch\, wo nicht? \nAm 8. März sind Landtagswahlen im Ländle und mehr als jeder 5. Wahlberechtigte will auch bei uns in Baden-Württemberg sein Kreuz machen\, bei einer „gesichert rechtsextremistischen“ Partei\, so der Verfassungsschutz. Aber es gilt auch mit Angehörigen der etablierten Parteien zu sprechen\, denn deren Politik ist entscheidend vor der Wahl und nach der Wahl bei der Regierungsbildung\, damit die „Brandmauer“ in Baden-Württemberg hält. \nWelche Argumente haben wir\, welche Gesprächstechniken sind hilfreich?\nMit praktischen Übungen wollen wir uns das Handwerkszeug aneignen\, für gelingende Gespräche\, die uns alle und damit auch unsere Demokratie schützen. \nDatum/Uhrzeit:Mittwoch\, 18. Februar\, 18.00 – 20:00 Uhr\nOrt: WeltHaus Heidelberg (barrierefrei)\nKurfürsten Anlage 25 (am Römerkreis)\nReferent: Ulrich Wohland\nWerkstatt für Gewaltfreie Aktion\nAnmeldung: über ulrich.wohland@wfga.de\, 0170-8134532 \n  \n  \n 
URL:https://keinschrittnachrechts.de/event/ksnr-weiterer-termin-workshop-stammtischkaempferinnen-ausbildung
CATEGORIES:Kein Schritt nach Rechts
END:VEVENT
BEGIN:VEVENT
DTSTART;TZID=Europe/Berlin:20260219T200000
DTEND;TZID=Europe/Berlin:20260219T200000
DTSTAMP:20260425T021330
CREATED:20260211T165721Z
LAST-MODIFIED:20260211T165721Z
UID:2911-1771531200-1771531200@keinschrittnachrechts.de
SUMMARY:KSNR | Treffen des Arbeitskreises Öffentlichkeitsarbeit
DESCRIPTION:Am Donnerstag\, dem 19. Februar um 20 Uhr trifft sich der Arbeitskreis Öffentlichkeitsarbeit. (Das ist dann nach der Demo:\nhttps://keinschrittnachrechts.de/event/extern-erinnern-veraendern-demo-zum-gedenken-der-opfern-des-rassistischen-anschlags-von-hanau   ) \nFür weitere Informationen und falls Du Lust hast\, zum Treffen dazuzukommen\, schreib uns gerne eine Mail. \nWir freuen uns immer über Interesse und neue Menschen! 🙂 \nKommt dazu! 🤗
URL:https://keinschrittnachrechts.de/event/ksnr-treffen-des-arbeitskreises-oeffentlichkeitsarbeit-19
CATEGORIES:Kein Schritt nach Rechts
END:VEVENT
BEGIN:VEVENT
DTSTART;TZID=Europe/Berlin:20260220T170000
DTEND;TZID=Europe/Berlin:20260220T170000
DTSTAMP:20260425T021330
CREATED:20260212T171447Z
LAST-MODIFIED:20260212T171447Z
UID:2940-1771606800-1771606800@keinschrittnachrechts.de
SUMMARY:KSNR | Treffen des Arbeitskreises Finanzen
DESCRIPTION:Am Freitag\, dem 20. Februar um 17.00 Uhr trifft sich der Arbeitskreis Finanzen. Für weitere Informationen und falls Du Lust hast\, zum Treffen dazuzukommen\, schreibe uns gerne eine Mail. \n\n\nWir freuen uns immer über Interesse und neue Menschen!
URL:https://keinschrittnachrechts.de/event/ksnr-treffen-des-arbeitskreises-finanzen-7
CATEGORIES:Kein Schritt nach Rechts
END:VEVENT
BEGIN:VEVENT
DTSTART;TZID=Europe/Berlin:20260222T160000
DTEND;TZID=Europe/Berlin:20260222T200000
DTSTAMP:20260425T021330
CREATED:20260206T161915Z
LAST-MODIFIED:20260206T162248Z
UID:2848-1771776000-1771790400@keinschrittnachrechts.de
SUMMARY:KSNR | Demo-Plakate malen
DESCRIPTION:Du willst bereit sein für den Aufstand mit Anstand am 7. März? Du siehst immer coole Plakate und denkst dir: „Das brauche ich für die nächste Demo!“? Dann sei am 22. Februar dabei\, wenn wir gemeinsam Plakate und ein Banner malen! \nWo? Chapel – Raum für Stadtkultur\, Rheinstr. 12/4\, 69126 Heidelberg \nWann? Sonntag\, 22. Februar\, 16 Uhr \nFarbe und Unterlagen haben wir. Bringt gerne Karton oder anderes Plakatmaterial mit. \nWir freuen uns\, wenn ihr uns per Mail an akkultur@keinschrittnachrechts.de vorab Bescheid gebt. \n 
URL:https://keinschrittnachrechts.de/event/ksnr-demo-plakate-malen
LOCATION:CHAPEL Raum für Stadtkultur e.V.\, Rheinstr. 12 / 4\, Heidelberg\, 69126
CATEGORIES:Kein Schritt nach Rechts
END:VEVENT
BEGIN:VEVENT
DTSTART;TZID=Europe/Berlin:20260224T190000
DTEND;TZID=Europe/Berlin:20260224T220000
DTSTAMP:20260425T021330
CREATED:20260127T130248Z
LAST-MODIFIED:20260127T130332Z
UID:2814-1771959600-1771970400@keinschrittnachrechts.de
SUMMARY:KSNR | Treffen des Arbeitskreises Kultur
DESCRIPTION:  \nAm Dienstag\, dem 24. Februar 2026 um 19 Uhr trifft sich der Arbeitskreis Kultur. Für weitere Informationen und falls du Lust hast\, zum Treffen dazuzukommen\, schreib uns gerne eine Mail. \nWir freuen uns immer über Interesse und neue Menschen!
URL:https://keinschrittnachrechts.de/event/ksnr-treffen-des-arbeitskreises-kultur-12
CATEGORIES:Kein Schritt nach Rechts
END:VEVENT
BEGIN:VEVENT
DTSTART;TZID=Europe/Berlin:20260228T100000
DTEND;TZID=Europe/Berlin:20260228T160000
DTSTAMP:20260425T021330
CREATED:20260213T143646Z
LAST-MODIFIED:20260213T143646Z
UID:2947-1772272800-1772294400@keinschrittnachrechts.de
SUMMARY:KSNR | AK Bildung auf dem Theaterplatz
DESCRIPTION:An zwei Samstagen sind wir auf dem Thaterplatz zu finden und wollen informieren und diskutieren.\nMit Menschen\, die Hilfestellungen suchen für den Umgang mit potentiell rechten Wähler*innen.\nMit Menschen\, die sich selbst von rechter Wahlwerbung irgendwie angesprochen fühlen und unsicher sind.\nMit Menschen\, die einfach neugierig sind. \nWir haben Werbung für die Demo am 7.3. dabei und erzählen gerne von unserem Bündnis.\nEs ist auch ein Platz\, um sich mit anderen Interessierten auszutauschen. \nAlle zusammen für Menschenwürde. \nWir freuen uns über zahlreiche Besucher. 🙂\nHerzlich willkommen!
URL:https://keinschrittnachrechts.de/event/ksnr-ak-bildung-auf-dem-theaterplatz-2
LOCATION:Theaterplatz\, Theaterplatz\, Heidelberg
CATEGORIES:Kein Schritt nach Rechts
END:VEVENT
END:VCALENDAR