BEGIN:VCALENDAR
VERSION:2.0
PRODID:-//Kein Schritt nach rechts - ECPv6.15.20//NONSGML v1.0//EN
CALSCALE:GREGORIAN
METHOD:PUBLISH
X-WR-CALNAME:Kein Schritt nach rechts
X-ORIGINAL-URL:https://keinschrittnachrechts.de
X-WR-CALDESC:Veranstaltungen für Kein Schritt nach rechts
REFRESH-INTERVAL;VALUE=DURATION:PT1H
X-Robots-Tag:noindex
X-PUBLISHED-TTL:PT1H
BEGIN:VTIMEZONE
TZID:Europe/Berlin
BEGIN:DAYLIGHT
TZOFFSETFROM:+0100
TZOFFSETTO:+0200
TZNAME:CEST
DTSTART:20250330T010000
END:DAYLIGHT
BEGIN:STANDARD
TZOFFSETFROM:+0200
TZOFFSETTO:+0100
TZNAME:CET
DTSTART:20251026T010000
END:STANDARD
BEGIN:DAYLIGHT
TZOFFSETFROM:+0100
TZOFFSETTO:+0200
TZNAME:CEST
DTSTART:20260329T010000
END:DAYLIGHT
BEGIN:STANDARD
TZOFFSETFROM:+0200
TZOFFSETTO:+0100
TZNAME:CET
DTSTART:20261025T010000
END:STANDARD
BEGIN:DAYLIGHT
TZOFFSETFROM:+0100
TZOFFSETTO:+0200
TZNAME:CEST
DTSTART:20270328T010000
END:DAYLIGHT
BEGIN:STANDARD
TZOFFSETFROM:+0200
TZOFFSETTO:+0100
TZNAME:CET
DTSTART:20271031T010000
END:STANDARD
END:VTIMEZONE
BEGIN:VEVENT
DTSTART;TZID=Europe/Berlin:20260107T190000
DTEND;TZID=Europe/Berlin:20260107T190000
DTSTAMP:20260425T035408
CREATED:20260104T221614Z
LAST-MODIFIED:20260104T221614Z
UID:2733-1767812400-1767812400@keinschrittnachrechts.de
SUMMARY:KSNR | Treffen des Arbeitskreises Öffentlichkeitsarbeit
DESCRIPTION:Am Mittwoch\, dem 07. Januar um 19 Uhr trifft sich der Arbeitskreis Öffentlichkeitsarbeit. Für weitere Informationen und falls Du Lust hast\, zum Treffen dazuzukommen\, schreib uns gerne eine Mail. \nWir freuen uns immer über Interesse und neue Menschen! 🙂 \nKommt dazu! 🤗
URL:https://keinschrittnachrechts.de/event/ksnr-treffen-des-arbeitskreises-oeffentlichkeitsarbeit-18
CATEGORIES:Kein Schritt nach Rechts
END:VEVENT
BEGIN:VEVENT
DTSTART;TZID=Europe/Berlin:20260113T190000
DTEND;TZID=Europe/Berlin:20260113T190000
DTSTAMP:20260425T035408
CREATED:20251203T191506Z
LAST-MODIFIED:20251204T093336Z
UID:2670-1768330800-1768330800@keinschrittnachrechts.de
SUMMARY:KSNR | Treffen des Arbeitskreises Aktion
DESCRIPTION:Der Arbeitskreis Aktion trifft sich am Dienstag\, 13.01. um 19:00 Uhr. Für weitere Informationen und falls Du Lust hast\, zum Treffen dazuzukommen\, schreibe uns gerne eine Mail. \nWir freuen uns immer über Interesse und neue Menschen!
URL:https://keinschrittnachrechts.de/event/ksnr-treffen-des-arbeitskreises-aktion-in-praesenz-2
CATEGORIES:Kein Schritt nach Rechts
END:VEVENT
BEGIN:VEVENT
DTSTART;TZID=Europe/Berlin:20260114T190000
DTEND;TZID=Europe/Berlin:20260114T220000
DTSTAMP:20260425T035408
CREATED:20251203T191713Z
LAST-MODIFIED:20251203T191713Z
UID:2674-1768417200-1768428000@keinschrittnachrechts.de
SUMMARY:KSNR | Planungstreffen Gesamtbündnis
DESCRIPTION:👉 Das nächste PLANUNGSTREFFEN wird am Mittwoch\, dem 14. Januar um 19 Uhr stattfinden. Bring dich\, wenn du kannst\, gerne mit ein – egal ob du bereits aktiv bist oder noch ganz neu. Wir wollen und müssen weiter gemeinsam und entschlossen für Menschenwürde und unsere Grundrechte einstehen. Das können wir nur gemeinsam schaffen. 👈 \nBei Fragen schreibe gerne an: info@keinschrittnachrechts.de
URL:https://keinschrittnachrechts.de/event/ksnr-planungstreffen-gesamtbuendnis-8
CATEGORIES:Kein Schritt nach Rechts
END:VEVENT
BEGIN:VEVENT
DTSTART;TZID=Europe/Berlin:20260119T183000
DTEND;TZID=Europe/Berlin:20260119T200000
DTSTAMP:20260425T035408
CREATED:20260113T102500Z
LAST-MODIFIED:20260116T155221Z
UID:2744-1768847400-1768852800@keinschrittnachrechts.de
SUMMARY:KSNR | Kundgebung gegen die AfD-Veranstaltung im Bürgerhaus Bahnstadt
DESCRIPTION:  \n \n⏰ Wann? Mo\, 19.01 um 18.30 Uhr\n📍 Wo? Pfaffengrunder Terrasse\, Bahnstadt (Heidelberg)\n🎶 Was? Musik- & Redebeiträge\, gemeinsame Licht- & Ballonaktion\, warme Getränke & Austausch \n⚠️ KUNDGEBUNG & GEGENPROTEST am Mo\, 19.01 um 18.30 Uhr gegen AfD-Veranstaltung in der Bahnstadt | Kein Schritt Nach Rechts \nLiebe Freund:innen\, liebe Mitstreiter:innen\,\nam Mo\, 19. Januar findet eine AfD-Veranstaltung des AfD-Landesverband im Bürgerhaus der Bahnstadt statt – als Redner kommen u.a. der AfD-Spitzenkandidat und und Bundestagsabgeordneter Markus Frohnmaier und weitere bekannte AfD-Funktionären.\n👉 Das lassen wir nicht unwidersprochen! Wir werden da sein. Wir werden laut sein. Wir werden ganz klar sagen: Es gibt kein Recht auf Nazi-Propaganda! Daher werden wir gemeinsam mit weiteren antifaschistischen Gruppen und Organisationen der Heidelberger Stadtgesellschaft\, die ebenfalls Proteste angemeldet haben\, dem laut und sichtbar entgegenstehen. \nUnter dem Motto „Sowas gehört doch verboten! Kein Platz für Rechtsextremismus in unserer Stadt und in unseren Parlamenten. Die Bahnstadt bleibt bunt!“ setzen wir ein sichtbares Zeichen – mit Licht\, Musik und Begegnung für Offenheit\, Solidarität und Zusammenhalt in unserer Stadt und für die Wahrung der Grund- und Menschenrechte. Im Rahmen der Kundgebung sprechen wir uns deutlich für die Einleitung eines Verbotsverfahrens gegen rechtsextreme Parteien aus und beantworten jede rechtsextreme Wahlkampfveranstaltung mit Solidarität\, indem wir gezielt Spenden für Initiativen gegen Rechts und für Projekte der Arbeit mit Geflüchteten sammeln. \n👥 Komm dazu & bring deine Freund:innen\, Kolleg:innen und Familie mit.\n✨ Bring dein Handy mit – wir bringen die Ballons.\n✊Lasst uns zeigen\, wie unsere Stadt zusammensteht\nHinweis: Die AfD hat nach unserem Kenntnisstand bereits ab 16 Uhr Infostände am Gadamerplatz angemeldet. \n📣 Bitte teilt diese Nachricht weiter – in euren Gruppen\, Netzwerken und Verteilern! \nDie Bahnstadt leuchtet – für Vielfalt\, für Zusammenhalt\, für von rechter Politik betroffene Menschen & Gruppen 💛 \nAK Öffentlichkeitsarbeit\, Kein Schritt Nach Rechts Heidelberg \n#KeinSchrittNachRechts #Bahnstadt #Heidelberg #LichtStattHass #KeinPlatzFürNazis #HeidelbergBleibtBunt
URL:https://keinschrittnachrechts.de/event/ksnr-kundgebung-gegen-die-afd-veranstaltung-im-buergerhaus-bahnstadt
LOCATION:Pfaffengrunder Terrasse\, Pfaffengrunder Terrasse\, Heidelberg\, 69115
CATEGORIES:Kein Schritt nach Rechts
END:VEVENT
BEGIN:VEVENT
DTSTART;TZID=Europe/Berlin:20260120T193000
DTEND;TZID=Europe/Berlin:20260120T220000
DTSTAMP:20260425T035408
CREATED:20260113T172622Z
LAST-MODIFIED:20260113T172622Z
UID:2747-1768937400-1768946400@keinschrittnachrechts.de
SUMMARY:KSNR | Treffen des Arbeitskreises Bildung
DESCRIPTION:Am Dienstag\, dem 20. Januar\, 19:30 Uhr trifft sich der Arbeitskreis Bildung das nächste Mal. Für weitere Informationen und falls Du Lust hast\, zum Treffen dazuzukommen\, schreibe uns gerne eine Mail. \nWir freuen uns immer über Interesse und neue Menschen.\nEs ist ziemlich bunt\, interessant und abwechslungsreich. Und oft auch lecker. Einfach mal anschauen. 🙂 \nKommt dazu! 🤗
URL:https://keinschrittnachrechts.de/event/ksnr-treffen-des-arbeitskreises-bildung-13
CATEGORIES:Kein Schritt nach Rechts
END:VEVENT
BEGIN:VEVENT
DTSTART;TZID=Europe/Berlin:20260126T170000
DTEND;TZID=Europe/Berlin:20260126T170000
DTSTAMP:20260425T035408
CREATED:20260121T155727Z
LAST-MODIFIED:20260121T155727Z
UID:2786-1769446800-1769446800@keinschrittnachrechts.de
SUMMARY:KSNR | Treffen des Arbeitskreises Finanzen
DESCRIPTION:Am Montag\, dem 26.Januar um 17.00 Uhr trifft sich der Arbeitskreis Finanzen. Für weitere Informationen und falls Du Lust hast\, zum Treffen dazuzukommen\, schreibe uns gerne eine Mail. \n\n\nWir freuen uns immer über Interesse und neue Menschen!
URL:https://keinschrittnachrechts.de/event/ksnr-treffen-des-arbeitskreises-finanzen-6
CATEGORIES:Kein Schritt nach Rechts
END:VEVENT
BEGIN:VEVENT
DTSTART;TZID=Europe/Berlin:20260126T193000
DTEND;TZID=Europe/Berlin:20260126T220000
DTSTAMP:20260425T035408
CREATED:20251121T215853Z
LAST-MODIFIED:20260116T115548Z
UID:2637-1769455800-1769464800@keinschrittnachrechts.de
SUMMARY:KSNR |  VERSCHOBEN vom 20.01.: Treffen des Arbeitskreises Kultur
DESCRIPTION:Update: Wir müssen unser Treffen leider verschieben – auf Montag\, den 26. Januar\, 19:30 Uhr. \n\nAm Dienstag\, dem 20. Januar 2026 um 20 Uhr trifft sich der Arbeitskreis Kultur. Für weitere Informationen und falls du Lust hast\, zum Treffen dazuzukommen\, schreib uns gerne eine Mail. \nWir freuen uns immer über Interesse und neue Menschen!
URL:https://keinschrittnachrechts.de/event/ksnr-treffen-des-arbeitskreises-kultur-11
CATEGORIES:Kein Schritt nach Rechts
END:VEVENT
END:VCALENDAR