BEGIN:VCALENDAR
VERSION:2.0
PRODID:-//Kein Schritt nach rechts - ECPv6.15.20//NONSGML v1.0//EN
CALSCALE:GREGORIAN
METHOD:PUBLISH
X-ORIGINAL-URL:https://keinschrittnachrechts.de
X-WR-CALDESC:Veranstaltungen für Kein Schritt nach rechts
REFRESH-INTERVAL;VALUE=DURATION:PT1H
X-Robots-Tag:noindex
X-PUBLISHED-TTL:PT1H
BEGIN:VTIMEZONE
TZID:Europe/Berlin
BEGIN:DAYLIGHT
TZOFFSETFROM:+0100
TZOFFSETTO:+0200
TZNAME:CEST
DTSTART:20240331T010000
END:DAYLIGHT
BEGIN:STANDARD
TZOFFSETFROM:+0200
TZOFFSETTO:+0100
TZNAME:CET
DTSTART:20241027T010000
END:STANDARD
BEGIN:DAYLIGHT
TZOFFSETFROM:+0100
TZOFFSETTO:+0200
TZNAME:CEST
DTSTART:20250330T010000
END:DAYLIGHT
BEGIN:STANDARD
TZOFFSETFROM:+0200
TZOFFSETTO:+0100
TZNAME:CET
DTSTART:20251026T010000
END:STANDARD
BEGIN:DAYLIGHT
TZOFFSETFROM:+0100
TZOFFSETTO:+0200
TZNAME:CEST
DTSTART:20260329T010000
END:DAYLIGHT
BEGIN:STANDARD
TZOFFSETFROM:+0200
TZOFFSETTO:+0100
TZNAME:CET
DTSTART:20261025T010000
END:STANDARD
END:VTIMEZONE
BEGIN:VEVENT
DTSTART;TZID=Europe/Berlin:20251202T190000
DTEND;TZID=Europe/Berlin:20251202T220000
DTSTAMP:20260425T054625
CREATED:20251108T113133Z
LAST-MODIFIED:20251108T113133Z
UID:2605-1764702000-1764712800@keinschrittnachrechts.de
SUMMARY:KSNR | Planungstreffen Gesamtbündnis
DESCRIPTION:👉 Das nächste PLANUNGSTREFFEN wird am Dienstag\, dem 2. Dezember um 19 Uhr stattfinden. Bring dich\, wenn du kannst\, gerne mit ein – egal ob du bereits aktiv bist oder noch ganz neu. Wir wollen und müssen weiter gemeinsam und entschlossen für Menschenwürde und unsere Grundrechte einstehen. Das können wir nur gemeinsam schaffen. 👈 \nBei Fragen schreibe gerne an: info@keinschrittnachrechts.de
URL:https://keinschrittnachrechts.de/event/ksnr-planungstreffen-gesamtbuendnis-7
CATEGORIES:Kein Schritt nach Rechts
END:VEVENT
BEGIN:VEVENT
DTSTART;TZID=Europe/Berlin:20251217T180000
DTEND;TZID=Europe/Berlin:20251217T180000
DTSTAMP:20260425T054625
CREATED:20251215T154937Z
LAST-MODIFIED:20251215T155140Z
UID:2717-1765994400-1765994400@keinschrittnachrechts.de
SUMMARY:KSNR | Weihnachtsmarktbummel
DESCRIPTION:Kommt mit uns ins Gespräch beim geselligen Bummel über den Weihnachtsmarkt.\nAm Mittwoch 17.12.25 treffen wir uns um 18.00 Uhr an der Treppe vom großen Fass.\nWir freuen uns auf Euch! :o)
URL:https://keinschrittnachrechts.de/event/ksnr-weihnachtsmarktbummel
LOCATION:Karlsplatz\, Karlsplatz\, Heidelberg\, 69117\, Germany
CATEGORIES:Kein Schritt nach Rechts
END:VEVENT
END:VCALENDAR