BEGIN:VCALENDAR
VERSION:2.0
PRODID:-//Kein Schritt nach rechts - ECPv6.15.20//NONSGML v1.0//EN
CALSCALE:GREGORIAN
METHOD:PUBLISH
X-ORIGINAL-URL:https://keinschrittnachrechts.de
X-WR-CALDESC:Veranstaltungen für Kein Schritt nach rechts
REFRESH-INTERVAL;VALUE=DURATION:PT1H
X-Robots-Tag:noindex
X-PUBLISHED-TTL:PT1H
BEGIN:VTIMEZONE
TZID:Europe/Berlin
BEGIN:DAYLIGHT
TZOFFSETFROM:+0100
TZOFFSETTO:+0200
TZNAME:CEST
DTSTART:20240331T010000
END:DAYLIGHT
BEGIN:STANDARD
TZOFFSETFROM:+0200
TZOFFSETTO:+0100
TZNAME:CET
DTSTART:20241027T010000
END:STANDARD
BEGIN:DAYLIGHT
TZOFFSETFROM:+0100
TZOFFSETTO:+0200
TZNAME:CEST
DTSTART:20250330T010000
END:DAYLIGHT
BEGIN:STANDARD
TZOFFSETFROM:+0200
TZOFFSETTO:+0100
TZNAME:CET
DTSTART:20251026T010000
END:STANDARD
BEGIN:DAYLIGHT
TZOFFSETFROM:+0100
TZOFFSETTO:+0200
TZNAME:CEST
DTSTART:20260329T010000
END:DAYLIGHT
BEGIN:STANDARD
TZOFFSETFROM:+0200
TZOFFSETTO:+0100
TZNAME:CET
DTSTART:20261025T010000
END:STANDARD
END:VTIMEZONE
BEGIN:VEVENT
DTSTART;TZID=Europe/Berlin:20250901T170000
DTEND;TZID=Europe/Berlin:20250901T170000
DTSTAMP:20260425T132955
CREATED:20250824T183830Z
LAST-MODIFIED:20250824T183830Z
UID:2263-1756746000-1756746000@keinschrittnachrechts.de
SUMMARY:KSNR | Treffen des Arbeitskreises Finanzen
DESCRIPTION:Am Montag\, dem 1. September um 17.00 Uhr trifft sich der Arbeitskreis Events. Für weitere Informationen und falls Du Lust hast\, zum Treffen dazuzukommen\, schreibe uns gerne eine Mail. \n\n\nWir freuen uns immer über Interesse und neue Menschen!
URL:https://keinschrittnachrechts.de/event/ksnr-treffen-des-arbeitskreises-finanzen-5
CATEGORIES:Kein Schritt nach Rechts
END:VEVENT
BEGIN:VEVENT
DTSTART;TZID=Europe/Berlin:20250905T190000
DTEND;TZID=Europe/Berlin:20250905T190000
DTSTAMP:20260425T132955
CREATED:20250825T203623Z
LAST-MODIFIED:20250825T203623Z
UID:2271-1757098800-1757098800@keinschrittnachrechts.de
SUMMARY:KSNR | Treffen des Arbeitskreises Bildung
DESCRIPTION:Am Freitag\, dem 5. September\, 19:00 Uhr trifft sich der Arbeitskreis Bildung. Für weitere Informationen und falls Du Lust hast\, zum Treffen dazuzukommen\, schreibe uns gerne eine Mail. \nWir freuen uns immer über Interesse und neue Menschen\, und jetzt vor dem Fest am 12. Oktober ganz besonders!!\nEs ist ziemlich bunt\, interessant und abwechslungsreich. Und oft auch lecker. Einfach mal anschauen. 🙂 \nKommt dazu! 🤗
URL:https://keinschrittnachrechts.de/event/ksnr-treffen-des-arbeitskreises-bildung-9
CATEGORIES:Kein Schritt nach Rechts
END:VEVENT
BEGIN:VEVENT
DTSTART;TZID=Europe/Berlin:20250910T190000
DTEND;TZID=Europe/Berlin:20250910T190000
DTSTAMP:20260425T132955
CREATED:20250825T184310Z
LAST-MODIFIED:20250825T184310Z
UID:2269-1757530800-1757530800@keinschrittnachrechts.de
SUMMARY:KSNR | Treffen des Arbeitskreises Kultur
DESCRIPTION:Am Mittwoch\, dem 10. September um 19 Uhr trifft sich der Arbeitskreis Kultur. Für weitere Informationen und falls du Lust hast\, zum Treffen dazuzukommen\, schreib uns gerne eine Mail. \nWir freuen uns immer über Interesse und neue Menschen!
URL:https://keinschrittnachrechts.de/event/ksnr-treffen-des-arbeitskreises-kultur-6
CATEGORIES:Kein Schritt nach Rechts
END:VEVENT
BEGIN:VEVENT
DTSTART;TZID=Europe/Berlin:20250911T190000
DTEND;TZID=Europe/Berlin:20250911T190000
DTSTAMP:20260425T132955
CREATED:20250906T162539Z
LAST-MODIFIED:20250906T162539Z
UID:2336-1757617200-1757617200@keinschrittnachrechts.de
SUMMARY:KSNR | Treffen des Arbeitskreises Öffentlichkeitsarbeit
DESCRIPTION:Am Donnerstag\, dem 11. September um 19 Uhr trifft sich der Arbeitskreis Öffentlichkeitsarbeit. Für weitere Informationen und falls Du Lust hast\, zum Treffen dazuzukommen\, schreibe uns gerne eine Mail. \nWir freuen uns immer über Interesse und neue Menschen! 🙂 Und ganz besonders jetzt vor dem 12. Oktober. \nKommt dazu! 🤗
URL:https://keinschrittnachrechts.de/event/ksnr-treffen-des-arbeitskreises-oeffentlichkeitsarbeit-12
CATEGORIES:Kein Schritt nach Rechts
END:VEVENT
BEGIN:VEVENT
DTSTART;TZID=Europe/Berlin:20250911T193000
DTEND;TZID=Europe/Berlin:20250911T213000
DTSTAMP:20260425T132955
CREATED:20250725T134727Z
LAST-MODIFIED:20250725T134727Z
UID:2174-1757619000-1757626200@keinschrittnachrechts.de
SUMMARY:KSNR | Treffen des Arbeitskreises Aktion (in Präsenz)
DESCRIPTION:Jeden zweiten Donnerstag im Monat trifft sich der Arbeitskreis Aktion um 19:30 Uhr. Für weitere Informationen und falls Du Lust hast\, zum Treffen dazuzukommen\, schreibe uns gerne eine Mail. \nWir freuen uns immer über Interesse und neue Menschen!
URL:https://keinschrittnachrechts.de/event/ksnr-treffen-des-arbeitskreises-aktion-in-praesenz
CATEGORIES:Kein Schritt nach Rechts
END:VEVENT
BEGIN:VEVENT
DTSTART;TZID=Europe/Berlin:20250915T190000
DTEND;TZID=Europe/Berlin:20250915T220000
DTSTAMP:20260425T132955
CREATED:20250809T190502Z
LAST-MODIFIED:20250809T190502Z
UID:2233-1757962800-1757973600@keinschrittnachrechts.de
SUMMARY:KSNR | Was ist dieses „queer“ überhaupt? - Workshop zu sexueller und geschlechtlicher Vielfalt
DESCRIPTION:Was ist dieses „queer“ überhaupt? \nWorkshop zu sexueller und geschlechtlicher Vielfalt. Queer ist nur eine Modeerscheinung? Stimmt nicht! \nIn diesem Workshop geht es darum\, was queer (oder auch LSBTIQA+) bedeutet\, woher diese ganzen neuen Begriffe kommen und was diese Neo-Pronomen sind. Darauf aufbauend werden Einblicke in die Lebensrealität queerer Menschen vermittelt. Zum Schluss gibt es Raum für anonyme Fragen. \nDer Workshop richtet sich an Leute\, die sich mit dem Thema noch nicht beschäftigt haben. \nDauer: 2 Stunden\nDatum: 15. September\nUhrzeit: 19 Uhr\nVeranstaltungsort: Laden für Kultur und Politik \nAnmeldung an:queerfeministisches.kollektiv.hd@gmail.com \n \n 
URL:https://keinschrittnachrechts.de/event/ksnr-was-ist-dieses-queer-ueberhaupt-workshop-zu-sexueller-und-geschlechtlicher-vielfalt
LOCATION:Laden für Kultur und Politik\, Kaiserstr. 62\, Heidleberg
CATEGORIES:Kein Schritt nach Rechts
END:VEVENT
BEGIN:VEVENT
DTSTART;TZID=Europe/Berlin:20250916T190000
DTEND;TZID=Europe/Berlin:20250916T220000
DTSTAMP:20260425T132955
CREATED:20250824T184352Z
LAST-MODIFIED:20250824T184352Z
UID:2267-1758049200-1758060000@keinschrittnachrechts.de
SUMMARY:KSNR | Planungstreffen Gesamtbündnis
DESCRIPTION:👉Das nächste PLANUNGSTREFFEN WIRD AM DI 16.9.\, um 19 UHR stattfinden. Bring Dich\, wenn du kannst\, gerne mit ein – egal ob du bereits aktiv bist oder noch ganz neu. Wir wollen und müssen weiter gemeinsam und entschlossen für Menschenwürde und unsere Grundrechte einstehen. Das können wir nur gemeinsam schaffen. 👈\nBei Fragen schreibe gerne an: info@keinschrittnachrechts.de \n 
URL:https://keinschrittnachrechts.de/event/ksnr-planungstreffen-gesamtbuendnis-3
CATEGORIES:Kein Schritt nach Rechts
END:VEVENT
BEGIN:VEVENT
DTSTART;TZID=Europe/Berlin:20250923T200000
DTEND;TZID=Europe/Berlin:20250923T200000
DTSTAMP:20260425T132955
CREATED:20250913T093607Z
LAST-MODIFIED:20250913T093607Z
UID:2354-1758657600-1758657600@keinschrittnachrechts.de
SUMMARY:KSNR | Lass mal babbeln: Soll man mit Nazis reden oder nicht?
DESCRIPTION:Wir wollen uns über unterschiedliche Themen austauschen. Erstes Thema in der Reihe ist das oben genannte. In einer moderierten Diskussion wollen wir über Pro und Kontra des Unterhaltens mit Ultrarechten reden. \nWenn du darüber mit anderen reden willst\, komm am Dienstag\, 23. September 2025 um 20 Uhr zum Drugstore\, Kettengasse 10\, 69117 Heidelberg. Du kannst gerne selbst und mit Bekannten erscheinen! \n 
URL:https://keinschrittnachrechts.de/event/ksnr-lass-mal-babbeln-soll-man-mit-nazis-reden-oder-nicht
LOCATION:Drugstore\, Kettengasse 10\, Heidelberg\, 69117\, Germany
CATEGORIES:Kein Schritt nach Rechts
END:VEVENT
BEGIN:VEVENT
DTSTART;TZID=Europe/Berlin:20250924T190000
DTEND;TZID=Europe/Berlin:20250924T190000
DTSTAMP:20260425T132955
CREATED:20250910T201929Z
LAST-MODIFIED:20250910T201929Z
UID:2346-1758740400-1758740400@keinschrittnachrechts.de
SUMMARY:KSNR | Treffen des Arbeitskreises Kultur
DESCRIPTION:Am Mittwoch\, dem 24. September um 19 Uhr trifft sich der Arbeitskreis Kultur. Für weitere Informationen und falls du Lust hast\, zum Treffen dazuzukommen\, schreib uns gerne eine Mail. \nWir freuen uns immer über Interesse und neue Menschen!
URL:https://keinschrittnachrechts.de/event/ksnr-treffen-des-arbeitskreises-kultur-7
CATEGORIES:Kein Schritt nach Rechts
END:VEVENT
BEGIN:VEVENT
DTSTART;TZID=Europe/Berlin:20250925T190000
DTEND;TZID=Europe/Berlin:20250925T220000
DTSTAMP:20260425T132955
CREATED:20250920T205320Z
LAST-MODIFIED:20250920T205320Z
UID:2364-1758826800-1758837600@keinschrittnachrechts.de
SUMMARY:KSNR | Treffen des Arbeitskreises Öffentlichkeitsarbeit
DESCRIPTION:Am Donnerstag\, dem 25. September um 19 Uhr trifft sich der Arbeitskreis Öffentlichkeitsarbeit. Für weitere Informationen und falls Du Lust hast\, zum Treffen dazuzukommen\, schreib uns gerne eine Mail. \nWir freuen uns immer über Interesse und neue Menschen! 🙂 Und ganz besonders jetzt vor dem 12. Oktober. \nKommt dazu! 🤗
URL:https://keinschrittnachrechts.de/event/ksnr-treffen-des-arbeitskreises-oeffentlichkeitsarbeit-13
CATEGORIES:Kein Schritt nach Rechts
END:VEVENT
BEGIN:VEVENT
DTSTART;TZID=Europe/Berlin:20250930T190000
DTEND;TZID=Europe/Berlin:20250930T220000
DTSTAMP:20260425T132955
CREATED:20250920T205148Z
LAST-MODIFIED:20250920T205359Z
UID:2362-1759258800-1759269600@keinschrittnachrechts.de
SUMMARY:KSNR | Planungstreffen Gesamtbündnis
DESCRIPTION:👉Das nächste PLANUNGSTREFFEN wird am Dienstag\, dem 30. September um 19 UHR stattfinden. Bring Dich\, wenn du kannst\, gerne mit ein – egal ob du bereits aktiv bist oder noch ganz neu. Wir wollen und müssen weiter gemeinsam und entschlossen für Menschenwürde und unsere Grundrechte einstehen. Das können wir nur gemeinsam schaffen. 👈\nBei Fragen schreibe gerne an: info@keinschrittnachrechts.de \n 
URL:https://keinschrittnachrechts.de/event/ksnr-planungstreffen-gesamtbuendnis-4
CATEGORIES:Kein Schritt nach Rechts
END:VEVENT
END:VCALENDAR