BEGIN:VCALENDAR
VERSION:2.0
PRODID:-//Kein Schritt nach rechts - ECPv6.15.20//NONSGML v1.0//EN
CALSCALE:GREGORIAN
METHOD:PUBLISH
X-WR-CALNAME:Kein Schritt nach rechts
X-ORIGINAL-URL:https://keinschrittnachrechts.de
X-WR-CALDESC:Veranstaltungen für Kein Schritt nach rechts
REFRESH-INTERVAL;VALUE=DURATION:PT1H
X-Robots-Tag:noindex
X-PUBLISHED-TTL:PT1H
BEGIN:VTIMEZONE
TZID:Europe/Berlin
BEGIN:DAYLIGHT
TZOFFSETFROM:+0100
TZOFFSETTO:+0200
TZNAME:CEST
DTSTART:20240331T010000
END:DAYLIGHT
BEGIN:STANDARD
TZOFFSETFROM:+0200
TZOFFSETTO:+0100
TZNAME:CET
DTSTART:20241027T010000
END:STANDARD
BEGIN:DAYLIGHT
TZOFFSETFROM:+0100
TZOFFSETTO:+0200
TZNAME:CEST
DTSTART:20250330T010000
END:DAYLIGHT
BEGIN:STANDARD
TZOFFSETFROM:+0200
TZOFFSETTO:+0100
TZNAME:CET
DTSTART:20251026T010000
END:STANDARD
BEGIN:DAYLIGHT
TZOFFSETFROM:+0100
TZOFFSETTO:+0200
TZNAME:CEST
DTSTART:20260329T010000
END:DAYLIGHT
BEGIN:STANDARD
TZOFFSETFROM:+0200
TZOFFSETTO:+0100
TZNAME:CET
DTSTART:20261025T010000
END:STANDARD
END:VTIMEZONE
BEGIN:VEVENT
DTSTART;TZID=Europe/Berlin:20250702T190000
DTEND;TZID=Europe/Berlin:20250702T190000
DTSTAMP:20260425T145522
CREATED:20250610T115418Z
LAST-MODIFIED:20250619T193727Z
UID:2019-1751482800-1751482800@keinschrittnachrechts.de
SUMMARY:KSNR | Wir lesen "Widerstand - Liebeserklärung an die Unbequemen" von Mina Canaval
DESCRIPTION:Mina Canaval hatte das perfekte Leben. Sie wächst im schönen Vorarlberg auf\, absolviert ein tolles Studium\, macht ein Praktikum bei einem internationalen Konzern. Sie ist dabei\, sich eine Zukunft aufzubauen. Aber was für eine Zukunft? Mina ließ ihr altes Leben hinter sich. Als führendes Mitglied der »Letzten Generation« kämpfte sie für die Rettung der Zivilisation. Das Leben im Widerstand veränderte ihre Perspektive auf Familie\, Freundschaft und Gesellschaft. \nBei dem Literatursalon geht es darum\, gesellschaftskritisch zu diskutieren.\nEgal ob es Bücher\, Filme\, Journaltexte oder Artikel sind – wir möchten zusammenkommen\, uns austauschen und versuchen\, die Welt um uns herum ein bisschen besser zu verstehen. \nUnsere Treffen sehen deswegen folgendermaßen aus: Zu Beginn gibt es ein Nachrichtenupdate\, bei dem neueste Informationen geteilt werden\, aber auch kurze\, selbst vorbereitete\, Vorträge gehalten werden können. Anschließend besprechen wir den Text für das Treffen – darunter können auch selbst geschriebene Texte gehören. \nWir treffen uns jeden ersten Mittwoch im Monat ab 19 Uhr. Die Veranstaltungsorte können variieren. Bei Interesse melde dich gerne per Mail.
URL:https://keinschrittnachrechts.de/event/ksnr-wir-lesen-widerstand-liebeserklaerung-an-die-unbequemen-von-mina-canaval
CATEGORIES:Externe Veranstaltungen
END:VEVENT
BEGIN:VEVENT
DTSTART;TZID=Europe/Berlin:20250710T193000
DTEND;TZID=Europe/Berlin:20250710T213000
DTSTAMP:20260425T145522
CREATED:20250706T095932Z
LAST-MODIFIED:20250710T170515Z
UID:2093-1752175800-1752183000@keinschrittnachrechts.de
SUMMARY:KSNR | Online-Treffen des Arbeitskreises Aktion
DESCRIPTION:Jeden vierten Donnerstag im Monat trifft sich der Arbeitskreis Aktion um 19:30 Uhr online. Für weitere Informationen und falls Du Lust hast\, zum Treffen dazuzukommen\, schreibe uns gerne eine Mail. \nWir freuen uns immer über Interesse und neue Menschen!
URL:https://keinschrittnachrechts.de/event/ksnr-online-treffen-des-arbeitskreises-aktion
CATEGORIES:Kein Schritt nach Rechts
END:VEVENT
BEGIN:VEVENT
DTSTART;TZID=Europe/Berlin:20250717T190000
DTEND;TZID=Europe/Berlin:20250717T190000
DTSTAMP:20260425T145522
CREATED:20250707T093034Z
LAST-MODIFIED:20250707T093034Z
UID:2107-1752778800-1752778800@keinschrittnachrechts.de
SUMMARY:KSNR | Treffen des Arbeitskreises Öffentlichkeitsarbeit
DESCRIPTION:Am Donnerstag\, dem 17. Juli um 19 Uhr trifft sich der Arbeitskreis Öffentlichkeitsarbeit. Für weitere Informationen und falls Du Lust hast\, zum Treffen dazuzukommen\, schreibe uns gerne eine Mail. \nWir freuen uns immer über Interesse und neue Menschen!
URL:https://keinschrittnachrechts.de/event/ksnr-treffen-des-arbeitskreises-oeffentlichkeitsarbeit-8
CATEGORIES:Kein Schritt nach Rechts
END:VEVENT
BEGIN:VEVENT
DTSTART;TZID=Europe/Berlin:20250718T190000
DTEND;TZID=Europe/Berlin:20250718T190000
DTSTAMP:20260425T145522
CREATED:20250617T193458Z
LAST-MODIFIED:20250617T193531Z
UID:2057-1752865200-1752865200@keinschrittnachrechts.de
SUMMARY:KSNR | Treffen des Arbeitskreises Bildung
DESCRIPTION:Am Freitag\, dem 18.Juli\, 19:00 Uhr trifft sich der Arbeitskreis Bildung. Für weitere Informationen und falls Du Lust hast\, zum Treffen dazuzukommen\, schreibe uns gerne eine Mail. \nWir freuen uns immer über Interesse und neue Menschen!
URL:https://keinschrittnachrechts.de/event/ksnr-treffen-des-arbeitskreises-bildung-7
CATEGORIES:Kein Schritt nach Rechts
END:VEVENT
BEGIN:VEVENT
DTSTART;TZID=Europe/Berlin:20250722T190000
DTEND;TZID=Europe/Berlin:20250722T190000
DTSTAMP:20260425T145522
CREATED:20250619T193435Z
LAST-MODIFIED:20250703T123953Z
UID:2063-1753210800-1753210800@keinschrittnachrechts.de
SUMMARY:KSNR | Treffen des Arbeitskreises Kultur
DESCRIPTION:Am Dienstag\, dem 22. Juli um 19 Uhr trifft sich der Arbeitskreis Kultur. Für weitere Informationen und falls du Lust hast\, zum Treffen dazuzukommen\, schreib uns gerne eine Mail. \nWir freuen uns immer über Interesse und neue Menschen!
URL:https://keinschrittnachrechts.de/event/ksnr-treffen-des-arbeitskreises-kultur-4
CATEGORIES:Kein Schritt nach Rechts
END:VEVENT
BEGIN:VEVENT
DTSTART;TZID=Europe/Berlin:20250724T190000
DTEND;TZID=Europe/Berlin:20250724T220000
DTSTAMP:20260425T145522
CREATED:20250710T150124Z
LAST-MODIFIED:20250710T150124Z
UID:2118-1753383600-1753394400@keinschrittnachrechts.de
SUMMARY:KSNR | Planungstreffen Gesamtbündnis
DESCRIPTION:Nach einer Pause im Juni geht es im Juli weiter wie gewohnt: \n👉Das nächste PLANUNGSTREFFEN WIRD AM DO 24.7..\, um 19 UHR stattfinden. Bring Dich\, wenn du kannst\, gerne mit ein – egal ob du bereits aktiv bist oder noch ganz neu. Wir wollen und müssen weiter gemeinsam und entschlossen für Menschenwürde und unsere Grundrechte einstehen. Das können wir nur gemeinsam schaffen. 👈\nBei Fragen schreibe gerne an: info@keinschrittnachrechts.de \n 
URL:https://keinschrittnachrechts.de/event/ksnr-planungstreffen-gesamtbuendnis
CATEGORIES:Kein Schritt nach Rechts
END:VEVENT
BEGIN:VEVENT
DTSTART;TZID=Europe/Berlin:20250731T190000
DTEND;TZID=Europe/Berlin:20250731T190000
DTSTAMP:20260425T145522
CREATED:20250723T163308Z
LAST-MODIFIED:20250723T163446Z
UID:2170-1753988400-1753988400@keinschrittnachrechts.de
SUMMARY:KSNR | Treffen des Arbeitskreises Öffentlichkeitsarbeit
DESCRIPTION:Am Donnerstag\, dem 31. Juli um 19 Uhr trifft sich der Arbeitskreis Öffentlichkeitsarbeit. Für weitere Informationen und falls Du Lust hast\, zum Treffen dazuzukommen\, schreibe uns gerne eine Mail. \nWir freuen uns immer über Interesse und neue Menschen!
URL:https://keinschrittnachrechts.de/event/ksnr-treffen-des-arbeitskreises-oeffentlichkeitsarbeit-9
CATEGORIES:Kein Schritt nach Rechts
END:VEVENT
END:VCALENDAR