BEGIN:VCALENDAR
VERSION:2.0
PRODID:-//Kein Schritt nach rechts - ECPv6.15.20//NONSGML v1.0//EN
CALSCALE:GREGORIAN
METHOD:PUBLISH
X-WR-CALNAME:Kein Schritt nach rechts
X-ORIGINAL-URL:https://keinschrittnachrechts.de
X-WR-CALDESC:Veranstaltungen für Kein Schritt nach rechts
REFRESH-INTERVAL;VALUE=DURATION:PT1H
X-Robots-Tag:noindex
X-PUBLISHED-TTL:PT1H
BEGIN:VTIMEZONE
TZID:Europe/Berlin
BEGIN:DAYLIGHT
TZOFFSETFROM:+0100
TZOFFSETTO:+0200
TZNAME:CEST
DTSTART:20240331T010000
END:DAYLIGHT
BEGIN:STANDARD
TZOFFSETFROM:+0200
TZOFFSETTO:+0100
TZNAME:CET
DTSTART:20241027T010000
END:STANDARD
BEGIN:DAYLIGHT
TZOFFSETFROM:+0100
TZOFFSETTO:+0200
TZNAME:CEST
DTSTART:20250330T010000
END:DAYLIGHT
BEGIN:STANDARD
TZOFFSETFROM:+0200
TZOFFSETTO:+0100
TZNAME:CET
DTSTART:20251026T010000
END:STANDARD
BEGIN:DAYLIGHT
TZOFFSETFROM:+0100
TZOFFSETTO:+0200
TZNAME:CEST
DTSTART:20260329T010000
END:DAYLIGHT
BEGIN:STANDARD
TZOFFSETFROM:+0200
TZOFFSETTO:+0100
TZNAME:CET
DTSTART:20261025T010000
END:STANDARD
END:VTIMEZONE
BEGIN:VEVENT
DTSTART;TZID=Europe/Berlin:20250302T193000
DTEND;TZID=Europe/Berlin:20250302T193000
DTSTAMP:20260425T224012
CREATED:20250202T161903Z
LAST-MODIFIED:20250202T161903Z
UID:1362-1740943800-1740943800@keinschrittnachrechts.de
SUMMARY:KSNR | Treffen des Arbeitskreises Bildung
DESCRIPTION:Am Sonntag\, dem 02.03. um 19:30 Uhr trifft sich der Arbeitskreis Bildung. Für weitere Informationen und falls Du Lust hast\, zum Treffen dazuzukommen\, schreibe uns gerne eine Mail. \nWir freuen uns immer über Interesse und neue Menschen!
URL:https://keinschrittnachrechts.de/event/ksnr-treffen-des-arbeitskreises-bildung
CATEGORIES:Kein Schritt nach Rechts
END:VEVENT
BEGIN:VEVENT
DTSTART;TZID=Europe/Berlin:20250303T170000
DTEND;TZID=Europe/Berlin:20250303T170000
DTSTAMP:20260425T224012
CREATED:20250218T205048Z
LAST-MODIFIED:20250218T205048Z
UID:1488-1741021200-1741021200@keinschrittnachrechts.de
SUMMARY:KSNR | Treffen des Arbeitskreises Finanzen
DESCRIPTION:Am Montag\, dem 03.03. um 17 Uhr trifft sich der Arbeitskreis Finanzen. Für weitere Informationen und falls Du Lust hast\, zum Treffen dazuzukommen\, schreibe uns gerne eine Mail. \nWir freuen uns immer über Interesse und neue Menschen!
URL:https://keinschrittnachrechts.de/event/ksnr-treffen-des-arbeitskreises-finanzen
CATEGORIES:Kein Schritt nach Rechts
END:VEVENT
BEGIN:VEVENT
DTSTART;TZID=Europe/Berlin:20250313T193000
DTEND;TZID=Europe/Berlin:20250313T213000
DTSTAMP:20260425T224012
CREATED:20250214T083046Z
LAST-MODIFIED:20250214T083046Z
UID:1472-1741894200-1741901400@keinschrittnachrechts.de
SUMMARY:KSNR | Treffen des Arbeitskreises Aktion
DESCRIPTION:Jeden zweiten Donnerstag im Monat trifft sich der Arbeitskreis Aktion um 19:30 Uhr. Für weitere Informationen und falls Du Lust hast\, zum Treffen dazuzukommen\, schreibe uns gerne eine Mail. \nWir freuen uns immer über Interesse und neue Menschen!
URL:https://keinschrittnachrechts.de/event/ksnr-treffen-des-arbeitskreises-aktion-2
CATEGORIES:Kein Schritt nach Rechts
END:VEVENT
BEGIN:VEVENT
DTSTART;TZID=Europe/Berlin:20250316T193000
DTEND;TZID=Europe/Berlin:20250316T193000
DTSTAMP:20260425T224012
CREATED:20250306T201027Z
LAST-MODIFIED:20250306T201027Z
UID:1573-1742153400-1742153400@keinschrittnachrechts.de
SUMMARY:KSNR | Treffen des Arbeitskreises Bildung
DESCRIPTION:Am Sonntag\, dem 16.03. um 19:30 Uhr trifft sich der Arbeitskreis Bildung. Für weitere Informationen und falls Du Lust hast\, zum Treffen dazuzukommen\, schreibe uns gerne eine Mail. \nWir freuen uns immer über Interesse und neue Menschen!
URL:https://keinschrittnachrechts.de/event/ksnr-treffen-des-arbeitskreises-bildung-2
CATEGORIES:Kein Schritt nach Rechts
END:VEVENT
BEGIN:VEVENT
DTSTART;TZID=Europe/Berlin:20250319T190000
DTEND;TZID=Europe/Berlin:20250319T210000
DTSTAMP:20260425T224012
CREATED:20250125T154457Z
LAST-MODIFIED:20250313T172401Z
UID:1260-1742410800-1742418000@keinschrittnachrechts.de
SUMMARY:KSNR | Veranstaltung: ON-BOARDING FüR NEU-INTERESSIERTE
DESCRIPTION:MI\, 19. MäRZ (19–21 UHR): ZWEITES ONBOARDING FüR NEU-INTERESSIERTE\nVorstellung der Arbeitskreise & Raum für Austausch \nDu warst auf einer Demo gegen rechts? Du bist erschrocken über den Rechtsruck in Deutschland? Du möchtest etwas tun und dich gegen Hass und für Menschenwürde\, Demokratie und gelebte Vielfalt einsetzen?\nDann komm zum Bündnis „Kein Schritt nach rechts“ Heidelberg! \nEs gibt beim Bündnis ganz unterschiedliche Menschen und unterschiedliche Möglichkeiten etwas zu tun. \nMittwoch\, 19.März 2025\, 19 Uhr\nHerzlich Willkommen! 🙂 \n \n 
URL:https://keinschrittnachrechts.de/event/ksnr-ein-jahr-ksnr-grosses-event-mit-allen-buendnispartnerinnen-und-neu-interessierten
LOCATION:Collegium Academicum\, Heidelberg\, Marie-Clauss-Straße 3\, Heidelberg\, 69115\, Germany
CATEGORIES:Kein Schritt nach Rechts
END:VEVENT
BEGIN:VEVENT
DTSTART;TZID=Europe/Berlin:20250320T193000
DTEND;TZID=Europe/Berlin:20250320T193000
DTSTAMP:20260425T224012
CREATED:20250318T201324Z
LAST-MODIFIED:20250318T201324Z
UID:1632-1742499000-1742499000@keinschrittnachrechts.de
SUMMARY:KSNR | Treffen des Arbeitskreises Öffentlichkeitsarbeit
DESCRIPTION:Am Donnerstag\, dem 20. März um 19.30 Uhr trifft sich der Arbeitskreis Öffentlichkeitsarbeit. Für weitere Informationen und falls Du Lust hast\, zum Treffen dazuzukommen\, schreibe uns gerne eine Mail. \nWir freuen uns immer über Interesse und neue Menschen!
URL:https://keinschrittnachrechts.de/event/ksnr-treffen-des-arbeitskreises-oeffentlichkeitsarbeit-2
CATEGORIES:Kein Schritt nach Rechts
END:VEVENT
BEGIN:VEVENT
DTSTART;TZID=Europe/Berlin:20250322T130000
DTEND;TZID=Europe/Berlin:20250322T180000
DTSTAMP:20260425T224012
CREATED:20250226T115131Z
LAST-MODIFIED:20250313T170826Z
UID:1509-1742648400-1742666400@keinschrittnachrechts.de
SUMMARY:KSNR | Veranstaltung: Planungstreffen Gesamtbündnis
DESCRIPTION:👉Das nächste PLANUNGSTREFFEN WIRD AM SA\, 22. MäRZ VON 13-18 UHR in der Aula des Collegium Academicum stattfinden (barrierfrei zugänglich). Bring Dich\, wenn du kannst\, gerne mit ein – egal ob du bereits aktiv bist oder noch ganz neu. Wir wollen und müssen nach der Bundestagswahl erst recht gemeinsam und entschlossen für Menschenwürde und unsere Grundrechte einstehen. Das können wir nur gemeinsam schaffen. 👈\nBei Fragen schreibe gerne an: info@keinschrittnachrechts.de \n 
URL:https://keinschrittnachrechts.de/event/ksnr-veranstaltung-planungstreffen-gesamtbuendnis-3
LOCATION:Collegium Academicum\, Heidelberg\, Marie-Clauss-Straße 3\, Heidelberg\, 69115\, Germany
CATEGORIES:Kein Schritt nach Rechts
END:VEVENT
BEGIN:VEVENT
DTSTART;TZID=Europe/Berlin:20250324T170000
DTEND;TZID=Europe/Berlin:20250324T170000
DTSTAMP:20260425T224012
CREATED:20250314T173228Z
LAST-MODIFIED:20250314T173228Z
UID:1605-1742835600-1742835600@keinschrittnachrechts.de
SUMMARY:KSNR | Treffen des Arbeitskreises Finanzen
DESCRIPTION:Am Montag\, dem 24.03. um 17 Uhr trifft sich der Arbeitskreis Finanzen. Für weitere Informationen und falls Du Lust hast\, zum Treffen dazuzukommen\, schreibe uns gerne eine Mail. \nWir freuen uns immer über Interesse und neue Menschen!
URL:https://keinschrittnachrechts.de/event/ksnr-treffen-des-arbeitskreises-finanzen-2
CATEGORIES:Kein Schritt nach Rechts
END:VEVENT
BEGIN:VEVENT
DTSTART;TZID=Europe/Berlin:20250324T190000
DTEND;TZID=Europe/Berlin:20250324T190000
DTSTAMP:20260425T224012
CREATED:20250314T173034Z
LAST-MODIFIED:20250314T173034Z
UID:1603-1742842800-1742842800@keinschrittnachrechts.de
SUMMARY:KSNR | Treffen des Arbeitskreises Events
DESCRIPTION:Am Montag\, dem 24. März um vsl. 19.00 Uhr trifft sich der Arbeitskreis Events. Für weitere Informationen und falls Du Lust hast\, zum Treffen dazuzukommen\, schreibe uns gerne eine Mail. \nWir freuen uns immer über Interesse und neue Menschen!
URL:https://keinschrittnachrechts.de/event/ksnr-treffen-des-arbeitskreises-events-2
CATEGORIES:Kein Schritt nach Rechts
END:VEVENT
BEGIN:VEVENT
DTSTART;TZID=Europe/Berlin:20250331T190000
DTEND;TZID=Europe/Berlin:20250331T190000
DTSTAMP:20260425T224012
CREATED:20250326T180423Z
LAST-MODIFIED:20250326T180423Z
UID:1655-1743447600-1743447600@keinschrittnachrechts.de
SUMMARY:KSNR | Treffen des Arbeitskreises Öffentlichkeitsarbeit
DESCRIPTION:Am Montag\, dem 31. März um 19 Uhr trifft sich der Arbeitskreis Öffentlichkeitsarbeit. Für weitere Informationen und falls Du Lust hast\, zum Treffen dazuzukommen\, schreibe uns gerne eine Mail. \nWir freuen uns immer über Interesse und neue Menschen!
URL:https://keinschrittnachrechts.de/event/ksnr-treffen-des-arbeitskreises-oeffentlichkeitsarbeit-3
CATEGORIES:Kein Schritt nach Rechts
END:VEVENT
END:VCALENDAR