BEGIN:VCALENDAR
VERSION:2.0
PRODID:-//Kein Schritt nach rechts - ECPv6.15.20//NONSGML v1.0//EN
CALSCALE:GREGORIAN
METHOD:PUBLISH
X-WR-CALNAME:Kein Schritt nach rechts
X-ORIGINAL-URL:https://keinschrittnachrechts.de
X-WR-CALDESC:Veranstaltungen für Kein Schritt nach rechts
REFRESH-INTERVAL;VALUE=DURATION:PT1H
X-Robots-Tag:noindex
X-PUBLISHED-TTL:PT1H
BEGIN:VTIMEZONE
TZID:Europe/Berlin
BEGIN:DAYLIGHT
TZOFFSETFROM:+0100
TZOFFSETTO:+0200
TZNAME:CEST
DTSTART:20240331T010000
END:DAYLIGHT
BEGIN:STANDARD
TZOFFSETFROM:+0200
TZOFFSETTO:+0100
TZNAME:CET
DTSTART:20241027T010000
END:STANDARD
BEGIN:DAYLIGHT
TZOFFSETFROM:+0100
TZOFFSETTO:+0200
TZNAME:CEST
DTSTART:20250330T010000
END:DAYLIGHT
BEGIN:STANDARD
TZOFFSETFROM:+0200
TZOFFSETTO:+0100
TZNAME:CET
DTSTART:20251026T010000
END:STANDARD
BEGIN:DAYLIGHT
TZOFFSETFROM:+0100
TZOFFSETTO:+0200
TZNAME:CEST
DTSTART:20260329T010000
END:DAYLIGHT
BEGIN:STANDARD
TZOFFSETFROM:+0200
TZOFFSETTO:+0100
TZNAME:CET
DTSTART:20261025T010000
END:STANDARD
END:VTIMEZONE
BEGIN:VEVENT
DTSTART;TZID=Europe/Berlin:20250108T190000
DTEND;TZID=Europe/Berlin:20250108T190000
DTSTAMP:20260426T015250
CREATED:20241216T101152Z
LAST-MODIFIED:20241216T101152Z
UID:992-1736362800-1736362800@keinschrittnachrechts.de
SUMMARY:KSNR | Veranstaltung: Treffen des AK Bildung
DESCRIPTION:Am Mittwoch\, den 08. Januar 2025 um 19.00 Uhr findet ein Treffen des AK Bildung statt. Für weitere Informationen und falls Du Lust hast\, zum Treffen dazuzukommen\, schreibe gerne eine Mail an info@keinschrittnachrechts.de oder eine Nachricht über Instagram & Co.
URL:https://keinschrittnachrechts.de/event/ksnr-veranstaltung-treffen-des-ak-bildung-5
CATEGORIES:Kein Schritt nach Rechts
END:VEVENT
BEGIN:VEVENT
DTSTART;TZID=Europe/Berlin:20250114T193000
DTEND;TZID=Europe/Berlin:20250114T193000
DTSTAMP:20260426T015250
CREATED:20250102T201919Z
LAST-MODIFIED:20250103T075713Z
UID:1075-1736883000-1736883000@keinschrittnachrechts.de
SUMMARY:KSNR | Treffen des Arbeitskreis Aktion
DESCRIPTION:Am Dienstag\, den 14. Januar um 19.30 Uhr findet ein Treffen des Arbeitskreis Aktion statt. Für weitere Informationen und falls Du Lust hast\, zum Treffen dazuzukommen\, schreibe uns gerne eine Mail.  \nWir freuen uns immer über Interesse und neue Menschen!
URL:https://keinschrittnachrechts.de/event/ksnr-treffen-des-arbeitskreis-aktion
CATEGORIES:Kein Schritt nach Rechts
END:VEVENT
BEGIN:VEVENT
DTSTART;TZID=Europe/Berlin:20250118T180000
DTEND;TZID=Europe/Berlin:20250118T180000
DTSTAMP:20260426T015250
CREATED:20241217T124505Z
LAST-MODIFIED:20250105T125211Z
UID:1024-1737223200-1737223200@keinschrittnachrechts.de
SUMMARY:KSNR | Filmabend mit Diskussion 'Unser Platz in der Demokratie': "Die Känguru-Chroniken" & "Wildes Herz"
DESCRIPTION:🎥 Das erwartet euch:\nEin inspirierendes Double Feature mit:\n·     AB 18 UHR  „Die Känguru-Chroniken“ (2020; FSK 0): Was passiert\, wenn ein überzeugter Kleinkünstler und Kommunist auf ein anarchistisches\, sprechendes Känguru trifft?\nChaos\, Humor und eine gehörige Portion Gesellschaftskritik! Mit Marc-Uwe und seinem tierischen Mitbewohner kommt es zur satirischen Auseinandersetzung mit Kapitalismus\, Solidarität und absurden politischen Strukturen\, die den Zeitgeist unserer Gesellschaft hinterfragt.\n·     AB 20 UHR  „Wildes Herz“ (2017; FSK 12): Die bewegende Geschichte des Frontmanns Monchi der Band Feine Sahne Fischfilet\, die den unermüdlichen Kampf gegen Rechtsradikalismus und für ein weltoffenes Miteinander dokumentiert. Mit rauer Energie und Leidenschaft zeigt der Film\, wie Musik\, Aktivismus und eine starke Gemeinschaft zusammenkommen\, um in Mecklenburg-Vorpommern – einer Region\, die stark von rechtsextremen Strukturen geprägt ist – für Toleranz und Weltoffenheit einzustehen. \nDie Veranstaltung richtet sich an alle Menschen ab 12 Jahren\, die Lust haben\, sich auf humorvolle\, inspirierende und nachdenkliche Weise mit den Herausforderungen unserer Zeit auseinanderzusetzen und über ihren Platz in der Demokratie nachzudenken – oder auch einfach nur Lust haben\, einen unterhaltsamen Film zu schauen. \nZwischen den Filmen und im Anschluss laden wir euch zu einem offenen Austausch ein. Mit Raum für Diskussionen über die Filme\, die Themen Demokratie\, Extremismus und das aktuelle politische Geschehen\, möchten wir mit Euch in Austausch kommen\, was zu einer lebendigen und demokratischen Gesellschaft beitragen kann und was Euch wichtig ist. Getränken und Snacks können vor Ort erworben werden. \n🕒 Wann? 18. Januar 2025\, ab 18 Uhr\n📍Wo? Bürgerhaus HeidelBERG\, Emmertsgrund/Boxberg\n🎟️Für wen? Alle interessierten Menschen ab 12 Jahren \nSo könnt ihr uns unterstützen:\nDamit die Veranstaltung ein Erfolg wird\, sind wir auf eure Hilfe angewiesen. Uns entstehen Kosten für\n·       Filmleihgebühren\n·       Druck- und Werbematerialien\n·       Saalmiete\n·       Snacks\ndie sich auf circa 1.250€ belaufen.\n➡️ Spenden: Jeder Beitrag\, ob groß oder klein\, hilft uns sehr! Gemeinsam können wir dafür sorgen\, dass der Austausch über Demokratie und Zusammenhalt möglichst viele Menschen erreicht.\nLink zum Spendenaufruf.\n➡️Veranstaltung teilen: Ihr könnt uns auch unterstützen\, indem ihr diese Veranstaltung in euren Netzwerken teilt\, in euren Räumlichkeiten darauf hinweist oder Freund*innen und Bekannte einladet. \nFür Fragen\, Spenden oder weitere Unterstützungsmöglichkeiten könnt ihr uns gerne kontaktieren: akbildung@keinschrittnachrechts.de\nWir danken der Bürgerstiftung\, dass sie als Unterstützer dabei ist! \nWir freuen uns darauf\, diesen besonderen Abend mit euch zu gestalten! \n  \n  \n 
URL:https://keinschrittnachrechts.de/event/ksnr-filmabend-mit-diskussion-unser-platz-in-der-demokratie-die-kaenguru-chroniken-wildes-herz
LOCATION:Bürgerhaus HeidelBERG\, Forum 1\, Heidelberg
CATEGORIES:Kein Schritt nach Rechts
END:VEVENT
BEGIN:VEVENT
DTSTART;TZID=Europe/Berlin:20250119T113000
DTEND;TZID=Europe/Berlin:20250119T113000
DTSTAMP:20260426T015250
CREATED:20241228T120329Z
LAST-MODIFIED:20241228T120329Z
UID:1047-1737286200-1737286200@keinschrittnachrechts.de
SUMMARY:KSNR | FILMVORFÜHRUNG DEPORTATION CLASS* mit abschließender Gesprächsrunde und Spaziergang (Gloria Kino)
DESCRIPTION:Was bedeutet es eigentlich abgeschoben zu werden und wie gehen Menschen damit um\, von Abschiebung bedroht zu sein? Wie werden Abschiebungen geplant und durchgeführt? Und was bedeutet es in einer Gesellschaft zu leben\, in der Abschiebungen Alltag sind und doch für viele unsichtbar bleiben? \nDiesen Fragen möchten wir uns als AK Aktion des Heidelberger Bündnis /Kein Schritt nach Rechts /und Ihnen/Euch anhand der Dokumentation /Deportation Class/ annähern und zum Nachdenken\, Nachhaken und Widersprechen auffordern. \nVor rund einem Jahr sind in Heidelberg 18.000 Menschen auf die Straße gegangen um sich gegen die durch die CORRECTIV-Recherche aufgedeckten Geheimpläne zur „massenhaften Deportation“ zu stellen und klarzumachen: Wir stehen gemeinsam und geschlossen gegen Ausgrenzung und Rassismus! \nGleichzeitig werden Abschiebungen nicht nur im Wahlkampf und nicht nur seitens rechter Politiker*innen als angebliche Lösung für gesellschaftliche Probleme propagiert. Selbst Olaf Scholz sprach sich schon dafür aus\, „endlich im großen Stil abzuschieben“ und so mancher stellt bereits wenige Stunden nach dem Sturz eines Terrorregimes schon die Frage\, ob Menschen mit Asyl nun schnell ausgewiesen werden könnten. \nEingerahmt ist die Vorführung in ein abschließendes Filmgespräch und einen Altstadtspaziergang\, der sich mit Geschichten von Abschiebung und unsicheren Aufenthaltsstatus beschäftigt. \nWir bedanken uns beim GLORIA-Kino für die großzügige Unterstützung! \nHier der Link zum Sonderprogramm des GLORIA-Kinos: https://www.gloria-kamera-kinos.de/de/specials/sondervorstellungen \nHier geht’s zum Trailer. \nDer Eintritt ist frei. \n  \n 
URL:https://keinschrittnachrechts.de/event/ksnr-filmvorfuehrung-deportation-class-mit-abschliessender-gespraechsrunde-und-spaziergang-gloria-kino
LOCATION:Gloria Kino\, Hauptstr. 146\, Heidelberg\, Germany
CATEGORIES:Kein Schritt nach Rechts
END:VEVENT
BEGIN:VEVENT
DTSTART;TZID=Europe/Berlin:20250120T190000
DTEND;TZID=Europe/Berlin:20250120T210000
DTSTAMP:20260426T015250
CREATED:20250110T094520Z
LAST-MODIFIED:20250110T150738Z
UID:1115-1737399600-1737406800@keinschrittnachrechts.de
SUMMARY:KSNR | Treffen des Arbeitskreises Öffentlichkeitsarbeit
DESCRIPTION:Am Dienstag\, dem 20. Januar um 19.00 Uhr trifft sich der Arbeitskreis Öffentlichkeitsarbeit. Für weitere Informationen und falls Du Lust hast\, zum Treffen dazuzukommen\, schreibe uns gerne eine Mail. \nWir freuen uns immer über Interesse und neue Menschen!
URL:https://keinschrittnachrechts.de/event/ksnr-treffen-des-arbeitskreis-oeffentlichlkeitsarbeit
CATEGORIES:Kein Schritt nach Rechts
END:VEVENT
BEGIN:VEVENT
DTSTART;TZID=Europe/Berlin:20250123T190000
DTEND;TZID=Europe/Berlin:20250123T190000
DTSTAMP:20260426T015250
CREATED:20241216T101507Z
LAST-MODIFIED:20241216T101507Z
UID:994-1737658800-1737658800@keinschrittnachrechts.de
SUMMARY:KSNR | Veranstaltung: Planungstreffen Gesamtbündnis
DESCRIPTION:Am Donnerstag\, den 23. Januar 2025 um 19.00 Uhr findet unser monatliches Planungstreffen des Gesamtbündnisses statt.\nFür weitere Infos und falls Du Lust hast\, zum Planungstreffen dazuzukommen\, schreibe gerne an: info@keinschrittnachrechts.de \n 
URL:https://keinschrittnachrechts.de/event/ksnr-veranstaltung-planungstreffen-gesamtbuendnis
CATEGORIES:Kein Schritt nach Rechts
END:VEVENT
END:VCALENDAR