BEGIN:VCALENDAR
VERSION:2.0
PRODID:-//Kein Schritt nach rechts - ECPv6.15.20//NONSGML v1.0//EN
CALSCALE:GREGORIAN
METHOD:PUBLISH
X-ORIGINAL-URL:https://keinschrittnachrechts.de
X-WR-CALDESC:Veranstaltungen für Kein Schritt nach rechts
REFRESH-INTERVAL;VALUE=DURATION:PT1H
X-Robots-Tag:noindex
X-PUBLISHED-TTL:PT1H
BEGIN:VTIMEZONE
TZID:Europe/Berlin
BEGIN:DAYLIGHT
TZOFFSETFROM:+0100
TZOFFSETTO:+0200
TZNAME:CEST
DTSTART:20250330T010000
END:DAYLIGHT
BEGIN:STANDARD
TZOFFSETFROM:+0200
TZOFFSETTO:+0100
TZNAME:CET
DTSTART:20251026T010000
END:STANDARD
BEGIN:DAYLIGHT
TZOFFSETFROM:+0100
TZOFFSETTO:+0200
TZNAME:CEST
DTSTART:20260329T010000
END:DAYLIGHT
BEGIN:STANDARD
TZOFFSETFROM:+0200
TZOFFSETTO:+0100
TZNAME:CET
DTSTART:20261025T010000
END:STANDARD
BEGIN:DAYLIGHT
TZOFFSETFROM:+0100
TZOFFSETTO:+0200
TZNAME:CEST
DTSTART:20270328T010000
END:DAYLIGHT
BEGIN:STANDARD
TZOFFSETFROM:+0200
TZOFFSETTO:+0100
TZNAME:CET
DTSTART:20271031T010000
END:STANDARD
END:VTIMEZONE
BEGIN:VEVENT
DTSTART;TZID=Europe/Berlin:20260223T180000
DTEND;TZID=Europe/Berlin:20260223T180000
DTSTAMP:20260420T051250
CREATED:20260216T125406Z
LAST-MODIFIED:20260216T125406Z
UID:2958-1771869600-1771869600@keinschrittnachrechts.de
SUMMARY:Extern | Dokumentarfilm "Wiederkehr" mit Filmgespräch im Gloria Kino
DESCRIPTION:Anlässlich des 35-jährigen Jubiläums der Städtepartnerschaft Heidelberg-Simferopol/Krim zeigt das Heidelberger Gloria-Kino in Kooperation mit der Hochschulgruppe von Amnesty International den Film „WIEDERKEHR“ (D 2023\, 61 Min.\, Krimtatarisch/Russisch\, deutscher UT). \nSeit der Annexion der Krim 2014 durch Russland liegt die Partnerschaft auf Eis. Die Menschenrechtslage auf der Halbinsel ist seitdem besorgniserregend und hat sich seit Beginn des vollumfänglichen Kriegs gegen die Ukraine weiter verschlechtert. Die Rechte auf Meinungs-\, Vereinigungs- und Versammlungsfreiheit werden mit aller Härte unterdrückt. Krimtataren\, Menschenrechtsaktivisten\, kritische Jounalisten und Anwälte stehen im Visier der russischen Machthaber. \nDer Film „Wiederkehr“ zeigt am Portrait zweier Frauen auf eindrückliche Weise den Alltag der Unterdrückung von KrimtatarInnen. Unter Stalin deportiert\, unter Gorbatschow zurückgekehrt\, werden sie unter Putin seit 2014 erneut verfolgt\, weil sie die Annexion zum großen Teil boykottierten. \nRegisseurin Katja Fedulova erzählt die Geschichte frei vom Stigma des muslimischen Terrorismus\, das die Moskauer Propaganda Vertretern der Krimtatarischen Gemeinschaft anzuheften versucht. Sie beleuchtet die Repression am Beispiel der beiden Frauen Mumine und Maje\, die mit deren Folgen kämpfen. Ihr traditionell weibliches Rollenverständnis steht ihrem Engagement nicht entgegen – ganz im Gegenteil. \nIm Anschluss an den Film gibt es die Möglichkeit zum Gespräch mit Regisseurin Fedulova\, die für Q&A digital zugeschaltet wird. \nWeitere Informationen (externer Link): \nhttps://www.gloria-kamera-kinos.de/de/programm-specials-gloria-gloriette
URL:https://keinschrittnachrechts.de/event/extern-dokumentarfilm-wiederkehr-mit-filmgespraech-im-gloria-kino
LOCATION:Gloria Kino\, Hauptstr. 146\, Heidelberg\, Germany
CATEGORIES:Externe Veranstaltungen
END:VEVENT
END:VCALENDAR