BEGIN:VCALENDAR
VERSION:2.0
PRODID:-//Kein Schritt nach rechts - ECPv6.15.20//NONSGML v1.0//EN
CALSCALE:GREGORIAN
METHOD:PUBLISH
X-ORIGINAL-URL:https://keinschrittnachrechts.de
X-WR-CALDESC:Veranstaltungen für Kein Schritt nach rechts
REFRESH-INTERVAL;VALUE=DURATION:PT1H
X-Robots-Tag:noindex
X-PUBLISHED-TTL:PT1H
BEGIN:VTIMEZONE
TZID:Europe/Berlin
BEGIN:DAYLIGHT
TZOFFSETFROM:+0100
TZOFFSETTO:+0200
TZNAME:CEST
DTSTART:20230326T010000
END:DAYLIGHT
BEGIN:STANDARD
TZOFFSETFROM:+0200
TZOFFSETTO:+0100
TZNAME:CET
DTSTART:20231029T010000
END:STANDARD
BEGIN:DAYLIGHT
TZOFFSETFROM:+0100
TZOFFSETTO:+0200
TZNAME:CEST
DTSTART:20240331T010000
END:DAYLIGHT
BEGIN:STANDARD
TZOFFSETFROM:+0200
TZOFFSETTO:+0100
TZNAME:CET
DTSTART:20241027T010000
END:STANDARD
BEGIN:DAYLIGHT
TZOFFSETFROM:+0100
TZOFFSETTO:+0200
TZNAME:CEST
DTSTART:20250330T010000
END:DAYLIGHT
BEGIN:STANDARD
TZOFFSETFROM:+0200
TZOFFSETTO:+0100
TZNAME:CET
DTSTART:20251026T010000
END:STANDARD
END:VTIMEZONE
BEGIN:VEVENT
DTSTART;VALUE=DATE:20241116
DTEND;VALUE=DATE:20241117
DTSTAMP:20260422T010513
CREATED:20241113T174908Z
LAST-MODIFIED:20241113T174908Z
UID:781-1731715200-1731801599@keinschrittnachrechts.de
SUMMARY:Extern | Buntes Ketsch -  “Fest der Vielfalt  - Gegen den Landesparteitag der AFD” in Ketsch
DESCRIPTION:Organisiert von Buntes Ketsch\nSa\, 16.11\nOrt: Im Bruch\, Ketsch\nAb 9 Uhr Kundgebung\, danach Stände\, Live Musik & vieles mehr\n13.30 Uhr Demo\n\nMehr Infos dazu vom Veranstalter: (Externer Link)\nhttps://www.instagram.com/fest.der.vielfalt_ketsch/
URL:https://keinschrittnachrechts.de/event/extern_fest_der_vielfalt_in_ketsch
CATEGORIES:Externe Veranstaltungen
END:VEVENT
BEGIN:VEVENT
DTSTART;TZID=Europe/Berlin:20241116T083000
DTEND;TZID=Europe/Berlin:20241116T083000
DTSTAMP:20260422T010513
CREATED:20241113T173411Z
LAST-MODIFIED:20241113T175102Z
UID:779-1731745800-1731745800@keinschrittnachrechts.de
SUMMARY:Extern | OAT Mannheim/ Heidelberg / Karlsruhe - “Der AfD Entgegentreten” - Auf die Straße gegen den AfD-Landesparteitag in Ketsch
DESCRIPTION:Organisiert von OAT Mannheim\, OAT Heidelberg\, OAT Karlsruhe usw. (Gemeinsame antifaschistische Protestaktion) \n\nOrt: Ketsch Marktplatz | Demonstrationszug zur Rheinhalle in Ketsch | Start um 8.30 Uhr\nab 9.00 Uhr Protest vor der Rheinhalle\nGemeinsame Anreise ab Heidelberg: 6.25 Uhr Treffpunkt am Hbf HD\n\n  \nMehr Infos dazu vom Veranstalter: (Externer Link) \nSave the Date: Protest gegen den AfD-Landesparteitag in Ketsch
URL:https://keinschrittnachrechts.de/event/extern-oat-mannheim-heidelberg-karlsruhe-der-afd-entgegentreten-auf-die-strasse-gegen-den-afd-landesparteitag-in-ketsch
CATEGORIES:Externe Veranstaltungen
END:VEVENT
END:VCALENDAR