BEGIN:VCALENDAR
VERSION:2.0
PRODID:-//Kein Schritt nach rechts - ECPv6.15.20//NONSGML v1.0//EN
CALSCALE:GREGORIAN
METHOD:PUBLISH
X-ORIGINAL-URL:https://keinschrittnachrechts.de
X-WR-CALDESC:Veranstaltungen für Kein Schritt nach rechts
REFRESH-INTERVAL;VALUE=DURATION:PT1H
X-Robots-Tag:noindex
X-PUBLISHED-TTL:PT1H
BEGIN:VTIMEZONE
TZID:Europe/Berlin
BEGIN:DAYLIGHT
TZOFFSETFROM:+0100
TZOFFSETTO:+0200
TZNAME:CEST
DTSTART:20240331T010000
END:DAYLIGHT
BEGIN:STANDARD
TZOFFSETFROM:+0200
TZOFFSETTO:+0100
TZNAME:CET
DTSTART:20241027T010000
END:STANDARD
BEGIN:DAYLIGHT
TZOFFSETFROM:+0100
TZOFFSETTO:+0200
TZNAME:CEST
DTSTART:20250330T010000
END:DAYLIGHT
BEGIN:STANDARD
TZOFFSETFROM:+0200
TZOFFSETTO:+0100
TZNAME:CET
DTSTART:20251026T010000
END:STANDARD
BEGIN:DAYLIGHT
TZOFFSETFROM:+0100
TZOFFSETTO:+0200
TZNAME:CEST
DTSTART:20260329T010000
END:DAYLIGHT
BEGIN:STANDARD
TZOFFSETFROM:+0200
TZOFFSETTO:+0100
TZNAME:CET
DTSTART:20261025T010000
END:STANDARD
END:VTIMEZONE
BEGIN:VEVENT
DTSTART;TZID=Europe/Berlin:20250725T183000
DTEND;TZID=Europe/Berlin:20250725T183000
DTSTAMP:20260425T170542
CREATED:20250722T204057Z
LAST-MODIFIED:20250722T204147Z
UID:2159-1753468200-1753468200@keinschrittnachrechts.de
SUMMARY:Extern | Fest der kulturellen Vielfalt
DESCRIPTION:20 Jahre UNESCO-Konvention zum Schutz und zur Förderung der kulturellen Vielfalt \nVor 20 Jahren verabschiedete die UNESCO das Übereinkommen zum Schutz und zur Förderung kultureller Vielfalt. Als UNESCO City of Literature engagiert sich die Stadt seit 2014 für grenzüberschreitenden kulturellen Austausch auf Augenhöhe sowie für künstlerische Freiheit jenseits ökonomischer Bewertung. Zum 20-jährigen Jubiläums des Übereinkommens präsentieren nun Künstler*innen aus Heidelberg und der Region\, vielfältiger Herkunft\, in kurzen\, spartenübergreifenden Formaten ihre künstlerischen Ausdrucksweisen. Im Mittelpunkt stehen interdisziplinäre Beiträge\, die zum Beispiel Literatur mit Tanz\, Musik oder Film verbinden. Das Spektrum reicht dabei von traditionell bis experimentell. Zur Feier am 25. Juli sind alle herzlich eingeladen! \nEine Veranstaltung des Kulturamt Heidelberg \nFr 25.07.25 / 18:30 \nEinlass 18:00 \nBestuhlt im Saal \nEintritt frei \nWeitere Informationen: (Externer Link)\nhttps://www.karlstorbahnhof.de/programm/veranstaltung/fest-der-kulturellen-vielfalt/
URL:https://keinschrittnachrechts.de/event/extern-fest-der-kulturellen-vielfalt
LOCATION:Karlstorbahnhof (Südstadt)\, Marlene-Dietrich-Platz 3\, Heidelberg\, Germany
CATEGORIES:Externe Veranstaltungen
END:VEVENT
END:VCALENDAR