BEGIN:VCALENDAR
VERSION:2.0
PRODID:-//Kein Schritt nach rechts - ECPv6.15.20//NONSGML v1.0//EN
CALSCALE:GREGORIAN
METHOD:PUBLISH
X-WR-CALNAME:Kein Schritt nach rechts
X-ORIGINAL-URL:https://keinschrittnachrechts.de
X-WR-CALDESC:Veranstaltungen für Kein Schritt nach rechts
REFRESH-INTERVAL;VALUE=DURATION:PT1H
X-Robots-Tag:noindex
X-PUBLISHED-TTL:PT1H
BEGIN:VTIMEZONE
TZID:Europe/Berlin
BEGIN:DAYLIGHT
TZOFFSETFROM:+0100
TZOFFSETTO:+0200
TZNAME:CEST
DTSTART:20240331T010000
END:DAYLIGHT
BEGIN:STANDARD
TZOFFSETFROM:+0200
TZOFFSETTO:+0100
TZNAME:CET
DTSTART:20241027T010000
END:STANDARD
BEGIN:DAYLIGHT
TZOFFSETFROM:+0100
TZOFFSETTO:+0200
TZNAME:CEST
DTSTART:20250330T010000
END:DAYLIGHT
BEGIN:STANDARD
TZOFFSETFROM:+0200
TZOFFSETTO:+0100
TZNAME:CET
DTSTART:20251026T010000
END:STANDARD
BEGIN:DAYLIGHT
TZOFFSETFROM:+0100
TZOFFSETTO:+0200
TZNAME:CEST
DTSTART:20260329T010000
END:DAYLIGHT
BEGIN:STANDARD
TZOFFSETFROM:+0200
TZOFFSETTO:+0100
TZNAME:CET
DTSTART:20261025T010000
END:STANDARD
END:VTIMEZONE
BEGIN:VEVENT
DTSTART;TZID=Europe/Berlin:20250504T170000
DTEND;TZID=Europe/Berlin:20250504T170000
DTSTAMP:20260425T175742
CREATED:20250426T135433Z
LAST-MODIFIED:20250506T185943Z
UID:1779-1746378000-1746378000@keinschrittnachrechts.de
SUMMARY:Extern | Beschwerdechor Heidelberg: Zirkusshow „Circus inclusioni“ in Mannheim
DESCRIPTION:„Inklusion ist für uns gemeinsam verschieden sein“\n \nDie Zirkusshow „Circus inclusioni“ wird auch in diesem Jahr vom Beschwerdechors Heidelberg wieder in einem richtigen Zirkuszelt präsentiert.\n \nWer sie 2024 beim Heidelberger Zirkus Peperoni verpasst hat\, kann dies am 4. Mai im Kinder- und Jugendzirkus Paletti in Mannheim nachholen.\n \nUnter der Leitung von Bernhard Bentgens werden viele humorgetränkte Lieder über die Alltagserlebnisse von Behinderten mit skurrilen und absurden Momenten unter dem Motto „Inklusion ist für uns gemeinsam verschieden sein“ präsentiert. \n \nInformationen und den Vorverkauf gibt es auf der Webseite des Beschwerdechors Heidelberg: www.beschwerdechor-heidelberg.de (externer Link)\n\n \nDort gibt es auch per Video einen kleinen Vorgeschmack auf die originelle Inklusionsshow in echter Zirkuszeltatmosphäre.
URL:https://keinschrittnachrechts.de/event/extern-beschwerdechor-heidelberg-zirkusshow-circus-inclusioni-in-mannheim
LOCATION:Zrkus Paletti Mannheim\, Im pfeifferswörth 28a\, Mannheim
CATEGORIES:Externe Veranstaltungen
END:VEVENT
BEGIN:VEVENT
DTSTART;TZID=Europe/Berlin:20250510T160000
DTEND;TZID=Europe/Berlin:20250510T180000
DTSTAMP:20260425T175742
CREATED:20250426T145028Z
LAST-MODIFIED:20250508T150523Z
UID:1791-1746892800-1746900000@keinschrittnachrechts.de
SUMMARY:Extern | Aktionsbündnis Inklusion Heidelberg: Kundgebung zum Europäischen Protesttag zur Gleichstellung von Menschen mit Behinderung:en
DESCRIPTION:Inklusion ist Teil der Lösung! Schluss mit Ausgrenzung – Keine*r bleibt zurück!\nWann? Am 10. Mai 2025 von 16 Uhr bis 18 Uhr\nWo? Gadamerplatz\, 69115 Heidelberg\nUnd online per Livestream (der Link ist weiter unten). \nWir setzen gemeinsam ein starkes Zeichen für Inklusion.\nUnser Motto ist: „Inklusion ist Teil der Lösung! Schluss mit Ausgrenzung – Keine*r bleibt zurück!“.\nDas bedeutet: Inklusion ist kein Problem.\nInklusion ist wichtig\, um Probleme zu lösen. \nWofür wir zusammen kämpfen:\n✅ Für eine inklusive Gesellschaft\n✅ Für die Rechte von Menschen mit Behinderungen\n✅ Für die Anerkennung von Menschen mit ME/CFS (Menschen mit ME/CFS sind schwer krank und werden nicht gut versorgt!) \nWas du tun kannst:\nKomm vorbei!\nBringe Freund*innen und Familie mit.\nZeige deine Unterstützung.\nGemeinsam sind wir stark! \n \nDiese und weitere Informationen u.a. zum LiveStream der Veranstaltung und zu Möglichkeiten\, die Veranstaltung zu unterstützen\,  gibt es dort: (externer Link)\nhttps://klimanetz-heidelberg.de/kundgebung-fur-inklusion-am-10-mai-in-heidelberg/ \nInfos zur Barrierefreiheit\n\nVerdolmetschung in Deutsche Gebärdensprache\nMobile Induktionsanlage\nRollstuhlgerechte Parkplätze\nRollstuhlgerechte öffentliche Toiletten\nRückzugsorte (reizarm)\nAudiodeskription\nEinfache Sprache\nLive Stream über Zoom*\nAwarenessteam\n\nDer Flyer in einer AudioVersion. \n 
URL:https://keinschrittnachrechts.de/event/extern-aktionsbuendnis-inklusion-heidelberg-kundgebung-zum-europaeischen-protesttag-zur-gleichstellung-von-menschen-mit-behinderungen
LOCATION:Gadamerplatz\, Gadamerplatz\, Heidelberg
CATEGORIES:Externe Veranstaltungen
END:VEVENT
END:VCALENDAR