BEGIN:VCALENDAR
VERSION:2.0
PRODID:-//Kein Schritt nach rechts - ECPv6.15.20//NONSGML v1.0//EN
CALSCALE:GREGORIAN
METHOD:PUBLISH
X-ORIGINAL-URL:https://keinschrittnachrechts.de
X-WR-CALDESC:Veranstaltungen für Kein Schritt nach rechts
REFRESH-INTERVAL;VALUE=DURATION:PT1H
X-Robots-Tag:noindex
X-PUBLISHED-TTL:PT1H
BEGIN:VTIMEZONE
TZID:Europe/Berlin
BEGIN:DAYLIGHT
TZOFFSETFROM:+0100
TZOFFSETTO:+0200
TZNAME:CEST
DTSTART:20240331T010000
END:DAYLIGHT
BEGIN:STANDARD
TZOFFSETFROM:+0200
TZOFFSETTO:+0100
TZNAME:CET
DTSTART:20241027T010000
END:STANDARD
BEGIN:DAYLIGHT
TZOFFSETFROM:+0100
TZOFFSETTO:+0200
TZNAME:CEST
DTSTART:20250330T010000
END:DAYLIGHT
BEGIN:STANDARD
TZOFFSETFROM:+0200
TZOFFSETTO:+0100
TZNAME:CET
DTSTART:20251026T010000
END:STANDARD
BEGIN:DAYLIGHT
TZOFFSETFROM:+0100
TZOFFSETTO:+0200
TZNAME:CEST
DTSTART:20260329T010000
END:DAYLIGHT
BEGIN:STANDARD
TZOFFSETFROM:+0200
TZOFFSETTO:+0100
TZNAME:CET
DTSTART:20261025T010000
END:STANDARD
END:VTIMEZONE
BEGIN:VEVENT
DTSTART;TZID=Europe/Berlin:20250513T193000
DTEND;TZID=Europe/Berlin:20250513T213000
DTSTAMP:20260425T220224
CREATED:20250430T095028Z
LAST-MODIFIED:20250506T185741Z
UID:1804-1747164600-1747171800@keinschrittnachrechts.de
SUMMARY:Extern | Die Neue Rechte im Kampf um Hegemonie! (Vortrag & Diskussion)
DESCRIPTION:13.05 19:30 Rabatz | IL HD/akut+c | Vortrag & Diskussion zur Broschüre „Die Neue Rechte im Kampf um Hegemonie!“ \nWie schaffen es Menschen wie Trump oder die identitäre Bewegung Hegemonie / Vorherrschaft in den Köpfen voranzutreiben?\nBroschüre im Druck.
URL:https://keinschrittnachrechts.de/event/extern-die-neue-rechte-im-kampf-um-hegemonie
LOCATION:Rabatz  (Zugang von der John-Zenger-Str.)\, Rheinstr. 4\, Heidelberg\, 69115
CATEGORIES:Externe Veranstaltungen
END:VEVENT
END:VCALENDAR