BEGIN:VCALENDAR
VERSION:2.0
PRODID:-//Kein Schritt nach rechts - ECPv6.15.20//NONSGML v1.0//EN
CALSCALE:GREGORIAN
METHOD:PUBLISH
X-WR-CALNAME:Kein Schritt nach rechts
X-ORIGINAL-URL:https://keinschrittnachrechts.de
X-WR-CALDESC:Veranstaltungen für Kein Schritt nach rechts
REFRESH-INTERVAL;VALUE=DURATION:PT1H
X-Robots-Tag:noindex
X-PUBLISHED-TTL:PT1H
BEGIN:VTIMEZONE
TZID:Europe/Berlin
BEGIN:DAYLIGHT
TZOFFSETFROM:+0100
TZOFFSETTO:+0200
TZNAME:CEST
DTSTART:20240331T010000
END:DAYLIGHT
BEGIN:STANDARD
TZOFFSETFROM:+0200
TZOFFSETTO:+0100
TZNAME:CET
DTSTART:20241027T010000
END:STANDARD
BEGIN:DAYLIGHT
TZOFFSETFROM:+0100
TZOFFSETTO:+0200
TZNAME:CEST
DTSTART:20250330T010000
END:DAYLIGHT
BEGIN:STANDARD
TZOFFSETFROM:+0200
TZOFFSETTO:+0100
TZNAME:CET
DTSTART:20251026T010000
END:STANDARD
BEGIN:DAYLIGHT
TZOFFSETFROM:+0100
TZOFFSETTO:+0200
TZNAME:CEST
DTSTART:20260329T010000
END:DAYLIGHT
BEGIN:STANDARD
TZOFFSETFROM:+0200
TZOFFSETTO:+0100
TZNAME:CET
DTSTART:20261025T010000
END:STANDARD
END:VTIMEZONE
BEGIN:VEVENT
DTSTART;TZID=Europe/Berlin:20250804T190000
DTEND;TZID=Europe/Berlin:20250804T210000
DTSTAMP:20260425T135214
CREATED:20250725T141141Z
LAST-MODIFIED:20250725T141141Z
UID:2178-1754334000-1754341200@keinschrittnachrechts.de
SUMMARY:KSNR | Treffen des Arbeitskreises Events
DESCRIPTION:Am Montag\, dem 4. August um 19.00 Uhr trifft sich der Arbeitskreis Events. Für weitere Informationen und falls Du Lust hast\, zum Treffen dazuzukommen\, schreibe uns gerne eine Mail. \nIn diesem Arbeitskreis finden die Vorbereitungen für den 12. Oktober statt. 🙂 \n\n\nWir freuen uns sehr über Interesse und neue Menschen!
URL:https://keinschrittnachrechts.de/event/ksnr-treffen-des-arbeitskreises-events_
CATEGORIES:Kein Schritt nach Rechts
END:VEVENT
BEGIN:VEVENT
DTSTART;TZID=Europe/Berlin:20250804T170000
DTEND;TZID=Europe/Berlin:20250804T170000
DTSTAMP:20260425T135214
CREATED:20250725T141524Z
LAST-MODIFIED:20250725T141524Z
UID:2181-1754326800-1754326800@keinschrittnachrechts.de
SUMMARY:KSNR | Treffen des Arbeitskreises Finanzen
DESCRIPTION:Am Montag\, dem 4. August um 17.00 Uhr trifft sich der Arbeitskreis Events. Für weitere Informationen und falls Du Lust hast\, zum Treffen dazuzukommen\, schreibe uns gerne eine Mail. \n\n\nWir freuen uns immer über Interesse und neue Menschen!
URL:https://keinschrittnachrechts.de/event/ksnr-treffen-des-arbeitskreises-finanzen-4
CATEGORIES:Kein Schritt nach Rechts
END:VEVENT
BEGIN:VEVENT
DTSTART;TZID=Europe/Berlin:20250813T180000
DTEND;TZID=Europe/Berlin:20250813T180000
DTSTAMP:20260425T135214
CREATED:20250730T104057Z
LAST-MODIFIED:20250813T125219Z
UID:2190-1755108000-1755108000@keinschrittnachrechts.de
SUMMARY:KSNR | Pop-Up-Lesung in Wieblingen
DESCRIPTION:Geänderte Anfangszeit: Wegen der Hitze starten wir um 18 Uhr. \n\nWir starten eine neue Reihe mit Lesungen zu den Themen Demokratie\, Engagement\, Aktivismus\, Antidiskriminierung usw. Wir wollen in den Stadtteilen Heidelbergs aus Texten vorlesen\, die verschiedene Aspekte dessen thematisieren\, wofür das Bündnis steht. Seien es Gedichte\, Kurzgeschichten\, Romanauszüge oder Sachtexte. Um verschiedene Perspektiven zu sehen\, auf neue Gedanken zu kommen und dann natürlich auch darüber zu reden. \nLos geht’s am 13. August um 15 Uhr in Wieblingen am Kerweplatz\, mit dem Schwerpunkt Kinder\, Jugendliche und Familien.
URL:https://keinschrittnachrechts.de/event/ksnr-pop-up-lesung-in-wieblingen
LOCATION:Kerweplatz Wieblingen\, Neckarhamm\, Heidelberg\, 69123\, Germany
CATEGORIES:Kein Schritt nach Rechts
END:VEVENT
BEGIN:VEVENT
DTSTART;TZID=Europe/Berlin:20250814T190000
DTEND;TZID=Europe/Berlin:20250814T190000
DTSTAMP:20260425T135214
CREATED:20250809T110835Z
LAST-MODIFIED:20250809T110835Z
UID:2214-1755198000-1755198000@keinschrittnachrechts.de
SUMMARY:KSNR | Treffen des Arbeitskreises Öffentlichkeitsarbeit
DESCRIPTION:Am Donnerstag\, dem 14. August um 19 Uhr trifft sich der Arbeitskreis Öffentlichkeitsarbeit. Für weitere Informationen und falls Du Lust hast\, zum Treffen dazuzukommen\, schreibe uns gerne eine Mail. \nWir freuen uns immer über Interesse und neue Menschen! 🙂 Und ganz besonders jetzt vor dem 12. Oktober. \nKommt dazu! 🤗
URL:https://keinschrittnachrechts.de/event/ksnr-treffen-des-arbeitskreises-oeffentlichkeitsarbeit-10
CATEGORIES:Kein Schritt nach Rechts
END:VEVENT
BEGIN:VEVENT
DTSTART;TZID=Europe/Berlin:20250814T193000
DTEND;TZID=Europe/Berlin:20250814T213000
DTSTAMP:20260425T135214
CREATED:20250706T095742Z
LAST-MODIFIED:20250711T172750Z
UID:2091-1755199800-1755207000@keinschrittnachrechts.de
SUMMARY:KSNR | Treffen des Arbeitskreises Aktion (Online)
DESCRIPTION:Jeden zweiten Donnerstag im Monat trifft sich der Arbeitskreis Aktion um 19:30 Uhr. Für weitere Informationen und falls Du Lust hast\, zum Treffen dazuzukommen\, schreibe uns gerne eine Mail. \nWir freuen uns immer über Interesse und neue Menschen!
URL:https://keinschrittnachrechts.de/event/ksnr-treffen-des-arbeitskreises-aktion-3
CATEGORIES:Kein Schritt nach Rechts
END:VEVENT
BEGIN:VEVENT
DTSTART;TZID=Europe/Berlin:20250820T190000
DTEND;TZID=Europe/Berlin:20250820T220000
DTSTAMP:20260425T135214
CREATED:20250725T143542Z
LAST-MODIFIED:20250725T143542Z
UID:2183-1755716400-1755727200@keinschrittnachrechts.de
SUMMARY:KSNR | Planungstreffen Gesamtbündnis
DESCRIPTION:👉Das nächste PLANUNGSTREFFEN WIRD AM MI 20.8.\, um 19 UHR stattfinden. Bring Dich\, wenn du kannst\, gerne mit ein – egal ob du bereits aktiv bist oder noch ganz neu. Wir wollen und müssen weiter gemeinsam und entschlossen für Menschenwürde und unsere Grundrechte einstehen. Das können wir nur gemeinsam schaffen. 👈\nBei Fragen schreibe gerne an: info@keinschrittnachrechts.de \n 
URL:https://keinschrittnachrechts.de/event/ksnr-planungstreffen-gesamtbuendnis-2
CATEGORIES:Kein Schritt nach Rechts
END:VEVENT
BEGIN:VEVENT
DTSTART;TZID=Europe/Berlin:20250821T190000
DTEND;TZID=Europe/Berlin:20250821T190000
DTSTAMP:20260425T135214
CREATED:20250805T192055Z
LAST-MODIFIED:20250805T192055Z
UID:2206-1755802800-1755802800@keinschrittnachrechts.de
SUMMARY:KSNR | Treffen des Arbeitskreises Bildung
DESCRIPTION:Am Donerstag\, dem 21. August\, 19:00 Uhr trifft sich der Arbeitskreis Bildung. Für weitere Informationen und falls Du Lust hast\, zum Treffen dazuzukommen\, schreibe uns gerne eine Mail. \nWir freuen uns immer über Interesse und neue Menschen\, und jetzt vor dem Fest am 12. Oktober ganz besonders!!\nEs ist ziemlich bunt\, interessant und abwechslungsreich. Und oft auch lecker. Einfach mal anschauen. 🙂 \nKommt dazu! 🤗
URL:https://keinschrittnachrechts.de/event/ksnr-treffen-des-arbeitskreises-bildung-8
CATEGORIES:Kein Schritt nach Rechts
END:VEVENT
BEGIN:VEVENT
DTSTART;TZID=Europe/Berlin:20250825T190000
DTEND;TZID=Europe/Berlin:20250825T190000
DTSTAMP:20260425T135214
CREATED:20250722T195732Z
LAST-MODIFIED:20250821T085329Z
UID:2155-1756148400-1756148400@keinschrittnachrechts.de
SUMMARY:KSNR | Treffen des Arbeitskreises Kultur
DESCRIPTION:Am Montag\, dem 25. August um 19 Uhr trifft sich der Arbeitskreis Kultur. Für weitere Informationen und falls du Lust hast\, zum Treffen dazuzukommen\, schreib uns gerne eine Mail. \nWir freuen uns immer über Interesse und neue Menschen!
URL:https://keinschrittnachrechts.de/event/ksnr-treffen-des-arbeitskreises-kultur-5
CATEGORIES:Kein Schritt nach Rechts
END:VEVENT
BEGIN:VEVENT
DTSTART;TZID=Europe/Berlin:20250826T190000
DTEND;TZID=Europe/Berlin:20250826T200000
DTSTAMP:20260425T135214
CREATED:20250809T185811Z
LAST-MODIFIED:20250809T185811Z
UID:2223-1756234800-1756238400@keinschrittnachrechts.de
SUMMARY:KSNR | Workshop: Demo anmelden und organisieren (1 h)
DESCRIPTION:Demonstrationen sind ein wichtiger Teil unserer Demokratie. Mit Demonstrationen können wir uns politisch Positionieren\, unsere Anliegen sichtbar machen\, Utopien Erleben und an Diskursen teilnehmen. Als ein im Grundgesetz verankertes Grundrecht waren Demonstrationen ein wichtiges Mittel für grundlegende Rechte zu erkämpfen und sind eines der wenigen Mittel für Bürger*innen teil an Politik zu haben. Bei dem Workshop geht es darum zu lernen\, wie Demonstrationen angemeldet werden können und was bei der Organisation von Demonstrationen (rechtlich) beachtet werden muss. \nDauer: 1 Stunde\nDatum: 26. August\nUhrzeit: 19 Uhr\nVeranstaltungsort: Laden für Kultur und Politik \nAnmeldung an: queerfeministisches.kollektiv.hd@gmail.com
URL:https://keinschrittnachrechts.de/event/ksnr-workshop-demo-anmelden-und-organisieren-1-h
LOCATION:Laden für Kultur und Politik\, Kaiserstr. 62\, Heidleberg
CATEGORIES:Kein Schritt nach Rechts
END:VEVENT
BEGIN:VEVENT
DTSTART;TZID=Europe/Berlin:20250828T190000
DTEND;TZID=Europe/Berlin:20250828T190000
DTSTAMP:20260425T135214
CREATED:20250824T184110Z
LAST-MODIFIED:20250824T184623Z
UID:2265-1756407600-1756407600@keinschrittnachrechts.de
SUMMARY:KSNR | Treffen des Arbeitskreises Öffentlichkeitsarbeit
DESCRIPTION:Am Donnerstag\, dem 28. August um 19 Uhr trifft sich der Arbeitskreis Öffentlichkeitsarbeit. Für weitere Informationen und falls Du Lust hast\, zum Treffen dazuzukommen\, schreibe uns gerne eine Mail. \nWir freuen uns immer über Interesse und neue Menschen! 🙂 Und ganz besonders jetzt vor dem 12. Oktober. \nKommt dazu! 🤗
URL:https://keinschrittnachrechts.de/event/ksnr-treffen-des-arbeitskreises-oeffentlichkeitsarbeit-11
CATEGORIES:Kein Schritt nach Rechts
END:VEVENT
BEGIN:VEVENT
DTSTART;TZID=Europe/Berlin:20250830T170000
DTEND;TZID=Europe/Berlin:20250830T170000
DTSTAMP:20260425T135214
CREATED:20250730T104531Z
LAST-MODIFIED:20250813T125505Z
UID:2194-1756573200-1756573200@keinschrittnachrechts.de
SUMMARY:KSNR | Aktivis-Muss Literaturpicknick am Iqbal-Ufer
DESCRIPTION:Der Sommer neigt sich dem Ende zu\, aber gute Texte bleiben für immer. Deswegen organisieren wir ein entspanntes Get-Together mit Mitbringbuffett und Open Mic. \nBeim Open Mic könnt ihr Texte vortragen – ob Liebesbriefe an die Demokratie\, Texte\, die euch mitnehmen\, oder eure Lieblingszitate und Musik: Kommt einfach (auch spontan) dazu. \nUm das Picknick und das Bündnis zu finanzieren\, organisieren wir auch einen Bücherflohmarkt.
URL:https://keinschrittnachrechts.de/event/ksnr-literaturpicknick-am-iqbal-ufer
LOCATION:Neckarort Iqbalufer\, Schurmannstraße\, Heidelberg\, 69115\, Germany
CATEGORIES:Kein Schritt nach Rechts
END:VEVENT
END:VCALENDAR