BEGIN:VCALENDAR
VERSION:2.0
PRODID:-//Kein Schritt nach rechts - ECPv6.15.20//NONSGML v1.0//EN
CALSCALE:GREGORIAN
METHOD:PUBLISH
X-WR-CALNAME:Kein Schritt nach rechts
X-ORIGINAL-URL:https://keinschrittnachrechts.de
X-WR-CALDESC:Veranstaltungen für Kein Schritt nach rechts
REFRESH-INTERVAL;VALUE=DURATION:PT1H
X-Robots-Tag:noindex
X-PUBLISHED-TTL:PT1H
BEGIN:VTIMEZONE
TZID:Europe/Berlin
BEGIN:DAYLIGHT
TZOFFSETFROM:+0100
TZOFFSETTO:+0200
TZNAME:CEST
DTSTART:20240331T010000
END:DAYLIGHT
BEGIN:STANDARD
TZOFFSETFROM:+0200
TZOFFSETTO:+0100
TZNAME:CET
DTSTART:20241027T010000
END:STANDARD
BEGIN:DAYLIGHT
TZOFFSETFROM:+0100
TZOFFSETTO:+0200
TZNAME:CEST
DTSTART:20250330T010000
END:DAYLIGHT
BEGIN:STANDARD
TZOFFSETFROM:+0200
TZOFFSETTO:+0100
TZNAME:CET
DTSTART:20251026T010000
END:STANDARD
BEGIN:DAYLIGHT
TZOFFSETFROM:+0100
TZOFFSETTO:+0200
TZNAME:CEST
DTSTART:20260329T010000
END:DAYLIGHT
BEGIN:STANDARD
TZOFFSETFROM:+0200
TZOFFSETTO:+0100
TZNAME:CET
DTSTART:20261025T010000
END:STANDARD
END:VTIMEZONE
BEGIN:VEVENT
DTSTART;TZID=Europe/Berlin:20250112T180000
DTEND;TZID=Europe/Berlin:20250112T200000
DTSTAMP:20260426T050955
CREATED:20250111T085627Z
LAST-MODIFIED:20250113T183636Z
UID:1139-1736704800-1736712000@keinschrittnachrechts.de
SUMMARY:Extern | Orga-Treffen Erinnern.Verändern
DESCRIPTION:ERINNERN HEIßT VERÄNDERN \nAm 19.02.2025 jährt sich der rassistische Anschlag in Hanau zum 5. mal. \nDie Namen der Menschen\, die am 19. Februar 2020 in Hanau ermordet wurden\, dürfen nicht vergessen werden: Gökhan Gültekin\, Sedat Gürbüz\, Said Nesar Hashemi\, Mercedes Kierpacz\, Hamza Kurtović\, Vili Viorel Păun\, Fatih Saraçoğlu\, Ferhat Unvar und Kaloyan Velkov. \nWir von erinnern.verändern laden zur Planung ein und freuen uns über Menschen\, die sich in den nächsten Wochen beteiligen. \nWie jedes Jahr organisieren wir mehrere Veranstaltungen im Februar und bauen gemeinsam Gedenkstätten in verschiedenen Stadtteilen auf. Wir würden sehr gerne auch mit einer Demo oder Kundgebung dem 5. Jahrestag Raum in Heidelberg geben. Um das umsetzen zu können\, braucht es jedoch mehr Menschen in der Orga\, wir sind noch zu wenige bisher. \nAlso sei dabei und kommt am \n12.01. um 18:00 Uhr zu einem Treffen. (Es gab bereits ein erstes Orga-Treffen im Dezember) \nMelde dich für die Adresse bitte bei unserer Email \nJede Unterstützung\, die du geben kannst\, ist passend! \nWebseite: https://erinnern-veraendern.de
URL:https://keinschrittnachrechts.de/event/extern-orga-treffen-erinnern-veraendern
CATEGORIES:Externe Veranstaltungen
END:VEVENT
END:VCALENDAR