BEGIN:VCALENDAR
VERSION:2.0
PRODID:-//Kein Schritt nach rechts - ECPv6.15.20//NONSGML v1.0//EN
CALSCALE:GREGORIAN
METHOD:PUBLISH
X-ORIGINAL-URL:https://keinschrittnachrechts.de
X-WR-CALDESC:Veranstaltungen für Kein Schritt nach rechts
REFRESH-INTERVAL;VALUE=DURATION:PT1H
X-Robots-Tag:noindex
X-PUBLISHED-TTL:PT1H
BEGIN:VTIMEZONE
TZID:Europe/Berlin
BEGIN:DAYLIGHT
TZOFFSETFROM:+0100
TZOFFSETTO:+0200
TZNAME:CEST
DTSTART:20240331T010000
END:DAYLIGHT
BEGIN:STANDARD
TZOFFSETFROM:+0200
TZOFFSETTO:+0100
TZNAME:CET
DTSTART:20241027T010000
END:STANDARD
BEGIN:DAYLIGHT
TZOFFSETFROM:+0100
TZOFFSETTO:+0200
TZNAME:CEST
DTSTART:20250330T010000
END:DAYLIGHT
BEGIN:STANDARD
TZOFFSETFROM:+0200
TZOFFSETTO:+0100
TZNAME:CET
DTSTART:20251026T010000
END:STANDARD
BEGIN:DAYLIGHT
TZOFFSETFROM:+0100
TZOFFSETTO:+0200
TZNAME:CEST
DTSTART:20260329T010000
END:DAYLIGHT
BEGIN:STANDARD
TZOFFSETFROM:+0200
TZOFFSETTO:+0100
TZNAME:CET
DTSTART:20261025T010000
END:STANDARD
END:VTIMEZONE
BEGIN:VEVENT
DTSTART;TZID=Europe/Berlin:20250211T190000
DTEND;TZID=Europe/Berlin:20250211T210000
DTSTAMP:20260426T004915
CREATED:20250208T155936Z
LAST-MODIFIED:20250208T155936Z
UID:1408-1739300400-1739307600@keinschrittnachrechts.de
SUMMARY:Extern | GEW: Sozialpsychologie des Rechtspopulismus
DESCRIPTION:Vortrag mit Dr. Alexander Neupert\nIn der letzten Leipziger Autoritarismusstudie von 2022 wurde nachgewiesen\,  dass die AfD mit ihrem Fremdenhass besonders in Regionen erfolgreich ist\,  wo wenig Menschen mit Migrationshintergrund leben (2022: 164). Das klingt  paradox: Je weniger „Fremde“ um so mehr Angst vor „Überfremdung“? \nWeitere Informationen zur Veranstaltung: (externer Link)\nhttps://www.gew-bw.de/veranstaltungen/detailseite/sozialpsychologie-des-rechtspopulismus
URL:https://keinschrittnachrechts.de/event/extern-gew-sozialpsychologie-des-rechtspopulismus
LOCATION:Collegium Academicum\, Heidelberg\, Marie-Clauss-Straße 3\, Heidelberg\, 69115\, Germany
CATEGORIES:Externe Veranstaltungen
END:VEVENT
END:VCALENDAR