BEGIN:VCALENDAR
VERSION:2.0
PRODID:-//Kein Schritt nach rechts - ECPv6.15.20//NONSGML v1.0//EN
CALSCALE:GREGORIAN
METHOD:PUBLISH
X-ORIGINAL-URL:https://keinschrittnachrechts.de
X-WR-CALDESC:Veranstaltungen für Kein Schritt nach rechts
REFRESH-INTERVAL;VALUE=DURATION:PT1H
X-Robots-Tag:noindex
X-PUBLISHED-TTL:PT1H
BEGIN:VTIMEZONE
TZID:Europe/Berlin
BEGIN:DAYLIGHT
TZOFFSETFROM:+0100
TZOFFSETTO:+0200
TZNAME:CEST
DTSTART:20250330T010000
END:DAYLIGHT
BEGIN:STANDARD
TZOFFSETFROM:+0200
TZOFFSETTO:+0100
TZNAME:CET
DTSTART:20251026T010000
END:STANDARD
BEGIN:DAYLIGHT
TZOFFSETFROM:+0100
TZOFFSETTO:+0200
TZNAME:CEST
DTSTART:20260329T010000
END:DAYLIGHT
BEGIN:STANDARD
TZOFFSETFROM:+0200
TZOFFSETTO:+0100
TZNAME:CET
DTSTART:20261025T010000
END:STANDARD
BEGIN:DAYLIGHT
TZOFFSETFROM:+0100
TZOFFSETTO:+0200
TZNAME:CEST
DTSTART:20270328T010000
END:DAYLIGHT
BEGIN:STANDARD
TZOFFSETFROM:+0200
TZOFFSETTO:+0100
TZNAME:CET
DTSTART:20271031T010000
END:STANDARD
END:VTIMEZONE
BEGIN:VEVENT
DTSTART;TZID=Europe/Berlin:20260311T200000
DTEND;TZID=Europe/Berlin:20260311T200000
DTSTAMP:20260424T170009
CREATED:20260306T223033Z
LAST-MODIFIED:20260306T223033Z
UID:3123-1773259200-1773259200@keinschrittnachrechts.de
SUMMARY:Extern | Meinungsfreiheit - Wer bestimmt\, was Hass und Hetze ist?
DESCRIPTION:Im Dialog: Ronen Steinke und Anna Clauß \nNoch nie gab es in der Bundesrepublik so viele und so strenge Gesetze zur Regulierung und Einschränkung der Meinungsfreiheit wie heute. In den vergangenen zehn Jahren ist eine Vielzahl neuer Paragrafen hinzugekommen\, um bestimmte Äußerungen zu verbieten. Der Staat definiert Sätze als strafbar\, die noch vor zehn Jahren unter die Meinungsfreiheit fielen. Ronen Steinke zeigt auf\, wo heute die Grenzen der Meinungsfreiheit verlaufen – auch im digitalen Raum. Im Gespräch mit Anna Clauß diskutiert er\, wie wir mehr Meinungsfreiheit wagen\, auf Debatten eingehen und mutiger sein können. \nRonen Steinke ist promovierter Jurist und Lehrbeauftragter an der Goethe-Universität Frankfurt. Er arbeitet als leitender Redakteur im Politikressort der Süddeutschen Zeitung. 2026 erscheint sein Buch Meinungs­freiheit. Wie Polizei und Justiz unser Grundrecht einschränken – und wie wir es verteidigen. \nAnna Clauß hat Kulturwirtschaft in Passau und Journalismus in München studiert. Seit 2021 ist sie Leiterin des Ressorts Meinung und Debatte beim SPIEGEL. \nWeitere Informationen (externer Link):\nhttps://dai-heidelberg.de/de/veranstaltungen/ronen-steinke-anna-clauss-72191/
URL:https://keinschrittnachrechts.de/event/extern-meinungsfreiheit-wer-bestimmt-was-hass-und-hetze-ist
LOCATION:Deutsch-Amerikanisches Institut (DAI)\, Sofienstr. 12\, Heidelberg\, 69115\, Germany
CATEGORIES:Externe Veranstaltungen
END:VEVENT
BEGIN:VEVENT
DTSTART;TZID=Europe/Berlin:20260312T201500
DTEND;TZID=Europe/Berlin:20260312T201500
DTSTAMP:20260424T170009
CREATED:20260303T091409Z
LAST-MODIFIED:20260303T091409Z
UID:3050-1773346500-1773346500@keinschrittnachrechts.de
SUMMARY:Extern | Lesung: "Margot Friedländer. Eine Stimme für das Leben"
DESCRIPTION:Im Gespräch mit Rabbiner Janusz Jona Pawełczyk‑Kissin und seiner Ehefrau Irina erzählt Fotograf und Herausgeber Marcus C. Hurek am Donnerstag\, 12. März\, um 20.15 Uhr von seinen Begegnungen mit Margot Friedländer\, von der Entstehung des Buches „Margot Friedländer. Eine Stimme für das Leben“ und von seiner Begleitung einer der bedeutendsten Stimmen der Schoa‑Erinnerung. \nIm Mittelpunkt des Abends in der Buchhandlung Schmitt & Hahn\, Hauptstraße 8\, stehen die eindrucksvollen Fotografien\, ausgewählte Zitate Margot Friedländers sowie ihre zeitlos gültige Botschaft von Menschlichkeit\, Toleranz und der Verantwortung\, Erinnerung lebendig zu halten. Der Eintritt kostet 10 (Schüler und Studenten: 5) Euro. Um Anmeldung unter Telefon: 06221 / 138371 wird gebeten. \nWeitere Informationen (externer Link): \nhttps://www.schmitt-hahn.de/shop/magazine/130630/veranstaltungen_in_der_hauptstrasse.html
URL:https://keinschrittnachrechts.de/event/extern-lesung-margot-friedlaender-eine-stimme-fuer-das-leben
LOCATION:Buchhandlung Schmitt & Hahn\, Hauptstr. 8\, Heidelberg\, 69117\, Germany
CATEGORIES:Externe Veranstaltungen
END:VEVENT
END:VCALENDAR