BEGIN:VCALENDAR
VERSION:2.0
PRODID:-//Kein Schritt nach rechts - ECPv6.15.20//NONSGML v1.0//EN
CALSCALE:GREGORIAN
METHOD:PUBLISH
X-ORIGINAL-URL:https://keinschrittnachrechts.de
X-WR-CALDESC:Veranstaltungen für Kein Schritt nach rechts
REFRESH-INTERVAL;VALUE=DURATION:PT1H
X-Robots-Tag:noindex
X-PUBLISHED-TTL:PT1H
BEGIN:VTIMEZONE
TZID:Europe/Berlin
BEGIN:DAYLIGHT
TZOFFSETFROM:+0100
TZOFFSETTO:+0200
TZNAME:CEST
DTSTART:20230326T010000
END:DAYLIGHT
BEGIN:STANDARD
TZOFFSETFROM:+0200
TZOFFSETTO:+0100
TZNAME:CET
DTSTART:20231029T010000
END:STANDARD
BEGIN:DAYLIGHT
TZOFFSETFROM:+0100
TZOFFSETTO:+0200
TZNAME:CEST
DTSTART:20240331T010000
END:DAYLIGHT
BEGIN:STANDARD
TZOFFSETFROM:+0200
TZOFFSETTO:+0100
TZNAME:CET
DTSTART:20241027T010000
END:STANDARD
BEGIN:DAYLIGHT
TZOFFSETFROM:+0100
TZOFFSETTO:+0200
TZNAME:CEST
DTSTART:20250330T010000
END:DAYLIGHT
BEGIN:STANDARD
TZOFFSETFROM:+0200
TZOFFSETTO:+0100
TZNAME:CET
DTSTART:20251026T010000
END:STANDARD
END:VTIMEZONE
BEGIN:VEVENT
DTSTART;TZID=Europe/Berlin:20241018T190000
DTEND;TZID=Europe/Berlin:20241018T220000
DTSTAMP:20260426T015714
CREATED:20241009T143415Z
LAST-MODIFIED:20241009T143415Z
UID:669-1729278000-1729288800@keinschrittnachrechts.de
SUMMARY:KSNR | Veranstaltung: Strategien gegen Rechtsextremismus – Aktiv werden für Demokratie und Vielfalt!
DESCRIPTION:Mit Engagierten im Gespräch: \n\nAfD Watch Heidelberg\nAktionsbündnis Inklusion Heidelberg\nAKUT+[c] Heidelberg\nMusik- und Singschule Heidelberg\n\nWann: Freitag | 18. Oktober 2024 | 19 Uhr | Einlass ab 18.30 Uhr\nWo: Aula des Collegium Academicum\, Marie-Clauss-Str. 3\, Heidelberg-Rohrbach \nDie nächste ÖPNV Haltestelle ist die Ortenauer Straße in Heidelberg-Rohrbach.
URL:https://keinschrittnachrechts.de/event/ksnr-veranstaltung-strategien-gegen-rechtsextremismus-aktiv-werden-fuer-demokratie-und-vielfalt-2
LOCATION:Collegium Academicum\, Heidelberg\, Marie-Clauss-Straße 3\, Heidelberg\, 69115\, Germany
CATEGORIES:Kein Schritt nach Rechts
END:VEVENT
END:VCALENDAR