BEGIN:VCALENDAR
VERSION:2.0
PRODID:-//Kein Schritt nach rechts - ECPv6.15.20//NONSGML v1.0//EN
CALSCALE:GREGORIAN
METHOD:PUBLISH
X-ORIGINAL-URL:https://keinschrittnachrechts.de
X-WR-CALDESC:Veranstaltungen für Kein Schritt nach rechts
REFRESH-INTERVAL;VALUE=DURATION:PT1H
X-Robots-Tag:noindex
X-PUBLISHED-TTL:PT1H
BEGIN:VTIMEZONE
TZID:Europe/Berlin
BEGIN:DAYLIGHT
TZOFFSETFROM:+0100
TZOFFSETTO:+0200
TZNAME:CEST
DTSTART:20230326T010000
END:DAYLIGHT
BEGIN:STANDARD
TZOFFSETFROM:+0200
TZOFFSETTO:+0100
TZNAME:CET
DTSTART:20231029T010000
END:STANDARD
BEGIN:DAYLIGHT
TZOFFSETFROM:+0100
TZOFFSETTO:+0200
TZNAME:CEST
DTSTART:20240331T010000
END:DAYLIGHT
BEGIN:STANDARD
TZOFFSETFROM:+0200
TZOFFSETTO:+0100
TZNAME:CET
DTSTART:20241027T010000
END:STANDARD
BEGIN:DAYLIGHT
TZOFFSETFROM:+0100
TZOFFSETTO:+0200
TZNAME:CEST
DTSTART:20250330T010000
END:DAYLIGHT
BEGIN:STANDARD
TZOFFSETFROM:+0200
TZOFFSETTO:+0100
TZNAME:CET
DTSTART:20251026T010000
END:STANDARD
END:VTIMEZONE
BEGIN:VEVENT
DTSTART;TZID=Europe/Berlin:20241008T070000
DTEND;TZID=Europe/Berlin:20241008T210000
DTSTAMP:20260426T063635
CREATED:20240818T173808Z
LAST-MODIFIED:20240818T173808Z
UID:641-1728370800-1728421200@keinschrittnachrechts.de
SUMMARY:Extern | VHS: Initiative Stolpersteine für Heidelberg - Stolpersteine gegen das Vergessen
DESCRIPTION:Seit 1997 erinnern in vielen deutschen Städten im Boden eingelassene\, 10×10 cm große Messingtafeln\, an verfolgte und ermordete NS-Opfer vor deren letzten Wohnhäusern. Der Künstler Gunter Demnig aus Köln hat diese „Stolpersteine“ entworfen und bisher Tausende in zahlreichen deutschen und ausländischen Städten verlegt\, so auch in Heidelberg. Interessierte Heidelberger Bürger*innen und Organisationen sind zur Teilnahme an dieser Initiative herzlich eingeladen. (weiter) \nWann: 08. Oktober 2024\, 19:00 Uhr \nWo: VHS Heidelberg \nNähere Infos auf der Webseite der VHS Heidelberg.
URL:https://keinschrittnachrechts.de/event/extern-vhs-stolpersteine
LOCATION:Volkshochschule Heidelberg\, Bergheimer Straße 76\, Heidelberg\, 69115
CATEGORIES:Externe Veranstaltungen
END:VEVENT
BEGIN:VEVENT
DTSTART;TZID=Europe/Berlin:20241009T063000
DTEND;TZID=Europe/Berlin:20241009T200000
DTSTAMP:20260426T063635
CREATED:20240818T175138Z
LAST-MODIFIED:20240818T175138Z
UID:647-1728455400-1728504000@keinschrittnachrechts.de
SUMMARY:Extern | VHS: Europäische Öffentlichkeit und demokratische Kommunikation
DESCRIPTION:Europa hat viele Öffentlichkeiten\, aber keine gemeinsame. So eine der geläufigen Gegenwartsdiagnosen\, wenn es um das aktuelle Befinden unseres Kontinents geht. Woran aber liegt es\, dass Europa auch nach mehr als 70 Jahren des institutionellen Zusammenwachsens keine gemeinsame Öffentlichkeit auf die Beine gestellt bekommt? (weiter) \nWann: 09. Oktober 2024\, 18:30 Uhr \nWo: VHS Heidelberg (Online) \nNähere Infos auf der Webseite der VHS Heidelberg.
URL:https://keinschrittnachrechts.de/event/extern-vhs-europaeische-oeffentlichkeit
LOCATION:Online
CATEGORIES:Externe Veranstaltungen
END:VEVENT
BEGIN:VEVENT
DTSTART;TZID=Europe/Berlin:20241024T060000
DTEND;TZID=Europe/Berlin:20241024T193000
DTSTAMP:20260426T063635
CREATED:20240818T175721Z
LAST-MODIFIED:20240818T175721Z
UID:649-1729749600-1729798200@keinschrittnachrechts.de
SUMMARY:Extern | VHS: Sichere Quellen\, starke Demokratie – Recherche als Beruf(ung) Werkstattbericht der Rechercheeinheit von Information\, Dokumentation
DESCRIPTION:Was steckt heutzutage alles hinter der Erstellung eines Nachrichtenbeitrags\, einer Dokumentation oder eines Podcasts? Vor allem im Zeitalter von Deepfakes und anderen KI-generierten Inhalten wird eine ausführliche Recherche immer wichtiger. Als Rechercheur*innen der Hauptabteilung Information\, Dokumentation und Archive (IDA) unterstützen wir Redaktionen im SWR bei der Recherche nach guten Quellen\, den genauen Fakten und dem richtigen Bild- und Tonmaterial. Dafür recherchieren wir in eigenen und externen Datenbanken sowie im Internet. Demokratie lebt von informierten Bürgerinnen und Bürgern. Eine freie und unabhängige Medienlandschaft ist daher unerlässlich\, um die Öffentlichkeit mit verlässlichen Informationen zu versorgen und somit das Fundament unserer demokratischen Gesellschaft zu stärken. Mit unserer Arbeit stellen wir sicher\, dass die journalistischen Inhalte des SWR auf gründlicher Recherche basieren und vertrauenswürdig sind. So tragen wir dazu bei\, dass die Zuschauerinnen und Zuschauer gut informiert sind und fundierte Entscheidungen treffen können. (weiter) \nWann: 24. Oktober 2024\, 18:00 Uhr \nWo: VHS Heidelberg (Online) \nNähere Infos auf der Webseite der VHS Heidelberg.
URL:https://keinschrittnachrechts.de/event/extern-vhs-sichere-quellen-starke-demokratie
LOCATION:Online
CATEGORIES:Externe Veranstaltungen
END:VEVENT
END:VCALENDAR