BEGIN:VCALENDAR
VERSION:2.0
PRODID:-//Kein Schritt nach rechts - ECPv6.15.20//NONSGML v1.0//EN
CALSCALE:GREGORIAN
METHOD:PUBLISH
X-WR-CALNAME:Kein Schritt nach rechts
X-ORIGINAL-URL:https://keinschrittnachrechts.de
X-WR-CALDESC:Veranstaltungen für Kein Schritt nach rechts
REFRESH-INTERVAL;VALUE=DURATION:PT1H
X-Robots-Tag:noindex
X-PUBLISHED-TTL:PT1H
BEGIN:VTIMEZONE
TZID:Europe/Berlin
BEGIN:DAYLIGHT
TZOFFSETFROM:+0100
TZOFFSETTO:+0200
TZNAME:CEST
DTSTART:20240331T010000
END:DAYLIGHT
BEGIN:STANDARD
TZOFFSETFROM:+0200
TZOFFSETTO:+0100
TZNAME:CET
DTSTART:20241027T010000
END:STANDARD
BEGIN:DAYLIGHT
TZOFFSETFROM:+0100
TZOFFSETTO:+0200
TZNAME:CEST
DTSTART:20250330T010000
END:DAYLIGHT
BEGIN:STANDARD
TZOFFSETFROM:+0200
TZOFFSETTO:+0100
TZNAME:CET
DTSTART:20251026T010000
END:STANDARD
BEGIN:DAYLIGHT
TZOFFSETFROM:+0100
TZOFFSETTO:+0200
TZNAME:CEST
DTSTART:20260329T010000
END:DAYLIGHT
BEGIN:STANDARD
TZOFFSETFROM:+0200
TZOFFSETTO:+0100
TZNAME:CET
DTSTART:20261025T010000
END:STANDARD
END:VTIMEZONE
BEGIN:VEVENT
DTSTART;TZID=Europe/Berlin:20251120T200000
DTEND;TZID=Europe/Berlin:20251120T220000
DTSTAMP:20260425T171838
CREATED:20251105T160108Z
LAST-MODIFIED:20251105T164505Z
UID:2580-1763668800-1763676000@keinschrittnachrechts.de
SUMMARY:KSNR | Workshop zur Gemeinwohlökonomie
DESCRIPTION:Die Gemeinwohl-Ökonomie (GWÖ) ist ein innovatives\, nachhaltiges Wirtschaftsmodell mit dem Ziel einer ethischen Wirtschaftskultur.\nAls Alternative zum gegenwärtigen Wirtschaftsverständnis baut sie auf den Werten Menschenwürde\, ökologische Verantwortung\, Solidarität\, soziale Gerechtigkeit\, demokratische Mitbestimmung und Transparenz auf.\nUm den Ansatz der Gemeinwohl-Ökonomie erfolgreich auf lokaler Ebene beginnen und Veränderungen bewirken zu können\, braucht es u.a. mehr Kooperation und Partner:innen: Menschen in Organisationen\, Unternehmen und Institutionen\, die sich für das Thema „Faire Regeln“ (gerechte Wirtschaftsordnung) gemeinsam stark machen und ihre Kompetenzen einbringen. \nWorkshop (1\,5 – 2 Std):\nEinführung in die Gemeinwohl-Ökonomie (GWÖ)\nKleingruppen: GWÖ-Wissen vertiefen anhand von Eckpunkten und/oder Good-Practice-Beispielen\nVorstellung des Projekts „Gesellschaft zusammenbringen“\nKleingruppen: Vertiefung mit kleinen Aufgaben\nFrage- und Diskussionsrunde \nDer Workshop ist kostenlos\, Anmeldung erforderlich: joachim.langer@woek.de
URL:https://keinschrittnachrechts.de/event/ksnr-workshop-zur-gemeinwohloekonomie
LOCATION:Rabatz  (Zugang von der John-Zenger-Str.)\, Rheinstr. 4\, Heidelberg\, 69115
CATEGORIES:Kein Schritt nach Rechts
END:VEVENT
END:VCALENDAR