BEGIN:VCALENDAR
VERSION:2.0
PRODID:-//Kein Schritt nach rechts - ECPv6.15.20//NONSGML v1.0//EN
CALSCALE:GREGORIAN
METHOD:PUBLISH
X-ORIGINAL-URL:https://keinschrittnachrechts.de
X-WR-CALDESC:Veranstaltungen für Kein Schritt nach rechts
REFRESH-INTERVAL;VALUE=DURATION:PT1H
X-Robots-Tag:noindex
X-PUBLISHED-TTL:PT1H
BEGIN:VTIMEZONE
TZID:Europe/Berlin
BEGIN:DAYLIGHT
TZOFFSETFROM:+0100
TZOFFSETTO:+0200
TZNAME:CEST
DTSTART:20240331T010000
END:DAYLIGHT
BEGIN:STANDARD
TZOFFSETFROM:+0200
TZOFFSETTO:+0100
TZNAME:CET
DTSTART:20241027T010000
END:STANDARD
BEGIN:DAYLIGHT
TZOFFSETFROM:+0100
TZOFFSETTO:+0200
TZNAME:CEST
DTSTART:20250330T010000
END:DAYLIGHT
BEGIN:STANDARD
TZOFFSETFROM:+0200
TZOFFSETTO:+0100
TZNAME:CET
DTSTART:20251026T010000
END:STANDARD
BEGIN:DAYLIGHT
TZOFFSETFROM:+0100
TZOFFSETTO:+0200
TZNAME:CEST
DTSTART:20260329T010000
END:DAYLIGHT
BEGIN:STANDARD
TZOFFSETFROM:+0200
TZOFFSETTO:+0100
TZNAME:CET
DTSTART:20261025T010000
END:STANDARD
END:VTIMEZONE
BEGIN:VEVENT
DTSTART;TZID=Europe/Berlin:20250214T183000
DTEND;TZID=Europe/Berlin:20250214T203000
DTSTAMP:20260426T051655
CREATED:20250201T100305Z
LAST-MODIFIED:20250201T100756Z
UID:1349-1739557800-1739565000@keinschrittnachrechts.de
SUMMARY:Extern | Fünf Jahre und ein paar Tage…
DESCRIPTION:📚✨ Am 14. Februar 2025 im Karlstorbahnhof Heidelberg:\nUnter dem Titel „Fünf Jahre und ein paar Tage…“ laden wir [Mosaik Deutschland] zu einer Lesung der Autoren Çetin Gültekin und Mutlu Koçak aus ihrem Buch: „Geboren\, aufgewachsen und ermordet in Deutschland: Das zu kurze Leben meines Bruders Gökhan Gültekin und der Anschlag von Hanau“ und ein anschließendes Gespräch ein. Gemeinsam wollen wir der Opfer von Hanau\, Halle und anderer rassistischer\, antisemitischer\, antiziganistischer und rechtsextremer Gewaltverbrechen der letzten Jahrzehnte in Deutschland gedenken und ein klares Zeichen der Solidarität setzen. \nDie Veranstaltung wird eröffnet von Stefanie Jansen\, Bürgermeisterin für Soziales\, Bildung\, Familie und Chancengleichheit der Stadt Heidelberg\, und moderiert von Evein Obulor\, Geschäftsführerin der Europäischen Städtekoalition gegen Rassismus beim Amt für Chancengleichheit. \n🤝 Diese Veranstaltung ist eine Kooperation zwischen der Muslimischen Akademie Heidelberg\, dem Dokumentations- und Kulturzentrum Deutscher Sinti und Roma\, dem Migration Hub Heidelberg\, dem Bündnis Erinnern.Verändern\, Mosaik Deutschland e.V.\, dem Theater und Orchester Heidelberg\, dem zwinger x\, dem Karlstorbahnhof\, dem Migrationsbeirat der Stadt Heidelberg\, dem Interkulturellen Zentrum\, sowie dem Amt für Chancengleichheit der Stadt Heidelberg. Die Veranstaltung wird vom Bundesprogramm „Demokratie Leben!“ gefördert. \n🕒 Wann? Einlass 18:00 Uhr\, Beginn 18:30 Uhr\n📍 Wo? Karlstorbahnhof Heidelberg\, Marlene-Dietrich-Platz 3\n🎟 Kostenlos & ohne Anmeldung\nGemeinsam gegen Rassismus – lasst uns erinnern\, handeln und verändern! ✊
URL:https://keinschrittnachrechts.de/event/extern-fuenf-jahre-und-ein-paar-tage-2
LOCATION:Karlstorbahnhof (Südstadt)\, Marlene-Dietrich-Platz 3\, Heidelberg\, Germany
CATEGORIES:Externe Veranstaltungen
END:VEVENT
BEGIN:VEVENT
DTSTART;TZID=Europe/Berlin:20250215T100000
DTEND;TZID=Europe/Berlin:20250215T130000
DTSTAMP:20260426T051655
CREATED:20250114T183528Z
LAST-MODIFIED:20250114T183528Z
UID:1154-1739613600-1739624400@keinschrittnachrechts.de
SUMMARY:Extern | Aufstehen gegen Rassismus: Workshop Stammtischkämpfer werden
DESCRIPTION:„Werde Stammtischkämpfer*in!\nSchnell und gezielt auf rechte und rassistische Parolen reagieren! \nDie Teilnehmendenzahl ist begrenzt.\nDie Teilnahme ist kostenfrei. \nUnsere Workshops sind nicht explizit auf die Bedürfnisse von von Rassismus betroffenen Personen ausgerichtet und damit keine Empowerment-Workshops. Alle sind willkommen und wir versuchen einen möglichst sicheren Raum für alle Teilnehmenden zu schaffen. \nAdresse:\nKarlstorbahnhof\nMarlene-Dietrich-Platz 3\n69126 Heidelberg \nAnmeldungen: seminar.stammtischparolen@gmail.com  \n_________________________________________________ \nWir alle kennen das: Auf der Arbeit\, im Sportverein\, in der Familie oder auf der Straße fallen Sprüche\, die uns die Sprache verschlagen. Später ärgern wir uns\, hätten gerne den Mund aufgemacht. Hier setzt dieser Workshop an. Er soll Menschen in die Lage versetzen\, die Schrecksekunde zu überwinden\, Position zu beziehen und deutlich zu machen: Das nehmen wir nicht länger hin! In Theorie und Praxis werden gängige rechte Positionen untersucht und es wird geübt\, das Wort zu ergreifen und für solidarische Alternativen zu streiten statt für Ausgrenzung und Rassismus.“ \n  \nDer Link zur Veranstaltung: (Externer Link):\nhttps://www.aufstehen-gegen-rassismus.de/stk-termine/heidelberg-karlstorbahnhof/ \nAuf der Webseite des Veranstalters kann man auch Broschüren und andere Materialien zum Thema bestellen oder herunterladen. (z.B. Argumentieren gegen rechte Parolen (externer Link) )
URL:https://keinschrittnachrechts.de/event/extern-aufstehen-gegen-rassismus-workshop-stammtischkaempfer-werden
LOCATION:Karlstorbahnhof (Südstadt)\, Marlene-Dietrich-Platz 3\, Heidelberg\, Germany
CATEGORIES:Externe Veranstaltungen
END:VEVENT
END:VCALENDAR