BEGIN:VCALENDAR
VERSION:2.0
PRODID:-//Kein Schritt nach rechts - ECPv6.15.20//NONSGML v1.0//EN
CALSCALE:GREGORIAN
METHOD:PUBLISH
X-ORIGINAL-URL:https://keinschrittnachrechts.de
X-WR-CALDESC:Veranstaltungen für Kein Schritt nach rechts
REFRESH-INTERVAL;VALUE=DURATION:PT1H
X-Robots-Tag:noindex
X-PUBLISHED-TTL:PT1H
BEGIN:VTIMEZONE
TZID:Europe/Berlin
BEGIN:DAYLIGHT
TZOFFSETFROM:+0100
TZOFFSETTO:+0200
TZNAME:CEST
DTSTART:20240331T010000
END:DAYLIGHT
BEGIN:STANDARD
TZOFFSETFROM:+0200
TZOFFSETTO:+0100
TZNAME:CET
DTSTART:20241027T010000
END:STANDARD
BEGIN:DAYLIGHT
TZOFFSETFROM:+0100
TZOFFSETTO:+0200
TZNAME:CEST
DTSTART:20250330T010000
END:DAYLIGHT
BEGIN:STANDARD
TZOFFSETFROM:+0200
TZOFFSETTO:+0100
TZNAME:CET
DTSTART:20251026T010000
END:STANDARD
BEGIN:DAYLIGHT
TZOFFSETFROM:+0100
TZOFFSETTO:+0200
TZNAME:CEST
DTSTART:20260329T010000
END:DAYLIGHT
BEGIN:STANDARD
TZOFFSETFROM:+0200
TZOFFSETTO:+0100
TZNAME:CET
DTSTART:20261025T010000
END:STANDARD
END:VTIMEZONE
BEGIN:VEVENT
DTSTART;VALUE=DATE:20251010
DTEND;VALUE=DATE:20251028
DTSTAMP:20260425T123418
CREATED:20250924T163514Z
LAST-MODIFIED:20251004T191530Z
UID:2375-1760054400-1761609599@keinschrittnachrechts.de
SUMMARY:Extern | Aktionswoche 2025 des Heidelberger Bündnisses gegen Armut und Ausgrenzung
DESCRIPTION:„ALARM – Jetzt REICHt’s: Mut zur Solidarität„\n\nVom 10. bis 27. Oktober findet die Aktionswoche des Heidelberger Bündnisses gegen Armut und Ausgrenzung statt.\nEs gibt ein sehr vielfältiges und reichhaltiges Programm!\n– Mit einer Demo „Demonstration: Alarm! – Gegen die neue soziale Härte! „am 10.10.\, 15 – 16 Uhr Bismarckplatz – Anatomiegarten\n– Treffpunkten\n– Politischen Veranstaltungen\n– Lesungen\n– Möglichkeiten\, aktiv zu werden\n– Filme\, teils mit Filmgespräch\n– Beratungsmöglichkeiten\n– Ausstellungen \nDie Veranstaltungen finden an vielen Stellen in der Stadt statt. \nWeitere Infos und insbesondere das vollständige Programm unter: (Externer Link)\nhttps://www.das-heidelberger-buendnis.de/aktionswoche-2025
URL:https://keinschrittnachrechts.de/event/extern-aktionswoche-2025-des-heidelberger-buendnisses-gegen-armut-und-ausgrenzung
CATEGORIES:Externe Veranstaltungen
END:VEVENT
END:VCALENDAR