BEGIN:VCALENDAR
VERSION:2.0
PRODID:-//Kein Schritt nach rechts - ECPv6.15.20//NONSGML v1.0//EN
CALSCALE:GREGORIAN
METHOD:PUBLISH
X-WR-CALNAME:Kein Schritt nach rechts
X-ORIGINAL-URL:https://keinschrittnachrechts.de
X-WR-CALDESC:Veranstaltungen für Kein Schritt nach rechts
REFRESH-INTERVAL;VALUE=DURATION:PT1H
X-Robots-Tag:noindex
X-PUBLISHED-TTL:PT1H
BEGIN:VTIMEZONE
TZID:Europe/Berlin
BEGIN:DAYLIGHT
TZOFFSETFROM:+0100
TZOFFSETTO:+0200
TZNAME:CEST
DTSTART:20250330T010000
END:DAYLIGHT
BEGIN:STANDARD
TZOFFSETFROM:+0200
TZOFFSETTO:+0100
TZNAME:CET
DTSTART:20251026T010000
END:STANDARD
BEGIN:DAYLIGHT
TZOFFSETFROM:+0100
TZOFFSETTO:+0200
TZNAME:CEST
DTSTART:20260329T010000
END:DAYLIGHT
BEGIN:STANDARD
TZOFFSETFROM:+0200
TZOFFSETTO:+0100
TZNAME:CET
DTSTART:20261025T010000
END:STANDARD
BEGIN:DAYLIGHT
TZOFFSETFROM:+0100
TZOFFSETTO:+0200
TZNAME:CEST
DTSTART:20270328T010000
END:DAYLIGHT
BEGIN:STANDARD
TZOFFSETFROM:+0200
TZOFFSETTO:+0100
TZNAME:CET
DTSTART:20271031T010000
END:STANDARD
END:VTIMEZONE
BEGIN:VEVENT
DTSTART;TZID=Europe/Berlin:20260312T190000
DTEND;TZID=Europe/Berlin:20260312T220000
DTSTAMP:20260425T021446
CREATED:20260212T173945Z
LAST-MODIFIED:20260212T173945Z
UID:2943-1773342000-1773352800@keinschrittnachrechts.de
SUMMARY:KSNR | Planungstreffen Gesamtbündnis
DESCRIPTION:Liebe Engagierte\, liebe Bündnispartner:innen\, liebe Interessierte\, herzliche Einladung zu unserem offenen Gesamtplanungstreffen \n👉 Donnerstag\, 12. März 2026 ab 19 Uhr (Ort auf Nachfrage\, barrierearm zugänglich)\nWas ist das Offene Planungstreffen?\nDas Planungstreffen findet i.d.R. einmal im Monat statt und ist in unserem Bündnis der Ort des Austauschs zwischen den Arbeitskreisen (AKs).\nEs ist der Ort an dem wir gemeinsam Leerstellen aufdecken\, Lösungen diskutieren und über die grundsätzlichen Bündnisstrukturen entscheiden. \nWir sind bereits aktivistisch ins neue Jahr gestartet und es steht einiges an. Komm(t) dazu\, bring Dich ein! ✊\nWir freuen uns auf Dich – egal wie kurz oder lange du schon dabei bist oder neu dazu stoßen möchtest. 🧡 \nBei Fragen schreibe gerne an: info@keinschrittnachrechts.de
URL:https://keinschrittnachrechts.de/event/ksnr-planungstreffen-gesamtbuendnis-10
CATEGORIES:Kein Schritt nach Rechts
END:VEVENT
END:VCALENDAR