BEGIN:VCALENDAR
VERSION:2.0
PRODID:-//Kein Schritt nach rechts - ECPv6.15.20//NONSGML v1.0//EN
CALSCALE:GREGORIAN
METHOD:PUBLISH
X-ORIGINAL-URL:https://keinschrittnachrechts.de
X-WR-CALDESC:Veranstaltungen für Kein Schritt nach rechts
REFRESH-INTERVAL;VALUE=DURATION:PT1H
X-Robots-Tag:noindex
X-PUBLISHED-TTL:PT1H
BEGIN:VTIMEZONE
TZID:Europe/Berlin
BEGIN:DAYLIGHT
TZOFFSETFROM:+0100
TZOFFSETTO:+0200
TZNAME:CEST
DTSTART:20230326T010000
END:DAYLIGHT
BEGIN:STANDARD
TZOFFSETFROM:+0200
TZOFFSETTO:+0100
TZNAME:CET
DTSTART:20231029T010000
END:STANDARD
BEGIN:DAYLIGHT
TZOFFSETFROM:+0100
TZOFFSETTO:+0200
TZNAME:CEST
DTSTART:20240331T010000
END:DAYLIGHT
BEGIN:STANDARD
TZOFFSETFROM:+0200
TZOFFSETTO:+0100
TZNAME:CET
DTSTART:20241027T010000
END:STANDARD
BEGIN:DAYLIGHT
TZOFFSETFROM:+0100
TZOFFSETTO:+0200
TZNAME:CEST
DTSTART:20250330T010000
END:DAYLIGHT
BEGIN:STANDARD
TZOFFSETFROM:+0200
TZOFFSETTO:+0100
TZNAME:CET
DTSTART:20251026T010000
END:STANDARD
END:VTIMEZONE
BEGIN:VEVENT
DTSTART;TZID=Europe/Berlin:20241215T140000
DTEND;TZID=Europe/Berlin:20241215T140000
DTSTAMP:20260426T034557
CREATED:20241115T190910Z
LAST-MODIFIED:20241115T192058Z
UID:681-1734271200-1734271200@keinschrittnachrechts.de
SUMMARY:KSNR | Veranstaltung: Planungstreffen Gesamtbündnis
DESCRIPTION:Am Sonntag\, den 15. Dezember um 14.00 Uhr findet unser monatliches Planungstreffen des Gesamtbündnisses statt.\nFür weitere Infos und falls Du Lust hast\, zum Planungstreffen dazuzukommen\, schreibe gerne an: info@keinschrittnachrechts.de \n 
URL:https://keinschrittnachrechts.de/event/ksnr-veranstaltung-treffen-des-ak-bildung
CATEGORIES:Kein Schritt nach Rechts
END:VEVENT
END:VCALENDAR